BEGIN:VCALENDAR
VERSION:2.0
PRODID:-//Northern Virginia Radio Control - NVRC - ECPv6.15.20//NONSGML v1.0//EN
CALSCALE:GREGORIAN
METHOD:PUBLISH
X-WR-CALNAME:Northern Virginia Radio Control - NVRC
X-ORIGINAL-URL:https://www.1nvrc.com
X-WR-CALDESC:Events for Northern Virginia Radio Control - NVRC
REFRESH-INTERVAL;VALUE=DURATION:PT1H
X-Robots-Tag:noindex
X-PUBLISHED-TTL:PT1H
BEGIN:VTIMEZONE
TZID:America/New_York
BEGIN:DAYLIGHT
TZOFFSETFROM:-0500
TZOFFSETTO:-0400
TZNAME:EDT
DTSTART:20250309T070000
END:DAYLIGHT
BEGIN:STANDARD
TZOFFSETFROM:-0400
TZOFFSETTO:-0500
TZNAME:EST
DTSTART:20251102T060000
END:STANDARD
BEGIN:DAYLIGHT
TZOFFSETFROM:-0500
TZOFFSETTO:-0400
TZNAME:EDT
DTSTART:20260308T070000
END:DAYLIGHT
BEGIN:STANDARD
TZOFFSETFROM:-0400
TZOFFSETTO:-0500
TZNAME:EST
DTSTART:20261101T060000
END:STANDARD
BEGIN:DAYLIGHT
TZOFFSETFROM:-0500
TZOFFSETTO:-0400
TZNAME:EDT
DTSTART:20270314T070000
END:DAYLIGHT
BEGIN:STANDARD
TZOFFSETFROM:-0400
TZOFFSETTO:-0500
TZNAME:EST
DTSTART:20271107T060000
END:STANDARD
END:VTIMEZONE
BEGIN:VEVENT
DTSTART;TZID=America/New_York:20260620T090000
DTEND;TZID=America/New_York:20260620T120000
DTSTAMP:20260423T164834
CREATED:20260222T020905Z
LAST-MODIFIED:20260222T020905Z
UID:10000937-1781946000-1781956800@www.1nvrc.com
SUMMARY:Polar Ford Open House Picnic
DESCRIPTION:CD – Jorge Jimenez
URL:https://www.1nvrc.com/event/polar-ford-open-house-picnic-2/
LOCATION:Poplar Ford Park\, 6714 Bull Run Post Office Road\, Centerville\, VA\, 20120\, United States
CATEGORIES:Flying Events,Outdoor Fun Fly
END:VEVENT
BEGIN:VEVENT
DTSTART;TZID=America/New_York:20260627T090000
DTEND;TZID=America/New_York:20260627T150000
DTSTAMP:20260423T164834
CREATED:20260415T152844Z
LAST-MODIFIED:20260415T152844Z
UID:10000957-1782550800-1782572400@www.1nvrc.com
SUMMARY:Radio Controlled Air Show "Airplanes of the World"
DESCRIPTION:WWW.FlyFreeState.com
URL:https://www.1nvrc.com/event/radio-controlled-air-show-airplanes-of-the-world/
LOCATION:Free State Aeromodelers\, 6050 Van Dusen Road\, Laurel\, MD\, United States
CATEGORIES:Flying Events,Outdoor Fun Fly
END:VEVENT
END:VCALENDAR