BEGIN:VCALENDAR
VERSION:2.0
PRODID:-//Northern Virginia Radio Control - NVRC - ECPv6.15.20//NONSGML v1.0//EN
CALSCALE:GREGORIAN
METHOD:PUBLISH
X-ORIGINAL-URL:https://www.1nvrc.com
X-WR-CALDESC:Events for Northern Virginia Radio Control - NVRC
REFRESH-INTERVAL;VALUE=DURATION:PT1H
X-Robots-Tag:noindex
X-PUBLISHED-TTL:PT1H
BEGIN:VTIMEZONE
TZID:America/New_York
BEGIN:DAYLIGHT
TZOFFSETFROM:-0500
TZOFFSETTO:-0400
TZNAME:EDT
DTSTART:20230312T070000
END:DAYLIGHT
BEGIN:STANDARD
TZOFFSETFROM:-0400
TZOFFSETTO:-0500
TZNAME:EST
DTSTART:20231105T060000
END:STANDARD
BEGIN:DAYLIGHT
TZOFFSETFROM:-0500
TZOFFSETTO:-0400
TZNAME:EDT
DTSTART:20240310T070000
END:DAYLIGHT
BEGIN:STANDARD
TZOFFSETFROM:-0400
TZOFFSETTO:-0500
TZNAME:EST
DTSTART:20241103T060000
END:STANDARD
BEGIN:DAYLIGHT
TZOFFSETFROM:-0500
TZOFFSETTO:-0400
TZNAME:EDT
DTSTART:20250309T070000
END:DAYLIGHT
BEGIN:STANDARD
TZOFFSETFROM:-0400
TZOFFSETTO:-0500
TZNAME:EST
DTSTART:20251102T060000
END:STANDARD
END:VTIMEZONE
BEGIN:VEVENT
DTSTART;TZID=America/New_York:20240919T190000
DTEND;TZID=America/New_York:20240919T220000
DTSTAMP:20260424T190428
CREATED:20240419T154527Z
LAST-MODIFIED:20240419T155224Z
UID:10000764-1726772400-1726783200@www.1nvrc.com
SUMMARY:MONTHLY CLUB MEETING SPRING and SUMMER
DESCRIPTION:Our Spring/ Summer Monthly club meeting series will take place at Poplar Ford Quinn Field the 3rd Thursday of the month. Meetings will start at 7:00 PM and includes Night Flying. Please review the below link for Night Flight Operations and Safety requirements from the AMA. The gate will be locked at 10:00 PM so fight operations will end around 9:30 PM.\nAMA Link https://youtu.be/ccjiL97Kon0 \nAt the meetings we will talk about our events calendar\, club objectives\, and enjoy some great member or guest presentations. So come out to the meetings and enjoy some RC fun with other club members.
URL:https://www.1nvrc.com/event/https-docs-google-com-document-d-1y0sapwhyts-v2c-s1wzbnn_j0kznoivg-edituspsharingouid115595548493690403727rtpoftruesdtrue/2024-09-19/
LOCATION:VA
CATEGORIES:Static Events
ATTACH;FMTTYPE=image/jpeg:https://www.1nvrc.com/wp-content/uploads/2020/11/NVRC-Logo-521x498-1.jpg
END:VEVENT
END:VCALENDAR