BEGIN:VCALENDAR
VERSION:2.0
PRODID:-//Northern Virginia Radio Control - NVRC - ECPv6.15.20//NONSGML v1.0//EN
CALSCALE:GREGORIAN
METHOD:PUBLISH
X-WR-CALNAME:Northern Virginia Radio Control - NVRC
X-ORIGINAL-URL:https://www.1nvrc.com
X-WR-CALDESC:Events for Northern Virginia Radio Control - NVRC
REFRESH-INTERVAL;VALUE=DURATION:PT1H
X-Robots-Tag:noindex
X-PUBLISHED-TTL:PT1H
BEGIN:VTIMEZONE
TZID:America/New_York
BEGIN:DAYLIGHT
TZOFFSETFROM:-0500
TZOFFSETTO:-0400
TZNAME:EDT
DTSTART:20240310T070000
END:DAYLIGHT
BEGIN:STANDARD
TZOFFSETFROM:-0400
TZOFFSETTO:-0500
TZNAME:EST
DTSTART:20241103T060000
END:STANDARD
BEGIN:DAYLIGHT
TZOFFSETFROM:-0500
TZOFFSETTO:-0400
TZNAME:EDT
DTSTART:20250309T070000
END:DAYLIGHT
BEGIN:STANDARD
TZOFFSETFROM:-0400
TZOFFSETTO:-0500
TZNAME:EST
DTSTART:20251102T060000
END:STANDARD
BEGIN:DAYLIGHT
TZOFFSETFROM:-0500
TZOFFSETTO:-0400
TZNAME:EDT
DTSTART:20260308T070000
END:DAYLIGHT
BEGIN:STANDARD
TZOFFSETFROM:-0400
TZOFFSETTO:-0500
TZNAME:EST
DTSTART:20261101T060000
END:STANDARD
BEGIN:DAYLIGHT
TZOFFSETFROM:-0500
TZOFFSETTO:-0400
TZNAME:EDT
DTSTART:20270314T070000
END:DAYLIGHT
BEGIN:STANDARD
TZOFFSETFROM:-0400
TZOFFSETTO:-0500
TZNAME:EST
DTSTART:20271107T060000
END:STANDARD
END:VTIMEZONE
BEGIN:VEVENT
DTSTART;TZID=America/New_York:20260416T193000
DTEND;TZID=America/New_York:20260416T210000
DTSTAMP:20260423T131401
CREATED:20260222T020307Z
LAST-MODIFIED:20260222T022835Z
UID:10000934-1776367800-1776373200@www.1nvrc.com
SUMMARY:Bring your Favorite Aircraft/Prize
DESCRIPTION:CD- -Carl Hampton\nThis is during the April Club Meeting\, if you attend you get one ticket\, if you bring something\, you get 3 tickets
URL:https://www.1nvrc.com/event/bring-your-favorite-aircraft-prize/
LOCATION:City of Fairfax Fire Station 3\, 4081 University Drive\, Fairfax\, VA\, 22030\, United States
CATEGORIES:Static Events
END:VEVENT
BEGIN:VEVENT
DTSTART;TZID=America/New_York:20260416T193000
DTEND;TZID=America/New_York:20260416T210000
DTSTAMP:20260423T131401
CREATED:20260222T005818Z
LAST-MODIFIED:20260222T011702Z
UID:10000833-1776367800-1776373200@www.1nvrc.com
SUMMARY:MONTHLY CLUB MEETING
DESCRIPTION:We are back to in-person meetings at Fairfax Fire Station #3 for 2025 (please wear a mask if you are at risk for COVID\, and please stay home if you feel sick in any way). \nBe safe! \nClub Meetings
URL:https://www.1nvrc.com/event/monthly-club-meetings-2/2026-04-16/
LOCATION:City of Fairfax Fire Station 3\, 4081 University Drive\, Fairfax\, VA\, 22030\, United States
END:VEVENT
BEGIN:VEVENT
DTSTART;TZID=America/New_York:20260412T090000
DTEND;TZID=America/New_York:20260412T170000
DTSTAMP:20260423T131401
CREATED:20260321T232343Z
LAST-MODIFIED:20260321T232343Z
UID:10000587-1775984400-1776013200@www.1nvrc.com
SUMMARY:FPV Field Day
DESCRIPTION:In our new FPV format\, we are going to dedicate the second Sunday of each month as an FPV Field Day at Poplar Ford Field. Fixed wing line of sight RC activities are still permitted\, but need to give way for FPV fixed wing or multi-rotor activities which can include setting up race gates on the runway. \nOn these FPV Field Days\, all NVRC members wishing to fly fixed wing line of sight are welcome to use the Lorton Field – even if you do not have the normal Lorton membership tag on your badge.
URL:https://www.1nvrc.com/event/fpv-field-day-2-2-2/2026-04-12/
LOCATION:Poplar Ford Park\, 6714 Bull Run Post Office Road\, Centerville\, VA\, 20120\, United States
CATEGORIES:Flying Events,Multi-rotor Racing
ATTACH;FMTTYPE=image/jpeg:https://www.1nvrc.com/wp-content/uploads/2018/01/FCPA-DronePark.jpg
END:VEVENT
BEGIN:VEVENT
DTSTART;TZID=America/New_York:20260328T080000
DTEND;TZID=America/New_York:20260328T170000
DTSTAMP:20260423T131401
CREATED:20260222T014742Z
LAST-MODIFIED:20260222T014742Z
UID:10000932-1774684800-1774717200@www.1nvrc.com
SUMMARY:Indoor Fly-in rec center
DESCRIPTION:Rec Center
URL:https://www.1nvrc.com/event/indoor-fly-in-rec-center/
LOCATION:MD
END:VEVENT
BEGIN:VEVENT
DTSTART;TZID=America/New_York:20260319T193000
DTEND;TZID=America/New_York:20260319T210000
DTSTAMP:20260423T131401
CREATED:20260222T005818Z
LAST-MODIFIED:20260222T011702Z
UID:10000832-1773948600-1773954000@www.1nvrc.com
SUMMARY:MONTHLY CLUB MEETING
DESCRIPTION:We are back to in-person meetings at Fairfax Fire Station #3 for 2025 (please wear a mask if you are at risk for COVID\, and please stay home if you feel sick in any way). \nBe safe! \nClub Meetings
URL:https://www.1nvrc.com/event/monthly-club-meetings-2/2026-03-19/
LOCATION:City of Fairfax Fire Station 3\, 4081 University Drive\, Fairfax\, VA\, 22030\, United States
END:VEVENT
BEGIN:VEVENT
DTSTART;TZID=America/New_York:20260315T080000
DTEND;TZID=America/New_York:20260315T120000
DTSTAMP:20260423T131401
CREATED:20260222T013851Z
LAST-MODIFIED:20260222T014346Z
UID:10000931-1773561600-1773576000@www.1nvrc.com
SUMMARY:T-28 Carrier Landing
DESCRIPTION:CD – Gordon
URL:https://www.1nvrc.com/event/t-28-carrier-landing/
LOCATION:Lorton/Burnett Field\, 9800 Furnace Road\, Lorton\, VA\, 22079\, United States
CATEGORIES:Flying Events
ATTACH;FMTTYPE=image/jpeg:https://www.1nvrc.com/wp-content/uploads/2026/02/Carrier-landing.jpg
END:VEVENT
BEGIN:VEVENT
DTSTART;TZID=America/New_York:20260308T090000
DTEND;TZID=America/New_York:20260308T170000
DTSTAMP:20260423T131401
CREATED:20250420T040137Z
LAST-MODIFIED:20250420T040809Z
UID:10000586-1772960400-1772989200@www.1nvrc.com
SUMMARY:FPV Field Day
DESCRIPTION:In our new FPV format\, we are going to dedicate the second Sunday of each month as an FPV Field Day at Poplar Ford Field. Fixed wing line of sight RC activities are still permitted\, but need to give way for FPV fixed wing or multi-rotor activities which can include setting up race gates on the runway. \nOn these FPV Field Days\, all NVRC members wishing to fly fixed wing line of sight are welcome to use the Lorton Field – even if you do not have the normal Lorton membership tag on your badge.
URL:https://www.1nvrc.com/event/fpv-field-day-2-2/2026-03-08/
LOCATION:Poplar Ford Park\, 6714 Bull Run Post Office Road\, Centerville\, VA\, 20120\, United States
CATEGORIES:Flying Events,Multi-rotor Racing
ATTACH;FMTTYPE=image/jpeg:https://www.1nvrc.com/wp-content/uploads/2018/01/FCPA-DronePark.jpg
END:VEVENT
BEGIN:VEVENT
DTSTART;TZID=America/New_York:20260222T140000
DTEND;TZID=America/New_York:20260222T180000
DTSTAMP:20260423T131401
CREATED:20260222T015307Z
LAST-MODIFIED:20260222T015852Z
UID:10000933-1771768800-1771783200@www.1nvrc.com
SUMMARY:Westfield High School’s Indoor Fun Fly
DESCRIPTION:Hello RC enthusiasts\, aviation fans\, and curious newcomers! \nWe’re thrilled to announce that indoor flying is back at Westfield High School! Thanks to the hard work of your NVRC club leadership\, we’ve secured the Westfield gymnasium for a special event this weekend. Let’s make this a memorable gathering and keep the tradition alive. \nEvent: Westfield High School Fun Fly\nDate: Sunday\, February 22\nTime: 2:00 – 6:00 PM\nLocation: Westfield High School – Main Gym\nAddress: 4700 Stonecroft Blvd\, Chantilly\, VA 20151 \nWhat’s Happening?\nOpen Flying: Bring your small RC\, tiny whoops\, and Free Flight models. Just $5 for pilots!\nSpectators Welcome: Admission is free for spectators (donations appreciated).\nWhy Attend?\nExperience the thrill of RC and Free Flight models soaring indoors.\nConnect with fellow hobbyists and aviation lovers.\nSupport a great cause—proceeds benefit the school’s STEM program.\nSo\, charge your batteries\, dust off your models\, and spread the word! Let’s make this an unforgettable event for everyone. \nQuestions? Reach out to us—we’re happy to help. \nSee you in the gym on February 22!
URL:https://www.1nvrc.com/event/westfield-high-schools-indoor-fun-fly/
LOCATION:Westfield High School\, 4700 Stonecroft Blvd\, Chantilly\, VA\, 20151\, United States
CATEGORIES:Indoor Fun Fly
END:VEVENT
BEGIN:VEVENT
DTSTART;TZID=America/New_York:20260219T193000
DTEND;TZID=America/New_York:20260219T210000
DTSTAMP:20260423T131401
CREATED:20260222T004031Z
LAST-MODIFIED:20260222T004919Z
UID:10000831-1771529400-1771534800@www.1nvrc.com
SUMMARY:MONTHLY CLUB MEETING
DESCRIPTION:We are back to in-person meetings at Fairfax Fire Station #3 for 2025 (please wear a mask if you are at risk for COVID\, and please stay home if you feel sick in any way). \nBe safe! \nClub Meetings
URL:https://www.1nvrc.com/event/monthly-club-meetings/2026-02-19/2/
LOCATION:City of Fairfax Fire Station 3\, 4081 University Drive\, Fairfax\, VA\, 22030\, United States
END:VEVENT
BEGIN:VEVENT
DTSTART;TZID=America/New_York:20260219T080000
DTEND;TZID=America/New_York:20260219T170000
DTSTAMP:20260423T131401
CREATED:20260222T004031Z
LAST-MODIFIED:20260222T004919Z
UID:10000904-1771488000-1771520400@www.1nvrc.com
SUMMARY:MONTHLY CLUB MEETING
DESCRIPTION:We are back to in-person meetings at Fairfax Fire Station #3 for 2025 (please wear a mask if you are at risk for COVID\, and please stay home if you feel sick in any way). \nBe safe! \nClub Meetings
URL:https://www.1nvrc.com/event/monthly-club-meetings/2026-02-19/1/
LOCATION:City of Fairfax Fire Station 3\, 4081 University Drive\, Fairfax\, VA\, 22030\, United States
END:VEVENT
BEGIN:VEVENT
DTSTART;TZID=America/New_York:20260208T090000
DTEND;TZID=America/New_York:20260208T170000
DTSTAMP:20260423T131401
CREATED:20250420T040137Z
LAST-MODIFIED:20250420T040809Z
UID:10000585-1770541200-1770570000@www.1nvrc.com
SUMMARY:FPV Field Day
DESCRIPTION:In our new FPV format\, we are going to dedicate the second Sunday of each month as an FPV Field Day at Poplar Ford Field. Fixed wing line of sight RC activities are still permitted\, but need to give way for FPV fixed wing or multi-rotor activities which can include setting up race gates on the runway. \nOn these FPV Field Days\, all NVRC members wishing to fly fixed wing line of sight are welcome to use the Lorton Field – even if you do not have the normal Lorton membership tag on your badge.
URL:https://www.1nvrc.com/event/fpv-field-day-2-2/2026-02-08/
LOCATION:Poplar Ford Park\, 6714 Bull Run Post Office Road\, Centerville\, VA\, 20120\, United States
CATEGORIES:Flying Events,Multi-rotor Racing
ATTACH;FMTTYPE=image/jpeg:https://www.1nvrc.com/wp-content/uploads/2018/01/FCPA-DronePark.jpg
END:VEVENT
BEGIN:VEVENT
DTSTART;TZID=America/New_York:20260111T090000
DTEND;TZID=America/New_York:20260111T170000
DTSTAMP:20260423T131401
CREATED:20250420T040137Z
LAST-MODIFIED:20250420T040809Z
UID:10000584-1768122000-1768150800@www.1nvrc.com
SUMMARY:FPV Field Day
DESCRIPTION:In our new FPV format\, we are going to dedicate the second Sunday of each month as an FPV Field Day at Poplar Ford Field. Fixed wing line of sight RC activities are still permitted\, but need to give way for FPV fixed wing or multi-rotor activities which can include setting up race gates on the runway. \nOn these FPV Field Days\, all NVRC members wishing to fly fixed wing line of sight are welcome to use the Lorton Field – even if you do not have the normal Lorton membership tag on your badge.
URL:https://www.1nvrc.com/event/fpv-field-day-2-2/2026-01-11/
LOCATION:Poplar Ford Park\, 6714 Bull Run Post Office Road\, Centerville\, VA\, 20120\, United States
CATEGORIES:Flying Events,Multi-rotor Racing
ATTACH;FMTTYPE=image/jpeg:https://www.1nvrc.com/wp-content/uploads/2018/01/FCPA-DronePark.jpg
END:VEVENT
BEGIN:VEVENT
DTSTART;TZID=America/New_York:20251214T090000
DTEND;TZID=America/New_York:20251214T170000
DTSTAMP:20260423T131401
CREATED:20250420T040137Z
LAST-MODIFIED:20250420T040809Z
UID:10000583-1765702800-1765731600@www.1nvrc.com
SUMMARY:FPV Field Day
DESCRIPTION:In our new FPV format\, we are going to dedicate the second Sunday of each month as an FPV Field Day at Poplar Ford Field. Fixed wing line of sight RC activities are still permitted\, but need to give way for FPV fixed wing or multi-rotor activities which can include setting up race gates on the runway. \nOn these FPV Field Days\, all NVRC members wishing to fly fixed wing line of sight are welcome to use the Lorton Field – even if you do not have the normal Lorton membership tag on your badge.
URL:https://www.1nvrc.com/event/fpv-field-day-2-2/2025-12-14/
LOCATION:Poplar Ford Park\, 6714 Bull Run Post Office Road\, Centerville\, VA\, 20120\, United States
CATEGORIES:Flying Events,Multi-rotor Racing
ATTACH;FMTTYPE=image/jpeg:https://www.1nvrc.com/wp-content/uploads/2018/01/FCPA-DronePark.jpg
END:VEVENT
BEGIN:VEVENT
DTSTART;TZID=America/New_York:20251213T170000
DTEND;TZID=America/New_York:20251213T220000
DTSTAMP:20260423T131401
CREATED:20250204T215526Z
LAST-MODIFIED:20250204T215526Z
UID:10000797-1765645200-1765663200@www.1nvrc.com
SUMMARY:Holiday Party
DESCRIPTION:CD = Paul Lukas
URL:https://www.1nvrc.com/event/holiday-party/
LOCATION:Truo Clubhouse\, 4146 Elizabeth Lane\, Annandale\, 22003
END:VEVENT
BEGIN:VEVENT
DTSTART;TZID=America/New_York:20251109T090000
DTEND;TZID=America/New_York:20251109T170000
DTSTAMP:20260423T131401
CREATED:20250420T040137Z
LAST-MODIFIED:20250420T040809Z
UID:10000582-1762678800-1762707600@www.1nvrc.com
SUMMARY:FPV Field Day
DESCRIPTION:In our new FPV format\, we are going to dedicate the second Sunday of each month as an FPV Field Day at Poplar Ford Field. Fixed wing line of sight RC activities are still permitted\, but need to give way for FPV fixed wing or multi-rotor activities which can include setting up race gates on the runway. \nOn these FPV Field Days\, all NVRC members wishing to fly fixed wing line of sight are welcome to use the Lorton Field – even if you do not have the normal Lorton membership tag on your badge.
URL:https://www.1nvrc.com/event/fpv-field-day-2-2/2025-11-09/
LOCATION:Poplar Ford Park\, 6714 Bull Run Post Office Road\, Centerville\, VA\, 20120\, United States
CATEGORIES:Flying Events,Multi-rotor Racing
ATTACH;FMTTYPE=image/jpeg:https://www.1nvrc.com/wp-content/uploads/2018/01/FCPA-DronePark.jpg
END:VEVENT
BEGIN:VEVENT
DTSTART;TZID=America/New_York:20251018T080000
DTEND;TZID=America/New_York:20251018T170000
DTSTAMP:20260423T131401
CREATED:20250204T215242Z
LAST-MODIFIED:20251017T015714Z
UID:10000796-1760774400-1760806800@www.1nvrc.com
SUMMARY:Fall Chicken Fun Fly & Silent Auction Swap Meet
DESCRIPTION:CD = Ken Bassett and Chris Bunker
URL:https://www.1nvrc.com/event/fall-chicken-fun-fly-silent-auction-swap-meet/
LOCATION:Poplar Ford Park\, 6714 Bull Run Post Office Road\, Centerville\, VA\, 20120\, United States
END:VEVENT
BEGIN:VEVENT
DTSTART;TZID=America/New_York:20251016T193000
DTEND;TZID=America/New_York:20251016T210000
DTSTAMP:20260423T131401
CREATED:20250204T221202Z
LAST-MODIFIED:20250204T222344Z
UID:10000803-1760643000-1760648400@www.1nvrc.com
SUMMARY:2025 MONTHLY CLUB MEETING
DESCRIPTION:We are back to in-person meetings at Fairfax Fire Station #3 for 2025 (please wear a mask if you are at risk for COVID\, and please stay home if you feel sick in any way). \nBe safe! \nClub Meetings
URL:https://www.1nvrc.com/event/2025-monthly-club-meetings/2025-10-16/
LOCATION:City of Fairfax Fire Station 3\, 4081 University Drive\, Fairfax\, VA\, 22030\, United States
END:VEVENT
BEGIN:VEVENT
DTSTART;TZID=America/New_York:20251012T090000
DTEND;TZID=America/New_York:20251012T170000
DTSTAMP:20260423T131401
CREATED:20250420T040137Z
LAST-MODIFIED:20250420T040809Z
UID:10000581-1760259600-1760288400@www.1nvrc.com
SUMMARY:FPV Field Day
DESCRIPTION:In our new FPV format\, we are going to dedicate the second Sunday of each month as an FPV Field Day at Poplar Ford Field. Fixed wing line of sight RC activities are still permitted\, but need to give way for FPV fixed wing or multi-rotor activities which can include setting up race gates on the runway. \nOn these FPV Field Days\, all NVRC members wishing to fly fixed wing line of sight are welcome to use the Lorton Field – even if you do not have the normal Lorton membership tag on your badge.
URL:https://www.1nvrc.com/event/fpv-field-day-2-2/2025-10-12/
LOCATION:Poplar Ford Park\, 6714 Bull Run Post Office Road\, Centerville\, VA\, 20120\, United States
CATEGORIES:Flying Events,Multi-rotor Racing
ATTACH;FMTTYPE=image/jpeg:https://www.1nvrc.com/wp-content/uploads/2018/01/FCPA-DronePark.jpg
END:VEVENT
BEGIN:VEVENT
DTSTART;TZID=America/New_York:20251004T090000
DTEND;TZID=America/New_York:20251004T140000
DTSTAMP:20260423T131401
CREATED:20250204T215121Z
LAST-MODIFIED:20250415T142408Z
UID:10000795-1759568400-1759586400@www.1nvrc.com
SUMMARY:Lorton Glider Day
DESCRIPTION:NVRC is having its open house Glider Fun Fly October 4th at our Lorton Burnett Field. The weather in October is always great so come on out and fly your glider with us and the Vultures. Lorton usually has great thermals so expect some great soaring. All club members and guests are welcome\, flyers must have a valid AMA membership. Powered and unpowered gliders are welcome. Lorton does require that anyone at the field must wear a safety vest while on the Landfill property so please remember to bring yours\, the club will have some extras as well.  No Landing Fee.\nLOCATION INSTRUCTIONS\nFor site access please come to the field\, no need to stop at the main office. After you enter the facility and pass around the weigh-in scale\, you will see the main administration building with the flagpole on your right. Pass the administration building parking lot and then take the left-hand turn to Lot D onto Earl Delanuder Road. Stay on the main road as it bears to the right. At the first Stop sign make a left. To your right on top of the hill you should be able to see the field and metal shelter from the main road. Turn right at the access road and follow the road up the hill to the field. Signs are posted as well. 9850 Furnace Rd\, Lorton\, VA\, 22079 ( 38.69111\, -77.2497 )
URL:https://www.1nvrc.com/event/lorton-glider-day-4/
LOCATION:Lorton/Burnett Field\, 9800 Furnace Road\, Lorton\, VA\, 22079\, United States
END:VEVENT
BEGIN:VEVENT
DTSTART;TZID=America/New_York:20250927T080000
DTEND;TZID=America/New_York:20250927T170000
DTSTAMP:20260423T131401
CREATED:20250204T214925Z
LAST-MODIFIED:20250204T214925Z
UID:10000794-1758960000-1758992400@www.1nvrc.com
SUMMARY:Leesburg air show
DESCRIPTION:CD = Mark Franke and Rob Kaplan
URL:https://www.1nvrc.com/event/leesburg-air-show/
LOCATION:Leesburg Airport\, 1001 Sycolin Rd SE\, Leesburg\, VA\, 20175\, United States
END:VEVENT
BEGIN:VEVENT
DTSTART;TZID=America/New_York:20250918T193000
DTEND;TZID=America/New_York:20250918T210000
DTSTAMP:20260423T131401
CREATED:20250204T221202Z
LAST-MODIFIED:20250204T222344Z
UID:10000802-1758223800-1758229200@www.1nvrc.com
SUMMARY:2025 MONTHLY CLUB MEETING
DESCRIPTION:We are back to in-person meetings at Fairfax Fire Station #3 for 2025 (please wear a mask if you are at risk for COVID\, and please stay home if you feel sick in any way). \nBe safe! \nClub Meetings
URL:https://www.1nvrc.com/event/2025-monthly-club-meetings/2025-09-18/
LOCATION:City of Fairfax Fire Station 3\, 4081 University Drive\, Fairfax\, VA\, 22030\, United States
END:VEVENT
BEGIN:VEVENT
DTSTART;TZID=America/New_York:20250914T090000
DTEND;TZID=America/New_York:20250914T170000
DTSTAMP:20260423T131401
CREATED:20250420T040137Z
LAST-MODIFIED:20250420T040809Z
UID:10000580-1757840400-1757869200@www.1nvrc.com
SUMMARY:FPV Field Day
DESCRIPTION:In our new FPV format\, we are going to dedicate the second Sunday of each month as an FPV Field Day at Poplar Ford Field. Fixed wing line of sight RC activities are still permitted\, but need to give way for FPV fixed wing or multi-rotor activities which can include setting up race gates on the runway. \nOn these FPV Field Days\, all NVRC members wishing to fly fixed wing line of sight are welcome to use the Lorton Field – even if you do not have the normal Lorton membership tag on your badge.
URL:https://www.1nvrc.com/event/fpv-field-day-2-2/2025-09-14/
LOCATION:Poplar Ford Park\, 6714 Bull Run Post Office Road\, Centerville\, VA\, 20120\, United States
CATEGORIES:Flying Events,Multi-rotor Racing
ATTACH;FMTTYPE=image/jpeg:https://www.1nvrc.com/wp-content/uploads/2018/01/FCPA-DronePark.jpg
END:VEVENT
BEGIN:VEVENT
DTSTART;TZID=America/New_York:20250821T193000
DTEND;TZID=America/New_York:20250821T210000
DTSTAMP:20260423T131401
CREATED:20250818T002127Z
LAST-MODIFIED:20250818T002214Z
UID:10000801-1755804600-1755810000@www.1nvrc.com
SUMMARY:2025 MONTHLY CLUB MEETING
DESCRIPTION:We are back at Poplar Ford for club meeting and night fly.  7:30 meeting flying to follow. \nBe safe! \nClub Meetings
URL:https://www.1nvrc.com/event/2025-monthly-club-meetings-2/
LOCATION:Poplar Ford Park\, 6714 Bull Run Post Office Road\, Centerville\, VA\, 20120\, United States
END:VEVENT
BEGIN:VEVENT
DTSTART;TZID=America/New_York:20250816T090000
DTEND;TZID=America/New_York:20250816T140000
DTSTAMP:20260423T131401
CREATED:20250204T214811Z
LAST-MODIFIED:20250810T205923Z
UID:10000793-1755334800-1755352800@www.1nvrc.com
SUMMARY:Biplane Fun Fly
DESCRIPTION:CD = Bob Burrnett
URL:https://www.1nvrc.com/event/biplane-fun-fly-5/
LOCATION:Lorton/Burnett Field\, 9800 Furnace Road\, Lorton\, VA\, 22079\, United States
END:VEVENT
BEGIN:VEVENT
DTSTART;TZID=America/New_York:20250810T090000
DTEND;TZID=America/New_York:20250810T170000
DTSTAMP:20260423T131401
CREATED:20250420T040137Z
LAST-MODIFIED:20250420T040809Z
UID:10000579-1754816400-1754845200@www.1nvrc.com
SUMMARY:FPV Field Day
DESCRIPTION:In our new FPV format\, we are going to dedicate the second Sunday of each month as an FPV Field Day at Poplar Ford Field. Fixed wing line of sight RC activities are still permitted\, but need to give way for FPV fixed wing or multi-rotor activities which can include setting up race gates on the runway. \nOn these FPV Field Days\, all NVRC members wishing to fly fixed wing line of sight are welcome to use the Lorton Field – even if you do not have the normal Lorton membership tag on your badge.
URL:https://www.1nvrc.com/event/fpv-field-day-2-2/2025-08-10/
LOCATION:Poplar Ford Park\, 6714 Bull Run Post Office Road\, Centerville\, VA\, 20120\, United States
CATEGORIES:Flying Events,Multi-rotor Racing
ATTACH;FMTTYPE=image/jpeg:https://www.1nvrc.com/wp-content/uploads/2018/01/FCPA-DronePark.jpg
END:VEVENT
BEGIN:VEVENT
DTSTART;TZID=America/New_York:20250810T090000
DTEND;TZID=America/New_York:20250810T170000
DTSTAMP:20260423T131401
CREATED:20250301T170336Z
LAST-MODIFIED:20250301T170336Z
UID:10000825-1754816400-1754845200@www.1nvrc.com
SUMMARY:Multi GP Summer GQ Timing
DESCRIPTION:
URL:https://www.1nvrc.com/event/multi-gp-summer-gq-timing-2/
LOCATION:Poplar Ford Park\, 6714 Bull Run Post Office Road\, Centerville\, VA\, 20120\, United States
END:VEVENT
BEGIN:VEVENT
DTSTART;TZID=America/New_York:20250727T120000
DTEND;TZID=America/New_York:20250727T170000
DTSTAMP:20260423T131401
CREATED:20250301T165320Z
LAST-MODIFIED:20250301T165538Z
UID:10000823-1753617600-1753635600@www.1nvrc.com
SUMMARY:Multi GP Summer GQ Practice (Afternoon)
DESCRIPTION:
URL:https://www.1nvrc.com/event/multi-gp-summer-gq-timing/
LOCATION:Poplar Ford Park\, 6714 Bull Run Post Office Road\, Centerville\, VA\, 20120\, United States
END:VEVENT
BEGIN:VEVENT
DTSTART;TZID=America/New_York:20250717T073000
DTEND;TZID=America/New_York:20250717T210000
DTSTAMP:20260423T131401
CREATED:20250204T221646Z
LAST-MODIFIED:20250204T221646Z
UID:10000819-1752737400-1752786000@www.1nvrc.com
SUMMARY:2025 MONTHLY CLUB MEETING - Summer night flying
DESCRIPTION:We are back to in-person meetings at Poplar Ford summer meetings for 2025  \nBe safe! \nClub Meetings
URL:https://www.1nvrc.com/event/2025-monthly-club-meeting-summer-night-flying/2025-07-17/
LOCATION:Poplar Ford Park\, 6714 Bull Run Post Office Road\, Centerville\, VA\, 20120\, United States
END:VEVENT
BEGIN:VEVENT
DTSTART;TZID=America/New_York:20250713T090000
DTEND;TZID=America/New_York:20250713T170000
DTSTAMP:20260423T131401
CREATED:20250420T040137Z
LAST-MODIFIED:20250420T040809Z
UID:10000578-1752397200-1752426000@www.1nvrc.com
SUMMARY:FPV Field Day
DESCRIPTION:In our new FPV format\, we are going to dedicate the second Sunday of each month as an FPV Field Day at Poplar Ford Field. Fixed wing line of sight RC activities are still permitted\, but need to give way for FPV fixed wing or multi-rotor activities which can include setting up race gates on the runway. \nOn these FPV Field Days\, all NVRC members wishing to fly fixed wing line of sight are welcome to use the Lorton Field – even if you do not have the normal Lorton membership tag on your badge.
URL:https://www.1nvrc.com/event/fpv-field-day-2-2/2025-07-13/
LOCATION:Poplar Ford Park\, 6714 Bull Run Post Office Road\, Centerville\, VA\, 20120\, United States
CATEGORIES:Flying Events,Multi-rotor Racing
ATTACH;FMTTYPE=image/jpeg:https://www.1nvrc.com/wp-content/uploads/2018/01/FCPA-DronePark.jpg
END:VEVENT
BEGIN:VEVENT
DTSTART;TZID=America/New_York:20250713T090000
DTEND;TZID=America/New_York:20250713T170000
DTSTAMP:20260423T131401
CREATED:20250301T165218Z
LAST-MODIFIED:20250301T165817Z
UID:10000822-1752397200-1752426000@www.1nvrc.com
SUMMARY:Multi GP Summer GQ Timing
DESCRIPTION:
URL:https://www.1nvrc.com/event/multi-gp-summer-gp-timing/
LOCATION:Poplar Ford Park\, 6714 Bull Run Post Office Road\, Centerville\, VA\, 20120\, United States
END:VEVENT
END:VCALENDAR