BEGIN:VCALENDAR
VERSION:2.0
PRODID:-//Northern Virginia Radio Control - NVRC - ECPv6.15.20//NONSGML v1.0//EN
CALSCALE:GREGORIAN
METHOD:PUBLISH
X-WR-CALNAME:Northern Virginia Radio Control - NVRC
X-ORIGINAL-URL:https://www.1nvrc.com
X-WR-CALDESC:Events for Northern Virginia Radio Control - NVRC
REFRESH-INTERVAL;VALUE=DURATION:PT1H
X-Robots-Tag:noindex
X-PUBLISHED-TTL:PT1H
BEGIN:VTIMEZONE
TZID:America/New_York
BEGIN:DAYLIGHT
TZOFFSETFROM:-0500
TZOFFSETTO:-0400
TZNAME:EDT
DTSTART:20230312T070000
END:DAYLIGHT
BEGIN:STANDARD
TZOFFSETFROM:-0400
TZOFFSETTO:-0500
TZNAME:EST
DTSTART:20231105T060000
END:STANDARD
BEGIN:DAYLIGHT
TZOFFSETFROM:-0500
TZOFFSETTO:-0400
TZNAME:EDT
DTSTART:20240310T070000
END:DAYLIGHT
BEGIN:STANDARD
TZOFFSETFROM:-0400
TZOFFSETTO:-0500
TZNAME:EST
DTSTART:20241103T060000
END:STANDARD
BEGIN:DAYLIGHT
TZOFFSETFROM:-0500
TZOFFSETTO:-0400
TZNAME:EDT
DTSTART:20250309T070000
END:DAYLIGHT
BEGIN:STANDARD
TZOFFSETFROM:-0400
TZOFFSETTO:-0500
TZNAME:EST
DTSTART:20251102T060000
END:STANDARD
BEGIN:DAYLIGHT
TZOFFSETFROM:-0500
TZOFFSETTO:-0400
TZNAME:EDT
DTSTART:20260308T070000
END:DAYLIGHT
BEGIN:STANDARD
TZOFFSETFROM:-0400
TZOFFSETTO:-0500
TZNAME:EST
DTSTART:20261101T060000
END:STANDARD
END:VTIMEZONE
BEGIN:VEVENT
DTSTART;TZID=America/New_York:20240418T193000
DTEND;TZID=America/New_York:20240418T210000
DTSTAMP:20260425T094019
CREATED:20240318T165207Z
LAST-MODIFIED:20240318T165516Z
UID:10000742-1713468600-1713474000@www.1nvrc.com
SUMMARY:NVRC Build Contest
DESCRIPTION:For more information about the long proud tradition and rules of our Display Contest\, please visit the event page here: \nDisplay Contest \n \nThis year the membership requested during our January meeting that we have the build contest with new categories to include multirotors\, ARFs/Kits\, and to have it as part of the meetings at the Firehouse\, last meeting in April.
URL:https://www.1nvrc.com/event/nvrc-build-contest-3/
LOCATION:City of Fairfax Fire Station 3\, 4081 University Drive\, Fairfax\, VA\, 22030\, United States
CATEGORIES:Static Events
ATTACH;FMTTYPE=image/jpeg:https://www.1nvrc.com/wp-content/uploads/2019/12/26-March-1971-Building-Contest.jpg
END:VEVENT
BEGIN:VEVENT
DTSTART;TZID=America/New_York:20240928T110000
DTEND;TZID=America/New_York:20240928T160000
DTSTAMP:20260425T094019
CREATED:20240913T150356Z
LAST-MODIFIED:20240913T150551Z
UID:10000765-1727521200-1727539200@www.1nvrc.com
SUMMARY:Leesburg Airshow
DESCRIPTION:NVRC will be at performing  at the airshow with several flying demonstrations and static displays. Come on out to the show and support the club. \n \nhttps://www.leesburgva.gov/departments/parks-recreation/events/leesburg-airshow
URL:https://www.1nvrc.com/event/leesburg-airshow-2/
LOCATION:Poplar Ford Park\, 6714 Bull Run Post Office Road\, Centerville\, VA\, 20120\, United States
END:VEVENT
BEGIN:VEVENT
DTSTART;TZID=America/New_York:20241005T090000
DTEND;TZID=America/New_York:20241005T150000
DTSTAMP:20260425T094019
CREATED:20240119T192230Z
LAST-MODIFIED:20240119T192230Z
UID:10000522-1728118800-1728140400@www.1nvrc.com
SUMMARY:Lorton Glider Day
DESCRIPTION:Bring your gliders to Lorton for a fun day of soaring! \nAll club members and guests are welcome! \nWe’ll have a high start bungee launch and hopefully a couple tow planes to make sure you get up in the airarmbrazil.com.br! \nMake sure to check out our map to the field and site guest instructions before your first visit to the Lorton / Burnett Field! \nLorton Burnett Field
URL:https://www.1nvrc.com/event/lorton-glider-day-3/
LOCATION:Lorton/Burnett Field\, 9800 Furnace Road\, Lorton\, VA\, 22079\, United States
CATEGORIES:Flying Events,Outdoor Fun Fly
ATTACH;FMTTYPE=image/jpeg:https://www.1nvrc.com/wp-content/uploads/2019/02/glider.jpg
END:VEVENT
BEGIN:VEVENT
DTSTART;TZID=America/New_York:20250208T080000
DTEND;TZID=America/New_York:20250208T140000
DTSTAMP:20260425T094019
CREATED:20250202T150323Z
LAST-MODIFIED:20250208T015348Z
UID:10000773-1739001600-1739023200@www.1nvrc.com
SUMMARY:Cancelled due to bad weather --- West Potomac High School’s Fun Fly
DESCRIPTION:This is for RC and Free Flight models\, as in past years. \n8 am to 2 pm\nWest Potomac High School — Main Gym\n6500 Quander Road\nAlexandria\, Virginia 22307 \nPlease spread the word\, proceeds from this event fund our competitive engineering team. \nWe like to have models of any kind to display for the community\, to show the scope of the hobby. If we get enough display models\nthere will be a Static Display Prize. \nPeople have asked about selling items. There is a 15% fee that goes to the school.\nSo\, if you have some items you want to sell\, we can set up a table for those items. \n$5 to fly for the day\, Spectators free\, but donations appreciated. Concessions will be available. \nKids glider table will be set up. We also might have some gliders for sale. \nHope to see you there! \nContact me with any questions! \nJoe\nMr. Franco \nJoseph Franco\nWest Potomac High School\nTechnology and Engineering Education\n703-718-2574\nSupplying the T and E in STEM
URL:https://www.1nvrc.com/event/west-potomac-high-schools-fun-fly/
LOCATION:West Potomac High School — Main Gym\, 6500 Quander Road\, Alexandria\, 22307\, United States
END:VEVENT
END:VCALENDAR