BEGIN:VCALENDAR
VERSION:2.0
PRODID:-//Northern Virginia Radio Control - NVRC - ECPv6.15.20//NONSGML v1.0//EN
CALSCALE:GREGORIAN
METHOD:PUBLISH
X-WR-CALNAME:Northern Virginia Radio Control - NVRC
X-ORIGINAL-URL:https://www.1nvrc.com
X-WR-CALDESC:Events for Northern Virginia Radio Control - NVRC
REFRESH-INTERVAL;VALUE=DURATION:PT1H
X-Robots-Tag:noindex
X-PUBLISHED-TTL:PT1H
BEGIN:VTIMEZONE
TZID:America/New_York
BEGIN:DAYLIGHT
TZOFFSETFROM:-0500
TZOFFSETTO:-0400
TZNAME:EDT
DTSTART:20200308T070000
END:DAYLIGHT
BEGIN:STANDARD
TZOFFSETFROM:-0400
TZOFFSETTO:-0500
TZNAME:EST
DTSTART:20201101T060000
END:STANDARD
BEGIN:DAYLIGHT
TZOFFSETFROM:-0500
TZOFFSETTO:-0400
TZNAME:EDT
DTSTART:20210314T070000
END:DAYLIGHT
BEGIN:STANDARD
TZOFFSETFROM:-0400
TZOFFSETTO:-0500
TZNAME:EST
DTSTART:20211107T060000
END:STANDARD
BEGIN:DAYLIGHT
TZOFFSETFROM:-0500
TZOFFSETTO:-0400
TZNAME:EDT
DTSTART:20220313T070000
END:DAYLIGHT
BEGIN:STANDARD
TZOFFSETFROM:-0400
TZOFFSETTO:-0500
TZNAME:EST
DTSTART:20221106T060000
END:STANDARD
END:VTIMEZONE
BEGIN:VEVENT
DTSTART;TZID=America/New_York:20210716T080000
DTEND;TZID=America/New_York:20210718T200000
DTSTAMP:20260425T122009
CREATED:20210713T012443Z
LAST-MODIFIED:20210713T012443Z
UID:10000484-1626422400-1626638400@www.1nvrc.com
SUMMARY:Nic’s Must-do RC-FF Stuff Garage Sale
DESCRIPTION:Who: Nic Burhans.\n\nWhat: A huge RC\, Free Flight\, Already Made\, ARF\, Kits\, Parts\, Radios\, Engines\, 3-D printers\, Motors\, and Tools (just a quick outline) Garage Sale.\nSeventeen (17) tables (at last count) inside plus some large items placed outside !\n\nWhere: 6061 Captains Walk\, Broad Run\, VA 20137(there will be signs out as you get closer).\n\nWhen: Friday\, Saturday\, and Sunday\, 16\, 17\, and 18 July 2021\, from 0800 (8 am) to 2000 (8 pm) each day [There is no reason why you can’t make a visit to this sale while you are out-and-about!].  Mark your calendars NOW!\n\nWhy: Nic’s basement and shop have become overrun with donations to his RC clubs\, estates\, consignments\, and a very over-filled 1000-Year-Box.\n\nHow Come: {Not in order of precedents.}\n(1) Nic is a collector of good stuff [his mother drove him to school on trash days so I could not bring “good stuff” home].\n(2) Nic has become the collector of stuff donations for the clubs that he belongs to.\n(3) Nic just can’t say no to families of club members who have passed.\n(4) Nic has been to too many swap meets and auctions.\n(5) Nic has picked up a few RC estate sales.\n(6) Nic has agreed to sell some consignments for older members.\n(7) Anne says she wants most of her basement back so she can get projects done!\n\nPlease\, You-All-Come!\n– This is a rain-or-shine mostly indoor event.\n– A restroom will be available.\n– The coffee pot will be on.\n– Chairs will be available to sit and talk.\n– Nic will be very lonely if you don’t come (Anne will be out of town)!\n\nPlease\, pass this on to your RC friends.
URL:https://www.1nvrc.com/event/nics-must-do-rc-ff-stuff-garage-sale/
LOCATION:VA
CATEGORIES:Static Events
END:VEVENT
BEGIN:VEVENT
DTSTART;TZID=America/New_York:20210715T193000
DTEND;TZID=America/New_York:20210715T203000
DTSTAMP:20260425T122009
CREATED:20210216T210310Z
LAST-MODIFIED:20210617T122628Z
UID:10000144-1626377400-1626381000@www.1nvrc.com
SUMMARY:MONTHLY CLUB MEETING
DESCRIPTION:All meetings are open to the public and we encourage potential new members to join us. \nDuring the summer months we like to meet at the club field for some flying and grilling!
URL:https://www.1nvrc.com/event/virtual-monthly-club-meeting-2-2021-07-15/
LOCATION:Poplar Ford Park\, 6714 Bull Run Post Office Road\, Centerville\, VA\, 20120\, United States
END:VEVENT
BEGIN:VEVENT
DTSTART;TZID=America/New_York:20210714T203000
DTEND;TZID=America/New_York:20210714T213000
DTSTAMP:20260425T122009
CREATED:20201008T022846Z
LAST-MODIFIED:20221219T155952Z
UID:10000372-1626294600-1626298200@www.1nvrc.com
SUMMARY:Virtual Workshop Chat
DESCRIPTION:Come join us from 8:30pm until we get too tired to talk about airplanes\, show off our airplanes\, plan our next airplane projects\, and probably discuss some airplane history too. \nThis is the Zoom link for the meeting and the pass code is the same as the gate combination. \nGuests are welcome too – just use the Contact Us page to request a guest link to join in!
URL:https://www.1nvrc.com/event/virtual-workshop-chat/2021-07-14/
LOCATION:VA
CATEGORIES:Static Events
ATTACH;FMTTYPE=image/jpeg:https://www.1nvrc.com/wp-content/uploads/2019/12/Workshop.jpg
END:VEVENT
BEGIN:VEVENT
DTSTART;TZID=America/New_York:20210711T090000
DTEND;TZID=America/New_York:20210711T170000
DTSTAMP:20260425T122009
CREATED:20210227T035527Z
LAST-MODIFIED:20210227T035748Z
UID:10000160-1625994000-1626022800@www.1nvrc.com
SUMMARY:FPV Field Day
DESCRIPTION:In our new FPV format\, we are going to dedicate the second Sunday of each month as an FPV Field Day at Poplar Ford Field. Fixed wing line of sight RC activities are still permitted\, but need to give way for FPV fixed wing or multi-rotor activities which can include setting up race gates on the runway. \nOn these FPV Field Days\, all NVRC members wishing to fly fixed wing line of sight are welcome to use the Lorton Field – even if you do not have the normal Lorton membership tag on your badge.
URL:https://www.1nvrc.com/event/fpv-field-day/2021-07-11/
LOCATION:Poplar Ford Park\, 6714 Bull Run Post Office Road\, Centerville\, VA\, 20120\, United States
CATEGORIES:Flying Events,Multi-rotor Racing
ATTACH;FMTTYPE=image/jpeg:https://www.1nvrc.com/wp-content/uploads/2021/02/fpv-team.jpg
END:VEVENT
BEGIN:VEVENT
DTSTART;TZID=America/New_York:20210710T090000
DTEND;TZID=America/New_York:20210710T120000
DTSTAMP:20260425T122009
CREATED:20210227T044114Z
LAST-MODIFIED:20210227T044114Z
UID:10000455-1625907600-1625918400@www.1nvrc.com
SUMMARY:Streamer Combat Event
DESCRIPTION:Streamer Combat
URL:https://www.1nvrc.com/event/streamer-combat-event-3/
LOCATION:Lorton/Burnett Field\, 9800 Furnace Road\, Lorton\, VA\, 22079\, United States
CATEGORIES:Flying Events
END:VEVENT
BEGIN:VEVENT
DTSTART;TZID=America/New_York:20210623T203000
DTEND;TZID=America/New_York:20210623T213000
DTSTAMP:20260425T122009
CREATED:20230204T022851Z
LAST-MODIFIED:20230204T022851Z
UID:10000400-1624480200-1624483800@www.1nvrc.com
SUMMARY:Virtual Workshop Chat
DESCRIPTION:Come join us from 8:30pm until we get too tired to talk about airplanes\, show off our airplanes\, plan our next airplane projects\, and probably discuss some airplane history too. \nThis is the Zoom link for the meeting and the pass code is the same as the gate combination. \nGuests are welcome too – just use the Contact Us page to request a guest link to join in!
URL:https://www.1nvrc.com/event/virtual-workshop-chat/2021-06-23/
LOCATION:VA
CATEGORIES:Static Events
ATTACH;FMTTYPE=image/jpeg:https://www.1nvrc.com/wp-content/uploads/2019/12/Workshop.jpg
END:VEVENT
BEGIN:VEVENT
DTSTART;TZID=America/New_York:20210617T193000
DTEND;TZID=America/New_York:20210617T203000
DTSTAMP:20260425T122009
CREATED:20210216T210310Z
LAST-MODIFIED:20210617T122402Z
UID:10000143-1623958200-1623961800@www.1nvrc.com
SUMMARY:MONTHLY CLUB MEETING
DESCRIPTION: All meetings are open to the public and we encourage potential new members to join us. \nDuring the summer months we like to meet at the club field for some flying and grilling!
URL:https://www.1nvrc.com/event/virtual-monthly-club-meeting-2-2021-06-17/
LOCATION:Poplar Ford Park\, 6714 Bull Run Post Office Road\, Centerville\, VA\, 20120\, United States
END:VEVENT
BEGIN:VEVENT
DTSTART;TZID=America/New_York:20210617T080000
DTEND;TZID=America/New_York:20210620T170000
DTSTAMP:20260425T122009
CREATED:20210317T021039Z
LAST-MODIFIED:20210317T021039Z
UID:10000466-1623916800-1624208400@www.1nvrc.com
SUMMARY:8th Annual Giant Scale Warbirds And Vintage Aircraft up to 1940.....\, East Bend\, NC
DESCRIPTION:www.riversiderc.com/events.htmlEvent \nEvent Sponsor: Riverside Aero Modelers SocietyEvent Category: WarbirdEvent Class: Class CDescription: 8th annual Giant Warbird and Vintage Pre 1940. 1000X285ft Bermuda runway with no obstructions.Dry Camping\,toilets\,electric and food onsite.Friday Night Baked Spaghetti dinner $8.00.Sat free BBq dinner for all guest.Wednesday early arrivals welcome.Event Website: www.riversiderc.comEvent Code: 10821\nEvent Contact: John Welcome Contact Information: Phone: (336)303-2245\, Email: jfwelcome@gmail.com Site Detail: 1800 Poindexter Rd\, East Bend\, NC\, 27018
URL:https://www.1nvrc.com/event/8th-annual-giant-scale-warbirds-and-vintage-aircraft-up-to-1940-east-bend-nc/
LOCATION:VA
END:VEVENT
BEGIN:VEVENT
DTSTART;TZID=America/New_York:20210617T080000
DTEND;TZID=America/New_York:20210620T170000
DTSTAMP:20260425T122009
CREATED:20210317T020543Z
LAST-MODIFIED:20210317T020543Z
UID:10000213-1623916800-1624208400@www.1nvrc.com
SUMMARY:Fathers Day Weekend Fun Fly\, North Jackson\, OH
DESCRIPTION:Event Sponsor: Night HawksEvent Category: Fun FlyEvent Class: Class CDescription: Come join us for our annual Fathers Day Weekend Fun Fly. All model types are welcome to fly\, No pilot fees\, Limited electric available on a first come first serve basis\, primitive camping (no hook ups) is permitted. We hope to see you there!Event Website: www.Nighthawksrc.comEvent Code: 10892\nEvent Contact: MIKE SOBINOVSKY Contact Information: Phone: (330)509-3362\, Email: Staff@NighthawksRC.com Site Detail: 9551 Gibson Rd\, North Jackson\, OH\, 44451
URL:https://www.1nvrc.com/event/fathers-day-weekend-fun-fly-north-jackson-oh/
LOCATION:VA
END:VEVENT
BEGIN:VEVENT
DTSTART;TZID=America/New_York:20210614T080000
DTEND;TZID=America/New_York:20210615T170000
DTSTAMP:20260425T122009
CREATED:20210501T013903Z
LAST-MODIFIED:20210501T013903Z
UID:10000472-1623657600-1623776400@www.1nvrc.com
SUMMARY:Blue & Gray Electric Fly-in
DESCRIPTION:14-15 JUN – Blue & Gray Electric Fly-in    \nhttp://www.bluegrayrc.com/events.html \n10am until 5pm. Sign-in starts at 9am
URL:https://www.1nvrc.com/event/blue-gray-electric-fly-in/
LOCATION:VA
CATEGORIES:Flying Events,Outdoor Fun Fly
END:VEVENT
BEGIN:VEVENT
DTSTART;TZID=America/New_York:20210613T090000
DTEND;TZID=America/New_York:20210613T170000
DTSTAMP:20260425T122009
CREATED:20210227T035527Z
LAST-MODIFIED:20210227T035748Z
UID:10000159-1623574800-1623603600@www.1nvrc.com
SUMMARY:FPV Field Day
DESCRIPTION:In our new FPV format\, we are going to dedicate the second Sunday of each month as an FPV Field Day at Poplar Ford Field. Fixed wing line of sight RC activities are still permitted\, but need to give way for FPV fixed wing or multi-rotor activities which can include setting up race gates on the runway. \nOn these FPV Field Days\, all NVRC members wishing to fly fixed wing line of sight are welcome to use the Lorton Field – even if you do not have the normal Lorton membership tag on your badge.
URL:https://www.1nvrc.com/event/fpv-field-day/2021-06-13/
LOCATION:Poplar Ford Park\, 6714 Bull Run Post Office Road\, Centerville\, VA\, 20120\, United States
CATEGORIES:Flying Events,Multi-rotor Racing
ATTACH;FMTTYPE=image/jpeg:https://www.1nvrc.com/wp-content/uploads/2021/02/fpv-team.jpg
END:VEVENT
BEGIN:VEVENT
DTSTART;TZID=America/New_York:20210613T090000
DTEND;TZID=America/New_York:20210613T120000
DTSTAMP:20260425T122009
CREATED:20210227T043735Z
LAST-MODIFIED:20210227T043735Z
UID:10000459-1623574800-1623585600@www.1nvrc.com
SUMMARY:Pylon Races
DESCRIPTION:We’re going to start pylon racing with the Willy-nillie’s GLH 250 planes this spring! But not only these planes – bring any 3s2200 powered plane to race in the open class! \nHttp://www.willynillies.com \n  \nPylon Racing
URL:https://www.1nvrc.com/event/pylon-races-9/
LOCATION:Poplar Ford Park\, 6714 Bull Run Post Office Road\, Centerville\, VA\, 20120\, United States
CATEGORIES:Flying Events,Outdoor Fun Fly
END:VEVENT
BEGIN:VEVENT
DTSTART;TZID=America/New_York:20210612T080000
DTEND;TZID=America/New_York:20210613T170000
DTSTAMP:20260425T122009
CREATED:20210501T014626Z
LAST-MODIFIED:20210501T014626Z
UID:10000481-1623484800-1623603600@www.1nvrc.com
SUMMARY:Steve Arnold Memorial Warbirds over Gettysburg
DESCRIPTION:Steve Arnold Memorial Warbirds over Gettysburg    \nJune 12th & 13th \n10am until 5pm. Sign-in starts at 9am. \nAll era to Modern Day Warbirds Welcome \nhttp://www.bluegrayrc.com/events.html
URL:https://www.1nvrc.com/event/steve-arnold-memorial-warbirds-over-gettysburg-2/
LOCATION:VA
CATEGORIES:Flying Events,Outdoor Fun Fly
END:VEVENT
BEGIN:VEVENT
DTSTART;TZID=America/New_York:20210612T080000
DTEND;TZID=America/New_York:20210613T170000
DTSTAMP:20260425T122009
CREATED:20210501T012839Z
LAST-MODIFIED:20210501T013406Z
UID:10000473-1623484800-1623603600@www.1nvrc.com
SUMMARY:Steve Arnold Memorial Warbirds over Gettysburg
DESCRIPTION:12-13 JUN – Steve Arnold Memorial Warbirds over Gettysburg    \nhttp://www.bluegrayrc.com/events.html \n10am until 5pm. Sign-in starts at 9am. \nAll era to Modern Day Warbirds Welcome
URL:https://www.1nvrc.com/event/steve-arnold-memorial-warbirds-over-gettysburg/
LOCATION:VA
END:VEVENT
BEGIN:VEVENT
DTSTART;TZID=America/New_York:20210612T080000
DTEND;TZID=America/New_York:20210612T170000
DTSTAMP:20260425T122009
CREATED:20210227T043511Z
LAST-MODIFIED:20210524T133158Z
UID:10000461-1623484800-1623517200@www.1nvrc.com
SUMMARY:Farm Float Fly - CANCELLED
DESCRIPTION:Sadly the spring FARM Club Float Fly has been cancelled this year. Please see their website for more details.
URL:https://www.1nvrc.com/event/farm-float-fly/
LOCATION:Lake Ritchie\, 5177 Lake Ritchie Road\, Bealeton\, VA\, 22712\, United States
CATEGORIES:Flying Events,Outdoor Fun Fly
END:VEVENT
BEGIN:VEVENT
DTSTART;TZID=America/New_York:20210609T203000
DTEND;TZID=America/New_York:20210609T213000
DTSTAMP:20260425T122009
CREATED:20201008T022846Z
LAST-MODIFIED:20221219T155952Z
UID:10000371-1623270600-1623274200@www.1nvrc.com
SUMMARY:Virtual Workshop Chat
DESCRIPTION:Come join us from 8:30pm until we get too tired to talk about airplanes\, show off our airplanes\, plan our next airplane projects\, and probably discuss some airplane history too. \nThis is the Zoom link for the meeting and the pass code is the same as the gate combination. \nGuests are welcome too – just use the Contact Us page to request a guest link to join in!
URL:https://www.1nvrc.com/event/virtual-workshop-chat/2021-06-09/
LOCATION:VA
CATEGORIES:Static Events
ATTACH;FMTTYPE=image/jpeg:https://www.1nvrc.com/wp-content/uploads/2019/12/Workshop.jpg
END:VEVENT
BEGIN:VEVENT
DTSTART;TZID=America/New_York:20210603T080000
DTEND;TZID=America/New_York:20210605T170000
DTSTAMP:20260425T122009
CREATED:20210317T020455Z
LAST-MODIFIED:20210317T020455Z
UID:10000211-1622707200-1622912400@www.1nvrc.com
SUMMARY:Warbirds Over Fredericksburg\, Thornburg\, VA
DESCRIPTION:https://www.fredericksburgrc.com/farcc-events/ \nFARCC presents Military Warbirds And Classics Over Fredericksburg. Any size warbird or classic allowed\, but must be a scale representation of a full scale aircraft. \nTwo flight lines assure lots of action. There will be a pilots dinner & raffle Saturday evening. Flying allowed until dusk. Surely\, one of the best Warbird events in the mid-Atlantic region. \nAlways a good time\, with two runways and power for charging. Also you can camp onsite which is really a nice deal.
URL:https://www.1nvrc.com/event/warbirds-over-fredericksburg-thornburg-va/
LOCATION:VA
END:VEVENT
BEGIN:VEVENT
DTSTART;TZID=America/New_York:20210526T203000
DTEND;TZID=America/New_York:20210526T213000
DTSTAMP:20260425T122009
CREATED:20230204T022851Z
LAST-MODIFIED:20230204T022851Z
UID:10000399-1622061000-1622064600@www.1nvrc.com
SUMMARY:Virtual Workshop Chat
DESCRIPTION:Come join us from 8:30pm until we get too tired to talk about airplanes\, show off our airplanes\, plan our next airplane projects\, and probably discuss some airplane history too. \nThis is the Zoom link for the meeting and the pass code is the same as the gate combination. \nGuests are welcome too – just use the Contact Us page to request a guest link to join in!
URL:https://www.1nvrc.com/event/virtual-workshop-chat/2021-05-26/
LOCATION:VA
CATEGORIES:Static Events
ATTACH;FMTTYPE=image/jpeg:https://www.1nvrc.com/wp-content/uploads/2019/12/Workshop.jpg
END:VEVENT
BEGIN:VEVENT
DTSTART;TZID=America/New_York:20210522T090000
DTEND;TZID=America/New_York:20210522T120000
DTSTAMP:20260425T122009
CREATED:20210227T043145Z
LAST-MODIFIED:20210227T043145Z
UID:10000462-1621674000-1621684800@www.1nvrc.com
SUMMARY:Spring Fun Fly
DESCRIPTION:Outdoor Fun Fly
URL:https://www.1nvrc.com/event/spring-fun-fly-2/
LOCATION:Poplar Ford Park\, 6714 Bull Run Post Office Road\, Centerville\, VA\, 20120\, United States
CATEGORIES:Flying Events,Outdoor Fun Fly
END:VEVENT
BEGIN:VEVENT
DTSTART;TZID=America/New_York:20210520T193000
DTEND;TZID=America/New_York:20210520T203000
DTSTAMP:20260425T122009
CREATED:20210216T210310Z
LAST-MODIFIED:20211223T181907Z
UID:10000446-1621539000-1621542600@www.1nvrc.com
SUMMARY:VIRTUAL MONTHLY CLUB MEETING
DESCRIPTION:All meetings are open to the public and we encourage potential new members to join us. You’ll have to bring your own pizza and drinks as we are doing virtual meetings in this time of distancing. \nThis is the Zoom link for the meeting (https://us02web.zoom.us/j/4690492803) and the meeting pass code is the same as the gate combination. \nGuests are welcome too – just use the Contact Us page to request a guest link to join in!
URL:https://www.1nvrc.com/event/virtual-monthly-club-meeting-2/2021-05-20/
LOCATION:VA
END:VEVENT
BEGIN:VEVENT
DTSTART;TZID=America/New_York:20210515T090000
DTEND;TZID=America/New_York:20210515T130000
DTSTAMP:20260425T122009
CREATED:20210227T042754Z
LAST-MODIFIED:20210227T042754Z
UID:10000460-1621069200-1621083600@www.1nvrc.com
SUMMARY:Build & Display Contest at the Field
DESCRIPTION:We’re doing the annual build and display contest at the field this year! Otherwise\, see below for more info on categories and prizes! \nDisplay Contest
URL:https://www.1nvrc.com/event/build-display-contest-at-the-field/
LOCATION:Poplar Ford Park\, 6714 Bull Run Post Office Road\, Centerville\, VA\, 20120\, United States
END:VEVENT
BEGIN:VEVENT
DTSTART;TZID=America/New_York:20210515T080000
DTEND;TZID=America/New_York:20210515T170000
DTSTAMP:20260425T122009
CREATED:20200308T030056Z
LAST-MODIFIED:20210414T170427Z
UID:10000336-1621065600-1621098000@www.1nvrc.com
SUMMARY:95th Squadron RC Warbird Event
DESCRIPTION:Warbirds over Roanoke! \nhttps://95thsquadronrc.com \nA fun sounding RC Warbird event in North Carolina!
URL:https://www.1nvrc.com/event/95th-squadron-rc-warbird-event/
LOCATION:VA
CATEGORIES:Flying Events,Outdoor Fun Fly
END:VEVENT
BEGIN:VEVENT
DTSTART;VALUE=DATE:20210515
DTEND;VALUE=DATE:20210516
DTSTAMP:20260425T122009
CREATED:20210227T043402Z
LAST-MODIFIED:20210227T043402Z
UID:10000463-1621036800-1621123199@www.1nvrc.com
SUMMARY:Joe Nall & NC Pattern Contest
DESCRIPTION:A busy weekend for flying!
URL:https://www.1nvrc.com/event/joe-nall-nc-pattern-contest/
LOCATION:VA
CATEGORIES:Flying Events
END:VEVENT
BEGIN:VEVENT
DTSTART;TZID=America/New_York:20210512T203000
DTEND;TZID=America/New_York:20210512T213000
DTSTAMP:20260425T122009
CREATED:20201008T022846Z
LAST-MODIFIED:20221219T155952Z
UID:10000370-1620851400-1620855000@www.1nvrc.com
SUMMARY:Virtual Workshop Chat
DESCRIPTION:Come join us from 8:30pm until we get too tired to talk about airplanes\, show off our airplanes\, plan our next airplane projects\, and probably discuss some airplane history too. \nThis is the Zoom link for the meeting and the pass code is the same as the gate combination. \nGuests are welcome too – just use the Contact Us page to request a guest link to join in!
URL:https://www.1nvrc.com/event/virtual-workshop-chat/2021-05-12/
LOCATION:VA
CATEGORIES:Static Events
ATTACH;FMTTYPE=image/jpeg:https://www.1nvrc.com/wp-content/uploads/2019/12/Workshop.jpg
END:VEVENT
BEGIN:VEVENT
DTSTART;TZID=America/New_York:20210509T090000
DTEND;TZID=America/New_York:20210509T170000
DTSTAMP:20260425T122009
CREATED:20210227T035527Z
LAST-MODIFIED:20210227T035748Z
UID:10000158-1620550800-1620579600@www.1nvrc.com
SUMMARY:FPV Field Day
DESCRIPTION:In our new FPV format\, we are going to dedicate the second Sunday of each month as an FPV Field Day at Poplar Ford Field. Fixed wing line of sight RC activities are still permitted\, but need to give way for FPV fixed wing or multi-rotor activities which can include setting up race gates on the runway. \nOn these FPV Field Days\, all NVRC members wishing to fly fixed wing line of sight are welcome to use the Lorton Field – even if you do not have the normal Lorton membership tag on your badge.
URL:https://www.1nvrc.com/event/fpv-field-day/2021-05-09/
LOCATION:Poplar Ford Park\, 6714 Bull Run Post Office Road\, Centerville\, VA\, 20120\, United States
CATEGORIES:Flying Events,Multi-rotor Racing
ATTACH;FMTTYPE=image/jpeg:https://www.1nvrc.com/wp-content/uploads/2021/02/fpv-team.jpg
END:VEVENT
BEGIN:VEVENT
DTSTART;TZID=America/New_York:20210508T090000
DTEND;TZID=America/New_York:20210508T140000
DTSTAMP:20260425T122009
CREATED:20210227T042436Z
LAST-MODIFIED:20210227T042436Z
UID:10000458-1620464400-1620482400@www.1nvrc.com
SUMMARY:Poplar Ford Field Day
DESCRIPTION:Come on out and help prepare the field for the season! Flight stand repairs\, shed painting\, fence fixing\, sign installation\, etc.
URL:https://www.1nvrc.com/event/poplar-ford-field-day/
LOCATION:Poplar Ford Park\, 6714 Bull Run Post Office Road\, Centerville\, VA\, 20120\, United States
END:VEVENT
BEGIN:VEVENT
DTSTART;TZID=America/New_York:20210501T080000
DTEND;TZID=America/New_York:20210501T150000
DTSTAMP:20260425T122009
CREATED:20210414T170835Z
LAST-MODIFIED:20210414T171938Z
UID:10000474-1619856000-1619881200@www.1nvrc.com
SUMMARY:Hanover Swap Meet & Fun Fly
DESCRIPTION:Swap meet and fun fly May 1st from 8am – 3pm at the Hanover RC Flying Club located in Mechanicsville Va. 3449 Mechanicsville Turnpike Mechanicsville VA 23111 \n\nWe will have food\, drinks\, door prizes\, Raffles and 50/50.\nSwap Spot $10\nLanding Fee  – FREE
URL:https://www.1nvrc.com/event/hanover-swap-meet-fun-fly/
LOCATION:VA
CATEGORIES:Outdoor Fun Fly,Static Events
END:VEVENT
BEGIN:VEVENT
DTSTART;TZID=America/New_York:20210428T203000
DTEND;TZID=America/New_York:20210428T213000
DTSTAMP:20260425T122009
CREATED:20230204T022851Z
LAST-MODIFIED:20230204T022851Z
UID:10000398-1619641800-1619645400@www.1nvrc.com
SUMMARY:Virtual Workshop Chat
DESCRIPTION:Come join us from 8:30pm until we get too tired to talk about airplanes\, show off our airplanes\, plan our next airplane projects\, and probably discuss some airplane history too. \nThis is the Zoom link for the meeting and the pass code is the same as the gate combination. \nGuests are welcome too – just use the Contact Us page to request a guest link to join in!
URL:https://www.1nvrc.com/event/virtual-workshop-chat/2021-04-28/
LOCATION:VA
CATEGORIES:Static Events
ATTACH;FMTTYPE=image/jpeg:https://www.1nvrc.com/wp-content/uploads/2019/12/Workshop.jpg
END:VEVENT
BEGIN:VEVENT
DTSTART;TZID=America/New_York:20210426T080000
DTEND;TZID=America/New_York:20210501T170000
DTSTAMP:20260425T122009
CREATED:20210317T020300Z
LAST-MODIFIED:20210317T022535Z
UID:10000209-1619424000-1619888400@www.1nvrc.com
SUMMARY:Southern Electric Fun Fly (SEFF)\, Americus\, GA
DESCRIPTION:One of the largest electric flyins\, very popular with all who attend for great food\, flying field and great hospitality. \nwww.seffweek.com \n\nScott Fisher will be leading our “NVRC delegation” to this year’s Southern Electric Fun Fly (SEFF). \nThis event has a long history\, and was started by the RC Legend Mac Hodges\, This video shows Mac and the event ( https://www.youtube.com/watch?v=I7EScXFmoxw ). It is one of the largest electric flyins\, very popular with all who attend. \nThe event has a reputation for great weather\, a great flying field\, and super on-site food (though this year there will not likely be onsite food). \nIf you are interested in going\, please go to the online registration and send Scott an email so he can arrange for a group spot.
URL:https://www.1nvrc.com/event/southern-electric-fun-fly-seff-americus-ga/
LOCATION:VA
END:VEVENT
BEGIN:VEVENT
DTSTART;TZID=America/New_York:20210424T090000
DTEND;TZID=America/New_York:20210424T130000
DTSTAMP:20260425T122009
CREATED:20210412T183322Z
LAST-MODIFIED:20210412T183323Z
UID:10000475-1619254800-1619269200@www.1nvrc.com
SUMMARY:GWU RC Competition Demonstration
DESCRIPTION:For a few weeks NVRC has been helping the George Washington University aeronautics team with their intramural radio control airplane competition and they are excited to share what they have made! Come see them deploy and retrieve a sensor while in flight! This year the team leaped forward from a history of not having a succesfull flying aircraft to crushing the competition and now being ranked 22 globally!
URL:https://www.1nvrc.com/event/gwu-rc-competition-demonstration/
LOCATION:Poplar Ford Park\, 6714 Bull Run Post Office Road\, Centerville\, VA\, 20120\, United States
CATEGORIES:Flying Events
END:VEVENT
END:VCALENDAR