BEGIN:VCALENDAR
VERSION:2.0
PRODID:-//Northern Virginia Radio Control - NVRC - ECPv6.15.20//NONSGML v1.0//EN
CALSCALE:GREGORIAN
METHOD:PUBLISH
X-WR-CALNAME:Northern Virginia Radio Control - NVRC
X-ORIGINAL-URL:https://www.1nvrc.com
X-WR-CALDESC:Events for Northern Virginia Radio Control - NVRC
REFRESH-INTERVAL;VALUE=DURATION:PT1H
X-Robots-Tag:noindex
X-PUBLISHED-TTL:PT1H
BEGIN:VTIMEZONE
TZID:America/New_York
BEGIN:DAYLIGHT
TZOFFSETFROM:-0500
TZOFFSETTO:-0400
TZNAME:EDT
DTSTART:20200308T070000
END:DAYLIGHT
BEGIN:STANDARD
TZOFFSETFROM:-0400
TZOFFSETTO:-0500
TZNAME:EST
DTSTART:20201101T060000
END:STANDARD
BEGIN:DAYLIGHT
TZOFFSETFROM:-0500
TZOFFSETTO:-0400
TZNAME:EDT
DTSTART:20210314T070000
END:DAYLIGHT
BEGIN:STANDARD
TZOFFSETFROM:-0400
TZOFFSETTO:-0500
TZNAME:EST
DTSTART:20211107T060000
END:STANDARD
BEGIN:DAYLIGHT
TZOFFSETFROM:-0500
TZOFFSETTO:-0400
TZNAME:EDT
DTSTART:20220313T070000
END:DAYLIGHT
BEGIN:STANDARD
TZOFFSETFROM:-0400
TZOFFSETTO:-0500
TZNAME:EST
DTSTART:20221106T060000
END:STANDARD
BEGIN:DAYLIGHT
TZOFFSETFROM:-0500
TZOFFSETTO:-0400
TZNAME:EDT
DTSTART:20230312T070000
END:DAYLIGHT
BEGIN:STANDARD
TZOFFSETFROM:-0400
TZOFFSETTO:-0500
TZNAME:EST
DTSTART:20231105T060000
END:STANDARD
END:VTIMEZONE
BEGIN:VEVENT
DTSTART;TZID=America/New_York:20220410T090000
DTEND;TZID=America/New_York:20220410T170000
DTSTAMP:20260425T093034
CREATED:20210227T035527Z
LAST-MODIFIED:20210227T035748Z
UID:10000169-1649581200-1649610000@www.1nvrc.com
SUMMARY:FPV Field Day
DESCRIPTION:In our new FPV format\, we are going to dedicate the second Sunday of each month as an FPV Field Day at Poplar Ford Field. Fixed wing line of sight RC activities are still permitted\, but need to give way for FPV fixed wing or multi-rotor activities which can include setting up race gates on the runway. \nOn these FPV Field Days\, all NVRC members wishing to fly fixed wing line of sight are welcome to use the Lorton Field – even if you do not have the normal Lorton membership tag on your badge.
URL:https://www.1nvrc.com/event/fpv-field-day/2022-04-10/
LOCATION:Poplar Ford Park\, 6714 Bull Run Post Office Road\, Centerville\, VA\, 20120\, United States
CATEGORIES:Flying Events,Multi-rotor Racing
ATTACH;FMTTYPE=image/jpeg:https://www.1nvrc.com/wp-content/uploads/2021/02/fpv-team.jpg
END:VEVENT
BEGIN:VEVENT
DTSTART;TZID=America/New_York:20220323T203000
DTEND;TZID=America/New_York:20220323T213000
DTSTAMP:20260425T093034
CREATED:20230204T022851Z
LAST-MODIFIED:20230204T022851Z
UID:10000409-1648067400-1648071000@www.1nvrc.com
SUMMARY:Virtual Workshop Chat
DESCRIPTION:Come join us from 8:30pm until we get too tired to talk about airplanes\, show off our airplanes\, plan our next airplane projects\, and probably discuss some airplane history too. \nThis is the Zoom link for the meeting and the pass code is the same as the gate combination. \nGuests are welcome too – just use the Contact Us page to request a guest link to join in!
URL:https://www.1nvrc.com/event/virtual-workshop-chat/2022-03-23/
CATEGORIES:Static Events
ATTACH;FMTTYPE=image/jpeg:https://www.1nvrc.com/wp-content/uploads/2019/12/Workshop.jpg
END:VEVENT
BEGIN:VEVENT
DTSTART;TZID=America/New_York:20220317T193000
DTEND;TZID=America/New_York:20220317T203000
DTSTAMP:20260425T093034
CREATED:20210216T210310Z
LAST-MODIFIED:20211223T181907Z
UID:10000453-1647545400-1647549000@www.1nvrc.com
SUMMARY:VIRTUAL MONTHLY CLUB MEETING
DESCRIPTION:All meetings are open to the public and we encourage potential new members to join us. You’ll have to bring your own pizza and drinks as we are doing virtual meetings in this time of distancing. \nThis is the Zoom link for the meeting (https://us02web.zoom.us/j/4690492803) and the meeting pass code is the same as the gate combination. \nGuests are welcome too – just use the Contact Us page to request a guest link to join in!
URL:https://www.1nvrc.com/event/virtual-monthly-club-meeting-2/2022-03-17/
END:VEVENT
BEGIN:VEVENT
DTSTART;TZID=America/New_York:20220313T090000
DTEND;TZID=America/New_York:20220313T170000
DTSTAMP:20260425T093034
CREATED:20210227T035527Z
LAST-MODIFIED:20210227T035748Z
UID:10000168-1647162000-1647190800@www.1nvrc.com
SUMMARY:FPV Field Day
DESCRIPTION:In our new FPV format\, we are going to dedicate the second Sunday of each month as an FPV Field Day at Poplar Ford Field. Fixed wing line of sight RC activities are still permitted\, but need to give way for FPV fixed wing or multi-rotor activities which can include setting up race gates on the runway. \nOn these FPV Field Days\, all NVRC members wishing to fly fixed wing line of sight are welcome to use the Lorton Field – even if you do not have the normal Lorton membership tag on your badge.
URL:https://www.1nvrc.com/event/fpv-field-day/2022-03-13/
LOCATION:Poplar Ford Park\, 6714 Bull Run Post Office Road\, Centerville\, VA\, 20120\, United States
CATEGORIES:Flying Events,Multi-rotor Racing
ATTACH;FMTTYPE=image/jpeg:https://www.1nvrc.com/wp-content/uploads/2021/02/fpv-team.jpg
END:VEVENT
BEGIN:VEVENT
DTSTART;TZID=America/New_York:20220309T203000
DTEND;TZID=America/New_York:20220309T213000
DTSTAMP:20260425T093034
CREATED:20201008T022846Z
LAST-MODIFIED:20221219T155952Z
UID:10000380-1646857800-1646861400@www.1nvrc.com
SUMMARY:Virtual Workshop Chat
DESCRIPTION:Come join us from 8:30pm until we get too tired to talk about airplanes\, show off our airplanes\, plan our next airplane projects\, and probably discuss some airplane history too. \nThis is the Zoom link for the meeting and the pass code is the same as the gate combination. \nGuests are welcome too – just use the Contact Us page to request a guest link to join in!
URL:https://www.1nvrc.com/event/virtual-workshop-chat/2022-03-09/
CATEGORIES:Static Events
ATTACH;FMTTYPE=image/jpeg:https://www.1nvrc.com/wp-content/uploads/2019/12/Workshop.jpg
END:VEVENT
BEGIN:VEVENT
DTSTART;TZID=America/New_York:20220223T203000
DTEND;TZID=America/New_York:20220223T213000
DTSTAMP:20260425T093034
CREATED:20230204T022851Z
LAST-MODIFIED:20230204T022851Z
UID:10000408-1645648200-1645651800@www.1nvrc.com
SUMMARY:Virtual Workshop Chat
DESCRIPTION:Come join us from 8:30pm until we get too tired to talk about airplanes\, show off our airplanes\, plan our next airplane projects\, and probably discuss some airplane history too. \nThis is the Zoom link for the meeting and the pass code is the same as the gate combination. \nGuests are welcome too – just use the Contact Us page to request a guest link to join in!
URL:https://www.1nvrc.com/event/virtual-workshop-chat/2022-02-23/
CATEGORIES:Static Events
ATTACH;FMTTYPE=image/jpeg:https://www.1nvrc.com/wp-content/uploads/2019/12/Workshop.jpg
END:VEVENT
BEGIN:VEVENT
DTSTART;TZID=America/New_York:20220219T080000
DTEND;TZID=America/New_York:20220219T143000
DTSTAMP:20260425T093034
CREATED:20220120T162556Z
LAST-MODIFIED:20220120T171033Z
UID:10000229-1645257600-1645281000@www.1nvrc.com
SUMMARY:Poplar Ford Closed until 2:30pm for County Planting Work
DESCRIPTION:Saturday\, February 19th from 10 am to 2 pm the county will have a big planting event at Poplar Ford. They are planting about two thousand native herbaceous plant plugs (not trees) in the meadows surrounding the flying field. There will be at least two dozen volunteers and the parking spaces will be crowded in addition to many people in the overfly areas. \nThe field will be closed for flying until 2:30 to give the volunteers to safely be out of the overfly areas. \nYou are welcome to join for the rare plant planting too! There are no requirements\, except to bring working/garden gloves\, water and snacks for yourself\, and to be willing to get dirty. If you want to join in\, please send an email to jonathan.pruett@gmail.com before Wednesday Feb 16 so I coordinate headcount with the county lead and plan tools and work flow accordingly.
URL:https://www.1nvrc.com/event/poplar-ford-closed-until-230-for-county-planting-work/
LOCATION:Poplar Ford Park\, 6714 Bull Run Post Office Road\, Centerville\, VA\, 20120\, United States
ATTACH;FMTTYPE=image/jpeg:https://www.1nvrc.com/wp-content/uploads/2022/01/field-closed-sign.jpg
END:VEVENT
BEGIN:VEVENT
DTSTART;TZID=America/New_York:20220217T193000
DTEND;TZID=America/New_York:20220217T203000
DTSTAMP:20260425T093034
CREATED:20210216T210310Z
LAST-MODIFIED:20211223T181907Z
UID:10000452-1645126200-1645129800@www.1nvrc.com
SUMMARY:VIRTUAL MONTHLY CLUB MEETING
DESCRIPTION:All meetings are open to the public and we encourage potential new members to join us. You’ll have to bring your own pizza and drinks as we are doing virtual meetings in this time of distancing. \nThis is the Zoom link for the meeting (https://us02web.zoom.us/j/4690492803) and the meeting pass code is the same as the gate combination. \nGuests are welcome too – just use the Contact Us page to request a guest link to join in!
URL:https://www.1nvrc.com/event/virtual-monthly-club-meeting-2/2022-02-17/
END:VEVENT
BEGIN:VEVENT
DTSTART;TZID=America/New_York:20220213T090000
DTEND;TZID=America/New_York:20220213T170000
DTSTAMP:20260425T093034
CREATED:20210227T035527Z
LAST-MODIFIED:20210227T035748Z
UID:10000167-1644742800-1644771600@www.1nvrc.com
SUMMARY:FPV Field Day
DESCRIPTION:In our new FPV format\, we are going to dedicate the second Sunday of each month as an FPV Field Day at Poplar Ford Field. Fixed wing line of sight RC activities are still permitted\, but need to give way for FPV fixed wing or multi-rotor activities which can include setting up race gates on the runway. \nOn these FPV Field Days\, all NVRC members wishing to fly fixed wing line of sight are welcome to use the Lorton Field – even if you do not have the normal Lorton membership tag on your badge.
URL:https://www.1nvrc.com/event/fpv-field-day/2022-02-13/
LOCATION:Poplar Ford Park\, 6714 Bull Run Post Office Road\, Centerville\, VA\, 20120\, United States
CATEGORIES:Flying Events,Multi-rotor Racing
ATTACH;FMTTYPE=image/jpeg:https://www.1nvrc.com/wp-content/uploads/2021/02/fpv-team.jpg
END:VEVENT
BEGIN:VEVENT
DTSTART;TZID=America/New_York:20220209T203000
DTEND;TZID=America/New_York:20220209T213000
DTSTAMP:20260425T093034
CREATED:20201008T022846Z
LAST-MODIFIED:20221219T155952Z
UID:10000379-1644438600-1644442200@www.1nvrc.com
SUMMARY:Virtual Workshop Chat
DESCRIPTION:Come join us from 8:30pm until we get too tired to talk about airplanes\, show off our airplanes\, plan our next airplane projects\, and probably discuss some airplane history too. \nThis is the Zoom link for the meeting and the pass code is the same as the gate combination. \nGuests are welcome too – just use the Contact Us page to request a guest link to join in!
URL:https://www.1nvrc.com/event/virtual-workshop-chat/2022-02-09/
CATEGORIES:Static Events
ATTACH;FMTTYPE=image/jpeg:https://www.1nvrc.com/wp-content/uploads/2019/12/Workshop.jpg
END:VEVENT
BEGIN:VEVENT
DTSTART;TZID=America/New_York:20220206T090000
DTEND;TZID=America/New_York:20220206T120000
DTSTAMP:20260425T093034
CREATED:20220202T031828Z
LAST-MODIFIED:20220205T013931Z
UID:10000230-1644138000-1644148800@www.1nvrc.com
SUMMARY:NVRC Snow Fly
DESCRIPTION:Time for the first fun fly of 2022!  Fun Flys are exactly what they sound like – fun\, social events that are accessible to any qualified pilot.  Typical challenges include timed flight\, spot landings\, and basic acrobatics.  All NVRC members that are qualified pilots are welcome to participate.  Brave the cold this Saturday and dust off your airplanes! \nDon’t forget the Lorton sign-in procedures… \nLocation: Lorton Burnett Field\nDate: Saturday\, February 6\, 2022\nTime: 9am-12pm (at the latest)\nPre-Register* here: Register \n*Pre-Registration is not required\, but it helps us communicate to you in case of last-minute changes
URL:https://www.1nvrc.com/event/nvrc-snow-fly-2/
LOCATION:Lorton/Burnett Field\, 9800 Furnace Road\, Lorton\, VA\, 22079\, United States
CATEGORIES:Flying Events,Outdoor Fun Fly
END:VEVENT
BEGIN:VEVENT
DTSTART;TZID=America/New_York:20220205T080000
DTEND;TZID=America/New_York:20220205T120000
DTSTAMP:20260425T093034
CREATED:20211011T012117Z
LAST-MODIFIED:20211011T012117Z
UID:10000223-1644048000-1644062400@www.1nvrc.com
SUMMARY:Newport News RC Swap Meet
DESCRIPTION:5 February 2022 Newport News RC Club Swap Meet and its a go. Reservations are now being taken so please reserve early. 84 tables available and if previous years show\, they sell fast. Our last impromptu swap meet at the field earlier this year was very successful and this one looks to be no different. Flyer for the event is attached so spread it around and spread the word.  \nReservations are being taken now but no money will be paid till the day the event. Please\, no exceptions. Please remember to keep your confirmation email when you reserve your table.  Our intent is to keep all money transactions limited to the day of the event in case local regulations make us cancel. Fingers crossed this doesn’t happen. Reservations can be done by either replying to this email or the email listed on the flyer. We will be raffling off a Spectrum NX10 Radio. Hope to see you there.  \nTodd Smith\nNNPRCC President
URL:https://www.1nvrc.com/event/newport-news-rc-swap-meet/
CATEGORIES:Static Events
END:VEVENT
BEGIN:VEVENT
DTSTART;TZID=America/New_York:20220126T203000
DTEND;TZID=America/New_York:20220126T213000
DTSTAMP:20260425T093034
CREATED:20230204T022851Z
LAST-MODIFIED:20230204T022851Z
UID:10000407-1643229000-1643232600@www.1nvrc.com
SUMMARY:Virtual Workshop Chat
DESCRIPTION:Come join us from 8:30pm until we get too tired to talk about airplanes\, show off our airplanes\, plan our next airplane projects\, and probably discuss some airplane history too. \nThis is the Zoom link for the meeting and the pass code is the same as the gate combination. \nGuests are welcome too – just use the Contact Us page to request a guest link to join in!
URL:https://www.1nvrc.com/event/virtual-workshop-chat/2022-01-26/
CATEGORIES:Static Events
ATTACH;FMTTYPE=image/jpeg:https://www.1nvrc.com/wp-content/uploads/2019/12/Workshop.jpg
END:VEVENT
BEGIN:VEVENT
DTSTART;TZID=America/New_York:20220120T193000
DTEND;TZID=America/New_York:20220120T203000
DTSTAMP:20260425T093034
CREATED:20210216T210310Z
LAST-MODIFIED:20211223T181907Z
UID:10000451-1642707000-1642710600@www.1nvrc.com
SUMMARY:VIRTUAL MONTHLY CLUB MEETING
DESCRIPTION:All meetings are open to the public and we encourage potential new members to join us. You’ll have to bring your own pizza and drinks as we are doing virtual meetings in this time of distancing. \nThis is the Zoom link for the meeting (https://us02web.zoom.us/j/4690492803) and the meeting pass code is the same as the gate combination. \nGuests are welcome too – just use the Contact Us page to request a guest link to join in!
URL:https://www.1nvrc.com/event/virtual-monthly-club-meeting-2/2022-01-20/
END:VEVENT
BEGIN:VEVENT
DTSTART;TZID=America/New_York:20220112T203000
DTEND;TZID=America/New_York:20220112T213000
DTSTAMP:20260425T093034
CREATED:20201008T022846Z
LAST-MODIFIED:20221219T155952Z
UID:10000378-1642019400-1642023000@www.1nvrc.com
SUMMARY:Virtual Workshop Chat
DESCRIPTION:Come join us from 8:30pm until we get too tired to talk about airplanes\, show off our airplanes\, plan our next airplane projects\, and probably discuss some airplane history too. \nThis is the Zoom link for the meeting and the pass code is the same as the gate combination. \nGuests are welcome too – just use the Contact Us page to request a guest link to join in!
URL:https://www.1nvrc.com/event/virtual-workshop-chat/2022-01-12/
CATEGORIES:Static Events
ATTACH;FMTTYPE=image/jpeg:https://www.1nvrc.com/wp-content/uploads/2019/12/Workshop.jpg
END:VEVENT
BEGIN:VEVENT
DTSTART;TZID=America/New_York:20220109T090000
DTEND;TZID=America/New_York:20220109T170000
DTSTAMP:20260425T093034
CREATED:20210227T035527Z
LAST-MODIFIED:20210227T035748Z
UID:10000166-1641718800-1641747600@www.1nvrc.com
SUMMARY:FPV Field Day
DESCRIPTION:In our new FPV format\, we are going to dedicate the second Sunday of each month as an FPV Field Day at Poplar Ford Field. Fixed wing line of sight RC activities are still permitted\, but need to give way for FPV fixed wing or multi-rotor activities which can include setting up race gates on the runway. \nOn these FPV Field Days\, all NVRC members wishing to fly fixed wing line of sight are welcome to use the Lorton Field – even if you do not have the normal Lorton membership tag on your badge.
URL:https://www.1nvrc.com/event/fpv-field-day/2022-01-09/
LOCATION:Poplar Ford Park\, 6714 Bull Run Post Office Road\, Centerville\, VA\, 20120\, United States
CATEGORIES:Flying Events,Multi-rotor Racing
ATTACH;FMTTYPE=image/jpeg:https://www.1nvrc.com/wp-content/uploads/2021/02/fpv-team.jpg
END:VEVENT
BEGIN:VEVENT
DTSTART;TZID=America/New_York:20211222T203000
DTEND;TZID=America/New_York:20211222T213000
DTSTAMP:20260425T093034
CREATED:20230204T022851Z
LAST-MODIFIED:20230204T022851Z
UID:10000406-1640205000-1640208600@www.1nvrc.com
SUMMARY:Virtual Workshop Chat
DESCRIPTION:Come join us from 8:30pm until we get too tired to talk about airplanes\, show off our airplanes\, plan our next airplane projects\, and probably discuss some airplane history too. \nThis is the Zoom link for the meeting and the pass code is the same as the gate combination. \nGuests are welcome too – just use the Contact Us page to request a guest link to join in!
URL:https://www.1nvrc.com/event/virtual-workshop-chat/2021-12-22/
CATEGORIES:Static Events
ATTACH;FMTTYPE=image/jpeg:https://www.1nvrc.com/wp-content/uploads/2019/12/Workshop.jpg
END:VEVENT
BEGIN:VEVENT
DTSTART;TZID=America/New_York:20211216T193000
DTEND;TZID=America/New_York:20211216T203000
DTSTAMP:20260425T093034
CREATED:20210216T210310Z
LAST-MODIFIED:20211223T181907Z
UID:10000450-1639683000-1639686600@www.1nvrc.com
SUMMARY:VIRTUAL MONTHLY CLUB MEETING
DESCRIPTION:All meetings are open to the public and we encourage potential new members to join us. You’ll have to bring your own pizza and drinks as we are doing virtual meetings in this time of distancing. \nThis is the Zoom link for the meeting (https://us02web.zoom.us/j/4690492803) and the meeting pass code is the same as the gate combination. \nGuests are welcome too – just use the Contact Us page to request a guest link to join in!
URL:https://www.1nvrc.com/event/virtual-monthly-club-meeting-2/2021-12-16/
END:VEVENT
BEGIN:VEVENT
DTSTART;TZID=America/New_York:20211212T090000
DTEND;TZID=America/New_York:20211212T170000
DTSTAMP:20260425T093034
CREATED:20210227T035527Z
LAST-MODIFIED:20210227T035748Z
UID:10000165-1639299600-1639328400@www.1nvrc.com
SUMMARY:FPV Field Day
DESCRIPTION:In our new FPV format\, we are going to dedicate the second Sunday of each month as an FPV Field Day at Poplar Ford Field. Fixed wing line of sight RC activities are still permitted\, but need to give way for FPV fixed wing or multi-rotor activities which can include setting up race gates on the runway. \nOn these FPV Field Days\, all NVRC members wishing to fly fixed wing line of sight are welcome to use the Lorton Field – even if you do not have the normal Lorton membership tag on your badge.
URL:https://www.1nvrc.com/event/fpv-field-day/2021-12-12/
LOCATION:Poplar Ford Park\, 6714 Bull Run Post Office Road\, Centerville\, VA\, 20120\, United States
CATEGORIES:Flying Events,Multi-rotor Racing
ATTACH;FMTTYPE=image/jpeg:https://www.1nvrc.com/wp-content/uploads/2021/02/fpv-team.jpg
END:VEVENT
BEGIN:VEVENT
DTSTART;TZID=America/New_York:20211208T203000
DTEND;TZID=America/New_York:20211208T213000
DTSTAMP:20260425T093034
CREATED:20201008T022846Z
LAST-MODIFIED:20221219T155952Z
UID:10000377-1638995400-1638999000@www.1nvrc.com
SUMMARY:Virtual Workshop Chat
DESCRIPTION:Come join us from 8:30pm until we get too tired to talk about airplanes\, show off our airplanes\, plan our next airplane projects\, and probably discuss some airplane history too. \nThis is the Zoom link for the meeting and the pass code is the same as the gate combination. \nGuests are welcome too – just use the Contact Us page to request a guest link to join in!
URL:https://www.1nvrc.com/event/virtual-workshop-chat/2021-12-08/
CATEGORIES:Static Events
ATTACH;FMTTYPE=image/jpeg:https://www.1nvrc.com/wp-content/uploads/2019/12/Workshop.jpg
END:VEVENT
BEGIN:VEVENT
DTSTART;VALUE=DATE:20211204
DTEND;VALUE=DATE:20211205
DTSTAMP:20260425T093034
CREATED:20210228T015729Z
LAST-MODIFIED:20210228T015729Z
UID:10000200-1638576000-1638662399@www.1nvrc.com
SUMMARY:FARM and Culpepper Club's Holiday Parties
DESCRIPTION:
URL:https://www.1nvrc.com/event/farm-and-culpepper-clubs-holiday-parties/
CATEGORIES:Static Events
END:VEVENT
BEGIN:VEVENT
DTSTART;TZID=America/New_York:20211124T203000
DTEND;TZID=America/New_York:20211124T213000
DTSTAMP:20260425T093034
CREATED:20230204T022851Z
LAST-MODIFIED:20230204T022851Z
UID:10000405-1637785800-1637789400@www.1nvrc.com
SUMMARY:Virtual Workshop Chat
DESCRIPTION:Come join us from 8:30pm until we get too tired to talk about airplanes\, show off our airplanes\, plan our next airplane projects\, and probably discuss some airplane history too. \nThis is the Zoom link for the meeting and the pass code is the same as the gate combination. \nGuests are welcome too – just use the Contact Us page to request a guest link to join in!
URL:https://www.1nvrc.com/event/virtual-workshop-chat/2021-11-24/
CATEGORIES:Static Events
ATTACH;FMTTYPE=image/jpeg:https://www.1nvrc.com/wp-content/uploads/2019/12/Workshop.jpg
END:VEVENT
BEGIN:VEVENT
DTSTART;TZID=America/New_York:20211118T193000
DTEND;TZID=America/New_York:20211118T203000
DTSTAMP:20260425T093034
CREATED:20210216T210310Z
LAST-MODIFIED:20211223T181907Z
UID:10000449-1637263800-1637267400@www.1nvrc.com
SUMMARY:VIRTUAL MONTHLY CLUB MEETING
DESCRIPTION:All meetings are open to the public and we encourage potential new members to join us. You’ll have to bring your own pizza and drinks as we are doing virtual meetings in this time of distancing. \nThis is the Zoom link for the meeting (https://us02web.zoom.us/j/4690492803) and the meeting pass code is the same as the gate combination. \nGuests are welcome too – just use the Contact Us page to request a guest link to join in!
URL:https://www.1nvrc.com/event/virtual-monthly-club-meeting-2/2021-11-18/
END:VEVENT
BEGIN:VEVENT
DTSTART;TZID=America/New_York:20211114T090000
DTEND;TZID=America/New_York:20211114T170000
DTSTAMP:20260425T093034
CREATED:20210227T035527Z
LAST-MODIFIED:20210227T035748Z
UID:10000164-1636880400-1636909200@www.1nvrc.com
SUMMARY:FPV Field Day
DESCRIPTION:In our new FPV format\, we are going to dedicate the second Sunday of each month as an FPV Field Day at Poplar Ford Field. Fixed wing line of sight RC activities are still permitted\, but need to give way for FPV fixed wing or multi-rotor activities which can include setting up race gates on the runway. \nOn these FPV Field Days\, all NVRC members wishing to fly fixed wing line of sight are welcome to use the Lorton Field – even if you do not have the normal Lorton membership tag on your badge.
URL:https://www.1nvrc.com/event/fpv-field-day/2021-11-14/
LOCATION:Poplar Ford Park\, 6714 Bull Run Post Office Road\, Centerville\, VA\, 20120\, United States
CATEGORIES:Flying Events,Multi-rotor Racing
ATTACH;FMTTYPE=image/jpeg:https://www.1nvrc.com/wp-content/uploads/2021/02/fpv-team.jpg
END:VEVENT
BEGIN:VEVENT
DTSTART;TZID=America/New_York:20211113T090000
DTEND;TZID=America/New_York:20211113T160000
DTSTAMP:20260425T093034
CREATED:20211109T175614Z
LAST-MODIFIED:20211109T175614Z
UID:10000228-1636794000-1636819200@www.1nvrc.com
SUMMARY:Hannover RC Bonfires & Birds
DESCRIPTION:
URL:https://www.1nvrc.com/event/hannover-rc-bonfires-birds/
CATEGORIES:Flying Events,Outdoor Fun Fly
END:VEVENT
BEGIN:VEVENT
DTSTART;TZID=America/New_York:20211113T090000
DTEND;TZID=America/New_York:20211113T120000
DTSTAMP:20260425T093034
CREATED:20200308T022924Z
LAST-MODIFIED:20211110T185839Z
UID:10000341-1636794000-1636804800@www.1nvrc.com
SUMMARY:Toys for Tots Fun Fly
DESCRIPTION:
URL:https://www.1nvrc.com/event/toys-for-tots-fun-fly-3/
LOCATION:Poplar Ford Park\, 6714 Bull Run Post Office Road\, Centerville\, VA\, 20120\, United States
CATEGORIES:Flying Events,Outdoor Fun Fly
ATTACH;FMTTYPE=image/jpeg:https://www.1nvrc.com/wp-content/uploads/2008/09/toysfortots.jpg
END:VEVENT
BEGIN:VEVENT
DTSTART;TZID=America/New_York:20211110T203000
DTEND;TZID=America/New_York:20211110T213000
DTSTAMP:20260425T093034
CREATED:20201008T022846Z
LAST-MODIFIED:20221219T155952Z
UID:10000376-1636576200-1636579800@www.1nvrc.com
SUMMARY:Virtual Workshop Chat
DESCRIPTION:Come join us from 8:30pm until we get too tired to talk about airplanes\, show off our airplanes\, plan our next airplane projects\, and probably discuss some airplane history too. \nThis is the Zoom link for the meeting and the pass code is the same as the gate combination. \nGuests are welcome too – just use the Contact Us page to request a guest link to join in!
URL:https://www.1nvrc.com/event/virtual-workshop-chat/2021-11-10/
CATEGORIES:Static Events
ATTACH;FMTTYPE=image/jpeg:https://www.1nvrc.com/wp-content/uploads/2019/12/Workshop.jpg
END:VEVENT
BEGIN:VEVENT
DTSTART;TZID=America/New_York:20211106T080000
DTEND;TZID=America/New_York:20211106T150000
DTSTAMP:20260425T093034
CREATED:20210920T230629Z
LAST-MODIFIED:20211104T234456Z
UID:10000494-1636185600-1636210800@www.1nvrc.com
SUMMARY:-CANCLLED- West Potomac HS Indoor Fly
DESCRIPTION:*****************\nCancelled due to low turnout response. Hopefully we can get better response for the February event!\n****************** \nIf you are planning on attending the Nov 6th Fun Fly\, please RSVP ASAP to JFranco@fcps.edu\nWe need to verify we will have the attendance needed to justify the effort of hosting this event. \nPlease note: \n****** You will be in a FCPS Public school\, you will need to be wearing a mask at all times while you are inside ****** \nSaturday\, November 6 from 8:00 AM to 3:00 PM\, main gym \nFree Flight and RC welcome.\nConcessions will be available. \nThanks\,\nJoe\n—\nHi Everyone\, \nWE ARE BACK IN ACTION!!!! \nThis is a ‘Save the Date’ email about the Two West Potomac High School Events coming up. \nSaturday\, November 6 from 8:00 AM to 3:00 PM\, main gym \nSaturday\, February 12 from 8:00 AM to 3:00 PM\, main gym \nAs the dates approach more detailed info will come. \nPlease spread the word so we can keep these events going. \nThanks\, \nJoe
URL:https://www.1nvrc.com/event/west-potomac-hs-indoor-fly/
LOCATION:West Potomac High School\, 6500 Quander Road\, Alexandria \, VA\, 22307\, United States
CATEGORIES:Flying Events,Indoor Fun Fly
END:VEVENT
BEGIN:VEVENT
DTSTART;TZID=America/New_York:20211030T080000
DTEND;TZID=America/New_York:20211030T120000
DTSTAMP:20260425T093034
CREATED:20200308T005543Z
LAST-MODIFIED:20211029T142155Z
UID:10000342-1635580800-1635595200@www.1nvrc.com
SUMMARY:NVRC RC Auction!
DESCRIPTION:NVRC Radio Control (Silent) Auction! After the success of the summer auction at the field\, we’re doing again but bigger! Come out for a silent auction with bid sheets that will close in three waves over the morning\, a fixed price area\, and plenty of fun!  \n \nYou can download and prepare bid sheets to speed up the check-in/setup process\, and there will be extra copies at the event too.  \nNVRC 2021 Auction Bid Sheet \nNVRC 2021 Fixed Price Sheet \nKeep an eye on the website and join the mailing list so you don’t miss any news – see you there!
URL:https://www.1nvrc.com/event/rc-auction-3/
LOCATION:Poplar Ford Park\, 6714 Bull Run Post Office Road\, Centerville\, VA\, 20120\, United States
CATEGORIES:Static Events
END:VEVENT
BEGIN:VEVENT
DTSTART;TZID=America/New_York:20211027T203000
DTEND;TZID=America/New_York:20211027T213000
DTSTAMP:20260425T093034
CREATED:20230204T022851Z
LAST-MODIFIED:20230204T022851Z
UID:10000404-1635366600-1635370200@www.1nvrc.com
SUMMARY:Virtual Workshop Chat
DESCRIPTION:Come join us from 8:30pm until we get too tired to talk about airplanes\, show off our airplanes\, plan our next airplane projects\, and probably discuss some airplane history too. \nThis is the Zoom link for the meeting and the pass code is the same as the gate combination. \nGuests are welcome too – just use the Contact Us page to request a guest link to join in!
URL:https://www.1nvrc.com/event/virtual-workshop-chat/2021-10-27/
CATEGORIES:Static Events
ATTACH;FMTTYPE=image/jpeg:https://www.1nvrc.com/wp-content/uploads/2019/12/Workshop.jpg
END:VEVENT
END:VCALENDAR