BEGIN:VCALENDAR
VERSION:2.0
PRODID:-//Northern Virginia Radio Control - NVRC - ECPv6.15.20//NONSGML v1.0//EN
CALSCALE:GREGORIAN
METHOD:PUBLISH
X-WR-CALNAME:Northern Virginia Radio Control - NVRC
X-ORIGINAL-URL:https://www.1nvrc.com
X-WR-CALDESC:Events for Northern Virginia Radio Control - NVRC
REFRESH-INTERVAL;VALUE=DURATION:PT1H
X-Robots-Tag:noindex
X-PUBLISHED-TTL:PT1H
BEGIN:VTIMEZONE
TZID:America/New_York
BEGIN:DAYLIGHT
TZOFFSETFROM:-0500
TZOFFSETTO:-0400
TZNAME:EDT
DTSTART:20190310T070000
END:DAYLIGHT
BEGIN:STANDARD
TZOFFSETFROM:-0400
TZOFFSETTO:-0500
TZNAME:EST
DTSTART:20191103T060000
END:STANDARD
BEGIN:DAYLIGHT
TZOFFSETFROM:-0500
TZOFFSETTO:-0400
TZNAME:EDT
DTSTART:20200308T070000
END:DAYLIGHT
BEGIN:STANDARD
TZOFFSETFROM:-0400
TZOFFSETTO:-0500
TZNAME:EST
DTSTART:20201101T060000
END:STANDARD
BEGIN:DAYLIGHT
TZOFFSETFROM:-0500
TZOFFSETTO:-0400
TZNAME:EDT
DTSTART:20210314T070000
END:DAYLIGHT
BEGIN:STANDARD
TZOFFSETFROM:-0400
TZOFFSETTO:-0500
TZNAME:EST
DTSTART:20211107T060000
END:STANDARD
BEGIN:DAYLIGHT
TZOFFSETFROM:-0500
TZOFFSETTO:-0400
TZNAME:EDT
DTSTART:20220313T070000
END:DAYLIGHT
BEGIN:STANDARD
TZOFFSETFROM:-0400
TZOFFSETTO:-0500
TZNAME:EST
DTSTART:20221106T060000
END:STANDARD
END:VTIMEZONE
BEGIN:VEVENT
DTSTART;VALUE=DATE:20210515
DTEND;VALUE=DATE:20210516
DTSTAMP:20260425T090921
CREATED:20210227T043402Z
LAST-MODIFIED:20210227T043402Z
UID:10000463-1621036800-1621123199@www.1nvrc.com
SUMMARY:Joe Nall & NC Pattern Contest
DESCRIPTION:A busy weekend for flying!
URL:https://www.1nvrc.com/event/joe-nall-nc-pattern-contest/
CATEGORIES:Flying Events
END:VEVENT
BEGIN:VEVENT
DTSTART;TZID=America/New_York:20210512T203000
DTEND;TZID=America/New_York:20210512T213000
DTSTAMP:20260425T090921
CREATED:20201008T022846Z
LAST-MODIFIED:20221219T155952Z
UID:10000370-1620851400-1620855000@www.1nvrc.com
SUMMARY:Virtual Workshop Chat
DESCRIPTION:Come join us from 8:30pm until we get too tired to talk about airplanes\, show off our airplanes\, plan our next airplane projects\, and probably discuss some airplane history too. \nThis is the Zoom link for the meeting and the pass code is the same as the gate combination. \nGuests are welcome too – just use the Contact Us page to request a guest link to join in!
URL:https://www.1nvrc.com/event/virtual-workshop-chat/2021-05-12/
CATEGORIES:Static Events
ATTACH;FMTTYPE=image/jpeg:https://www.1nvrc.com/wp-content/uploads/2019/12/Workshop.jpg
END:VEVENT
BEGIN:VEVENT
DTSTART;TZID=America/New_York:20210509T090000
DTEND;TZID=America/New_York:20210509T170000
DTSTAMP:20260425T090921
CREATED:20210227T035527Z
LAST-MODIFIED:20210227T035748Z
UID:10000158-1620550800-1620579600@www.1nvrc.com
SUMMARY:FPV Field Day
DESCRIPTION:In our new FPV format\, we are going to dedicate the second Sunday of each month as an FPV Field Day at Poplar Ford Field. Fixed wing line of sight RC activities are still permitted\, but need to give way for FPV fixed wing or multi-rotor activities which can include setting up race gates on the runway. \nOn these FPV Field Days\, all NVRC members wishing to fly fixed wing line of sight are welcome to use the Lorton Field – even if you do not have the normal Lorton membership tag on your badge.
URL:https://www.1nvrc.com/event/fpv-field-day/2021-05-09/
LOCATION:Poplar Ford Park\, 6714 Bull Run Post Office Road\, Centerville\, VA\, 20120\, United States
CATEGORIES:Flying Events,Multi-rotor Racing
ATTACH;FMTTYPE=image/jpeg:https://www.1nvrc.com/wp-content/uploads/2021/02/fpv-team.jpg
END:VEVENT
BEGIN:VEVENT
DTSTART;TZID=America/New_York:20210508T090000
DTEND;TZID=America/New_York:20210508T140000
DTSTAMP:20260425T090921
CREATED:20210227T042436Z
LAST-MODIFIED:20210227T042436Z
UID:10000458-1620464400-1620482400@www.1nvrc.com
SUMMARY:Poplar Ford Field Day
DESCRIPTION:Come on out and help prepare the field for the season! Flight stand repairs\, shed painting\, fence fixing\, sign installation\, etc.
URL:https://www.1nvrc.com/event/poplar-ford-field-day/
LOCATION:Poplar Ford Park\, 6714 Bull Run Post Office Road\, Centerville\, VA\, 20120\, United States
END:VEVENT
BEGIN:VEVENT
DTSTART;TZID=America/New_York:20210501T080000
DTEND;TZID=America/New_York:20210501T150000
DTSTAMP:20260425T090921
CREATED:20210414T170835Z
LAST-MODIFIED:20210414T171938Z
UID:10000474-1619856000-1619881200@www.1nvrc.com
SUMMARY:Hanover Swap Meet & Fun Fly
DESCRIPTION:Swap meet and fun fly May 1st from 8am – 3pm at the Hanover RC Flying Club located in Mechanicsville Va. 3449 Mechanicsville Turnpike Mechanicsville VA 23111 \n\nWe will have food\, drinks\, door prizes\, Raffles and 50/50.\nSwap Spot $10\nLanding Fee  – FREE
URL:https://www.1nvrc.com/event/hanover-swap-meet-fun-fly/
CATEGORIES:Outdoor Fun Fly,Static Events
END:VEVENT
BEGIN:VEVENT
DTSTART;TZID=America/New_York:20210428T203000
DTEND;TZID=America/New_York:20210428T213000
DTSTAMP:20260425T090921
CREATED:20230204T022851Z
LAST-MODIFIED:20230204T022851Z
UID:10000398-1619641800-1619645400@www.1nvrc.com
SUMMARY:Virtual Workshop Chat
DESCRIPTION:Come join us from 8:30pm until we get too tired to talk about airplanes\, show off our airplanes\, plan our next airplane projects\, and probably discuss some airplane history too. \nThis is the Zoom link for the meeting and the pass code is the same as the gate combination. \nGuests are welcome too – just use the Contact Us page to request a guest link to join in!
URL:https://www.1nvrc.com/event/virtual-workshop-chat/2021-04-28/
CATEGORIES:Static Events
ATTACH;FMTTYPE=image/jpeg:https://www.1nvrc.com/wp-content/uploads/2019/12/Workshop.jpg
END:VEVENT
BEGIN:VEVENT
DTSTART;TZID=America/New_York:20210426T080000
DTEND;TZID=America/New_York:20210501T170000
DTSTAMP:20260425T090921
CREATED:20210317T020300Z
LAST-MODIFIED:20210317T022535Z
UID:10000209-1619424000-1619888400@www.1nvrc.com
SUMMARY:Southern Electric Fun Fly (SEFF)\, Americus\, GA
DESCRIPTION:One of the largest electric flyins\, very popular with all who attend for great food\, flying field and great hospitality. \nwww.seffweek.com \n\nScott Fisher will be leading our “NVRC delegation” to this year’s Southern Electric Fun Fly (SEFF). \nThis event has a long history\, and was started by the RC Legend Mac Hodges\, This video shows Mac and the event ( https://www.youtube.com/watch?v=I7EScXFmoxw ). It is one of the largest electric flyins\, very popular with all who attend. \nThe event has a reputation for great weather\, a great flying field\, and super on-site food (though this year there will not likely be onsite food). \nIf you are interested in going\, please go to the online registration and send Scott an email so he can arrange for a group spot.
URL:https://www.1nvrc.com/event/southern-electric-fun-fly-seff-americus-ga/
END:VEVENT
BEGIN:VEVENT
DTSTART;TZID=America/New_York:20210424T090000
DTEND;TZID=America/New_York:20210424T130000
DTSTAMP:20260425T090921
CREATED:20210412T183322Z
LAST-MODIFIED:20210412T183323Z
UID:10000475-1619254800-1619269200@www.1nvrc.com
SUMMARY:GWU RC Competition Demonstration
DESCRIPTION:For a few weeks NVRC has been helping the George Washington University aeronautics team with their intramural radio control airplane competition and they are excited to share what they have made! Come see them deploy and retrieve a sensor while in flight! This year the team leaped forward from a history of not having a succesfull flying aircraft to crushing the competition and now being ranked 22 globally!
URL:https://www.1nvrc.com/event/gwu-rc-competition-demonstration/
LOCATION:Poplar Ford Park\, 6714 Bull Run Post Office Road\, Centerville\, VA\, 20120\, United States
CATEGORIES:Flying Events
END:VEVENT
BEGIN:VEVENT
DTSTART;TZID=America/New_York:20210424T080000
DTEND;TZID=America/New_York:20210424T120000
DTSTAMP:20260425T090921
CREATED:20210227T041803Z
LAST-MODIFIED:20210227T041803Z
UID:10000456-1619251200-1619265600@www.1nvrc.com
SUMMARY:Lorton Field Day
DESCRIPTION:Come on out and help prepare the field for the season! Flight stand repairs\, fence fixing\, sign installation\, etc.
URL:https://www.1nvrc.com/event/lorton-field-day/
LOCATION:Lorton/Burnett Field\, 9800 Furnace Road\, Lorton\, VA\, 22079\, United States
END:VEVENT
BEGIN:VEVENT
DTSTART;TZID=America/New_York:20210417T090000
DTEND;TZID=America/New_York:20210417T090000
DTSTAMP:20260425T090921
CREATED:20200308T005252Z
LAST-MODIFIED:20210413T173455Z
UID:10000343-1618650000-1618650000@www.1nvrc.com
SUMMARY:Vintage RC Fly & Tell
DESCRIPTION:It’s a gathering of the Northern Virginia Vintage Radio Control Society – NVVRCS for short! Just rolls off the tongue\, doesn’t it! \nThe Vintage Radio Control Society celebrates the history of RC aeromodeling\, specifically planes designed for radio control more than 35 years ago (pre 1984 this year). More information on the VRCS is at their website here http://vintagercsociety.org/cms3/ and in a great article here http://modelaviation.com/vrcs \nThis gathering will be a vintage “Fly and Tell” for telling the stories of these great planes\, how they came to be\, how they influenced us as individuals. We will have some friendly competition and prizes too\, and the field is not closed to other flyers so come on out with your planes\, old or new\, and see what’s going on!
URL:https://www.1nvrc.com/event/vintage-rc-fly-tell-3/
LOCATION:Poplar Ford Park\, 6714 Bull Run Post Office Road\, Centerville\, VA\, 20120\, United States
CATEGORIES:Flying Events
ATTACH;FMTTYPE=image/jpeg:https://www.1nvrc.com/wp-content/uploads/2019/12/2019-NVVRC-Fly-and-Tell.jpg
ORGANIZER;CN="NVVRCS":MAILTO:jonathan.pruett@gmail.com
END:VEVENT
BEGIN:VEVENT
DTSTART;TZID=America/New_York:20210415T193000
DTEND;TZID=America/New_York:20210415T203000
DTSTAMP:20260425T090921
CREATED:20210216T210310Z
LAST-MODIFIED:20211223T181907Z
UID:10000445-1618515000-1618518600@www.1nvrc.com
SUMMARY:VIRTUAL MONTHLY CLUB MEETING
DESCRIPTION:All meetings are open to the public and we encourage potential new members to join us. You’ll have to bring your own pizza and drinks as we are doing virtual meetings in this time of distancing. \nThis is the Zoom link for the meeting (https://us02web.zoom.us/j/4690492803) and the meeting pass code is the same as the gate combination. \nGuests are welcome too – just use the Contact Us page to request a guest link to join in!
URL:https://www.1nvrc.com/event/virtual-monthly-club-meeting-2/2021-04-15/
END:VEVENT
BEGIN:VEVENT
DTSTART;TZID=America/New_York:20210411T090000
DTEND;TZID=America/New_York:20210411T170000
DTSTAMP:20260425T090921
CREATED:20210227T035527Z
LAST-MODIFIED:20210227T035748Z
UID:10000157-1618131600-1618160400@www.1nvrc.com
SUMMARY:FPV Field Day
DESCRIPTION:In our new FPV format\, we are going to dedicate the second Sunday of each month as an FPV Field Day at Poplar Ford Field. Fixed wing line of sight RC activities are still permitted\, but need to give way for FPV fixed wing or multi-rotor activities which can include setting up race gates on the runway. \nOn these FPV Field Days\, all NVRC members wishing to fly fixed wing line of sight are welcome to use the Lorton Field – even if you do not have the normal Lorton membership tag on your badge.
URL:https://www.1nvrc.com/event/fpv-field-day/2021-04-11/
LOCATION:Poplar Ford Park\, 6714 Bull Run Post Office Road\, Centerville\, VA\, 20120\, United States
CATEGORIES:Flying Events,Multi-rotor Racing
ATTACH;FMTTYPE=image/jpeg:https://www.1nvrc.com/wp-content/uploads/2021/02/fpv-team.jpg
END:VEVENT
BEGIN:VEVENT
DTSTART;TZID=America/New_York:20210410T080000
DTEND;TZID=America/New_York:20210410T170000
DTSTAMP:20260425T090921
CREATED:20210317T020155Z
LAST-MODIFIED:20210317T020155Z
UID:10000207-1618041600-1618074000@www.1nvrc.com
SUMMARY:21st Annual Skyking RC Flyin\, Winston Salem\, NC
DESCRIPTION:Event Sponsor: Hobby Park RCersEvent Category: RC ElectricEvent Class: Class CDescription: THIS WILL BE A ELECTRIC EVENT only WE HAVE A 1200′ GRASS RUNWAY AND 300′ ASPHALT\nPILOT’S MEETING 10:00pm\nLUNCH 12:30 Dog’s Chip’s and Drink\nRAFFLE 2PM RC plane RELATED\nWE HAVE 4 CHARGING STATIONS 16 ELECTRICAL OUTLETS\nLOOK FORWARD TO SEEING YOU THEREEvent Website: FACEBOOKEvent Code: 10901\nEvent Contact: VANCE JONES Contact Information: Phone: (336)831-7565\, Email: vancejones1@aol.com Site Detail: 2301 W Clemmonsville Rd\, Winston Salem\, NC\, 27127
URL:https://www.1nvrc.com/event/21st-annual-skyking-rc-flyin-winston-salem-nc/
END:VEVENT
BEGIN:VEVENT
DTSTART;TZID=America/New_York:20210409T080000
DTEND;TZID=America/New_York:20210411T170000
DTSTAMP:20260425T090921
CREATED:20210317T020017Z
LAST-MODIFIED:20210317T020043Z
UID:10000204-1617955200-1618160400@www.1nvrc.com
SUMMARY:Toledo Funfly\, Show and Swapmeet\, Toledo OH
DESCRIPTION:
URL:https://www.1nvrc.com/event/toledo-funfly-show-and-swapmeet/
END:VEVENT
BEGIN:VEVENT
DTSTART;TZID=America/New_York:20210403T090000
DTEND;TZID=America/New_York:20210403T120000
DTSTAMP:20260425T090921
CREATED:20210227T041118Z
LAST-MODIFIED:20210227T041118Z
UID:10000192-1617440400-1617451200@www.1nvrc.com
SUMMARY:Poplar Ford Field Day: Seeding & Fertilizer
DESCRIPTION:Tentative Poplar Ford field day to spread seed and fertilizer – to be confirmed based on weather and field conditions.
URL:https://www.1nvrc.com/event/poplar-ford-field-day-seeding-fertilizer/
LOCATION:Poplar Ford Park\, 6714 Bull Run Post Office Road\, Centerville\, VA\, 20120\, United States
END:VEVENT
BEGIN:VEVENT
DTSTART;TZID=America/New_York:20210327T090000
DTEND;TZID=America/New_York:20210327T120000
DTSTAMP:20260425T090921
CREATED:20210227T040935Z
LAST-MODIFIED:20210227T040935Z
UID:10000191-1616835600-1616846400@www.1nvrc.com
SUMMARY:Lorton Field Day: Seed & Fertilize
DESCRIPTION:Tentative Lorton field day to spread seed and fertilizer – to be confirmed based on weather and field conditions.
URL:https://www.1nvrc.com/event/lorton-field-day-seed-fertilize/
LOCATION:Lorton/Burnett Field\, 9800 Furnace Road\, Lorton\, VA\, 22079\, United States
END:VEVENT
BEGIN:VEVENT
DTSTART;TZID=America/New_York:20210324T203000
DTEND;TZID=America/New_York:20210324T213000
DTSTAMP:20260425T090921
CREATED:20230204T022851Z
LAST-MODIFIED:20230204T022851Z
UID:10000397-1616617800-1616621400@www.1nvrc.com
SUMMARY:Virtual Workshop Chat
DESCRIPTION:Come join us from 8:30pm until we get too tired to talk about airplanes\, show off our airplanes\, plan our next airplane projects\, and probably discuss some airplane history too. \nThis is the Zoom link for the meeting and the pass code is the same as the gate combination. \nGuests are welcome too – just use the Contact Us page to request a guest link to join in!
URL:https://www.1nvrc.com/event/virtual-workshop-chat/2021-03-24/
CATEGORIES:Static Events
ATTACH;FMTTYPE=image/jpeg:https://www.1nvrc.com/wp-content/uploads/2019/12/Workshop.jpg
END:VEVENT
BEGIN:VEVENT
DTSTART;TZID=America/New_York:20210320T110000
DTEND;TZID=America/New_York:20210320T160000
DTSTAMP:20260425T090921
CREATED:20210315T022732Z
LAST-MODIFIED:20210315T022732Z
UID:10000202-1616238000-1616256000@www.1nvrc.com
SUMMARY:Pattern D2 2021 Seminar - Virtual
DESCRIPTION:D2 Judging Seminar\nDate: 20 March 2021  \nD2 Welcomes other NSRCA members and interested pilots to participate!\nOne of the highlights will be a special guest speaker panel- moderated by Nick Ziegler  \nObjective: The Seminar will review the 2021 sequences and providing pointers on execution and presentation.\nPre-Seminar: Prior to the seminar on 20 March 2021\, please go to NSRCA.US\, review materials* and take the 2020-2021 the AMA and FAI test. This process normally takes one to three hours.  \nhttps://www.nsrca.us/index.php/certification/judge-certification  \nLocation: Zoom meeting format. For reservations to attend\, please contact Tim Pritchett  at tjpritchett@aol.com  \nAgenda 20 March 2021: 11:00 a.m. (U.S. East Coast time)\n• 11:00-11:15 Welcome and opening remarks\, review agenda and introduce subject  matter expert panel- Don Szczur\n• 11:15-12:15 NSRCA Video will be played\, “Judging and Flying Precision RC Aerobatics” • 12:15- 1:00 Review of NSRCA test questions and discussion*\n• 1:00-2:00 Review of PowerPoint sequence presentations:\no AMA classes – Braxton D.\no FAI P and F-sequence Don S.\n• 2:00-3:00 Special Guest Speaker Panel\n• 3:00- 4:00 Virtual flights (pre-recorded) with judging panel discussion of downgrades • 4:00 PM Official judging seminar ends\, open topics\, social  \n*Information on 2020-2021 sequences at www.nsrca.us and information how to join NSRCA!  For non-members\, the certification does cost $5 and you can pay using Paypal. If you have not  paid and would like to download the judging material then please click the “Sign up for  Certification” link to your left which will then take you to Paypal. Once you’ve paid you will  have access to the seminar material which you can then study.  \nD2 Seminar Contact: Don Szczur dszczur@verizon.net
URL:https://www.1nvrc.com/event/pattern-d2-2021-seminar-virtual/
CATEGORIES:Static Events
ATTACH;FMTTYPE=image/jpeg:https://www.1nvrc.com/wp-content/uploads/2021/03/F3A-Pattern-Plane.jpg
END:VEVENT
BEGIN:VEVENT
DTSTART;TZID=America/New_York:20210318T193000
DTEND;TZID=America/New_York:20210318T203000
DTSTAMP:20260425T090921
CREATED:20210216T210310Z
LAST-MODIFIED:20211223T181907Z
UID:10000444-1616095800-1616099400@www.1nvrc.com
SUMMARY:VIRTUAL MONTHLY CLUB MEETING
DESCRIPTION:All meetings are open to the public and we encourage potential new members to join us. You’ll have to bring your own pizza and drinks as we are doing virtual meetings in this time of distancing. \nThis is the Zoom link for the meeting (https://us02web.zoom.us/j/4690492803) and the meeting pass code is the same as the gate combination. \nGuests are welcome too – just use the Contact Us page to request a guest link to join in!
URL:https://www.1nvrc.com/event/virtual-monthly-club-meeting-2/2021-03-18/
END:VEVENT
BEGIN:VEVENT
DTSTART;TZID=America/New_York:20210314T090000
DTEND;TZID=America/New_York:20210314T170000
DTSTAMP:20260425T090921
CREATED:20210227T035527Z
LAST-MODIFIED:20210227T035748Z
UID:10000156-1615712400-1615741200@www.1nvrc.com
SUMMARY:FPV Field Day
DESCRIPTION:In our new FPV format\, we are going to dedicate the second Sunday of each month as an FPV Field Day at Poplar Ford Field. Fixed wing line of sight RC activities are still permitted\, but need to give way for FPV fixed wing or multi-rotor activities which can include setting up race gates on the runway. \nOn these FPV Field Days\, all NVRC members wishing to fly fixed wing line of sight are welcome to use the Lorton Field – even if you do not have the normal Lorton membership tag on your badge.
URL:https://www.1nvrc.com/event/fpv-field-day/2021-03-14/
LOCATION:Poplar Ford Park\, 6714 Bull Run Post Office Road\, Centerville\, VA\, 20120\, United States
CATEGORIES:Flying Events,Multi-rotor Racing
ATTACH;FMTTYPE=image/jpeg:https://www.1nvrc.com/wp-content/uploads/2021/02/fpv-team.jpg
END:VEVENT
BEGIN:VEVENT
DTSTART;TZID=America/New_York:20210310T203000
DTEND;TZID=America/New_York:20210310T213000
DTSTAMP:20260425T090921
CREATED:20201008T022846Z
LAST-MODIFIED:20221219T155952Z
UID:10000369-1615408200-1615411800@www.1nvrc.com
SUMMARY:Virtual Workshop Chat
DESCRIPTION:Come join us from 8:30pm until we get too tired to talk about airplanes\, show off our airplanes\, plan our next airplane projects\, and probably discuss some airplane history too. \nThis is the Zoom link for the meeting and the pass code is the same as the gate combination. \nGuests are welcome too – just use the Contact Us page to request a guest link to join in!
URL:https://www.1nvrc.com/event/virtual-workshop-chat/2021-03-10/
CATEGORIES:Static Events
ATTACH;FMTTYPE=image/jpeg:https://www.1nvrc.com/wp-content/uploads/2019/12/Workshop.jpg
END:VEVENT
BEGIN:VEVENT
DTSTART;TZID=America/New_York:20210303T203000
DTEND;TZID=America/New_York:20210303T213000
DTSTAMP:20260425T090921
CREATED:20201008T022846Z
LAST-MODIFIED:20210416T104533Z
UID:10000440-1614803400-1614807000@www.1nvrc.com
SUMMARY:Virtual Workshop Chat - Special Battle of Britain Event!
DESCRIPTION:Join in a special trivia & history discussion about the Battle of Britain hosted by Mark Franke and Carl Hampton! The last one of these presentations was dynamite! You don’t want to miss this! \n\nCome join us every Wednesday and Saturday evening from 8:30pm until we get tired and talk about airplanes\, show off our airplanes\, plan our next airplane projects\, and probably even discuss some airplane designs a few times too. \nThis is the Zoom link for the meeting (https://us02web.zoom.us/j/4690492803) and the meeting pass code is the same as the gate combination. \nGuests are welcome too – just use the Contact Us page to request a guest link to join in!
URL:https://www.1nvrc.com/event/virtual-workshop-chat-2021-03-03/
CATEGORIES:Static Events
ATTACH;FMTTYPE=image/jpeg:https://www.1nvrc.com/wp-content/uploads/2020/10/Battle_of_Britain.jpg
END:VEVENT
BEGIN:VEVENT
DTSTART;TZID=America/New_York:20210227T100000
DTEND;TZID=America/New_York:20210227T120000
DTSTAMP:20260425T090921
CREATED:20210227T010353Z
LAST-MODIFIED:20210227T010354Z
UID:10000155-1614420000-1614427200@www.1nvrc.com
SUMMARY:Snow Fly!
DESCRIPTION:Well… it’s an almost snow fly!  Come on out for some flying fun anyway! \nSince Poplar is a little squishy\, we’re gathering at Lorton instead.  \nAll club members are welcome – bring your masks and safety vests!
URL:https://www.1nvrc.com/event/snow-fly/
LOCATION:Lorton/Burnett Field\, 9800 Furnace Road\, Lorton\, VA\, 22079\, United States
CATEGORIES:Flying Events,Outdoor Fun Fly
ATTACH;FMTTYPE=image/jpeg:https://www.1nvrc.com/wp-content/uploads/2016/03/2014_SNOW.jpg
END:VEVENT
BEGIN:VEVENT
DTSTART;TZID=America/New_York:20210224T203000
DTEND;TZID=America/New_York:20210224T213000
DTSTAMP:20260425T090921
CREATED:20230204T022851Z
LAST-MODIFIED:20230204T022851Z
UID:10000396-1614198600-1614202200@www.1nvrc.com
SUMMARY:Virtual Workshop Chat
DESCRIPTION:Come join us from 8:30pm until we get too tired to talk about airplanes\, show off our airplanes\, plan our next airplane projects\, and probably discuss some airplane history too. \nThis is the Zoom link for the meeting and the pass code is the same as the gate combination. \nGuests are welcome too – just use the Contact Us page to request a guest link to join in!
URL:https://www.1nvrc.com/event/virtual-workshop-chat/2021-02-24/
CATEGORIES:Static Events
ATTACH;FMTTYPE=image/jpeg:https://www.1nvrc.com/wp-content/uploads/2019/12/Workshop.jpg
END:VEVENT
BEGIN:VEVENT
DTSTART;TZID=America/New_York:20210218T193000
DTEND;TZID=America/New_York:20210218T203000
DTSTAMP:20260425T090921
CREATED:20210216T210310Z
LAST-MODIFIED:20211223T181907Z
UID:10000443-1613676600-1613680200@www.1nvrc.com
SUMMARY:VIRTUAL MONTHLY CLUB MEETING
DESCRIPTION:All meetings are open to the public and we encourage potential new members to join us. You’ll have to bring your own pizza and drinks as we are doing virtual meetings in this time of distancing. \nThis is the Zoom link for the meeting (https://us02web.zoom.us/j/4690492803) and the meeting pass code is the same as the gate combination. \nGuests are welcome too – just use the Contact Us page to request a guest link to join in!
URL:https://www.1nvrc.com/event/virtual-monthly-club-meeting-2/2021-02-18/
END:VEVENT
BEGIN:VEVENT
DTSTART;TZID=America/New_York:20210210T203000
DTEND;TZID=America/New_York:20210210T213000
DTSTAMP:20260425T090921
CREATED:20201008T022846Z
LAST-MODIFIED:20221219T155952Z
UID:10000368-1612989000-1612992600@www.1nvrc.com
SUMMARY:Virtual Workshop Chat
DESCRIPTION:Come join us from 8:30pm until we get too tired to talk about airplanes\, show off our airplanes\, plan our next airplane projects\, and probably discuss some airplane history too. \nThis is the Zoom link for the meeting and the pass code is the same as the gate combination. \nGuests are welcome too – just use the Contact Us page to request a guest link to join in!
URL:https://www.1nvrc.com/event/virtual-workshop-chat/2021-02-10/
CATEGORIES:Static Events
ATTACH;FMTTYPE=image/jpeg:https://www.1nvrc.com/wp-content/uploads/2019/12/Workshop.jpg
END:VEVENT
BEGIN:VEVENT
DTSTART;TZID=America/New_York:20210127T203000
DTEND;TZID=America/New_York:20210127T213000
DTSTAMP:20260425T090921
CREATED:20230204T022851Z
LAST-MODIFIED:20230204T022851Z
UID:10000395-1611779400-1611783000@www.1nvrc.com
SUMMARY:Virtual Workshop Chat
DESCRIPTION:Come join us from 8:30pm until we get too tired to talk about airplanes\, show off our airplanes\, plan our next airplane projects\, and probably discuss some airplane history too. \nThis is the Zoom link for the meeting and the pass code is the same as the gate combination. \nGuests are welcome too – just use the Contact Us page to request a guest link to join in!
URL:https://www.1nvrc.com/event/virtual-workshop-chat/2021-01-27/
CATEGORIES:Static Events
ATTACH;FMTTYPE=image/jpeg:https://www.1nvrc.com/wp-content/uploads/2019/12/Workshop.jpg
END:VEVENT
BEGIN:VEVENT
DTSTART;TZID=America/New_York:20210113T203000
DTEND;TZID=America/New_York:20210113T213000
DTSTAMP:20260425T090921
CREATED:20201008T022846Z
LAST-MODIFIED:20221219T155952Z
UID:10000367-1610569800-1610573400@www.1nvrc.com
SUMMARY:Virtual Workshop Chat
DESCRIPTION:Come join us from 8:30pm until we get too tired to talk about airplanes\, show off our airplanes\, plan our next airplane projects\, and probably discuss some airplane history too. \nThis is the Zoom link for the meeting and the pass code is the same as the gate combination. \nGuests are welcome too – just use the Contact Us page to request a guest link to join in!
URL:https://www.1nvrc.com/event/virtual-workshop-chat/2021-01-13/
CATEGORIES:Static Events
ATTACH;FMTTYPE=image/jpeg:https://www.1nvrc.com/wp-content/uploads/2019/12/Workshop.jpg
END:VEVENT
BEGIN:VEVENT
DTSTART;TZID=America/New_York:20201223T203000
DTEND;TZID=America/New_York:20201223T213000
DTSTAMP:20260425T090921
CREATED:20230204T022851Z
LAST-MODIFIED:20230204T022851Z
UID:10000394-1608755400-1608759000@www.1nvrc.com
SUMMARY:Virtual Workshop Chat
DESCRIPTION:Come join us from 8:30pm until we get too tired to talk about airplanes\, show off our airplanes\, plan our next airplane projects\, and probably discuss some airplane history too. \nThis is the Zoom link for the meeting and the pass code is the same as the gate combination. \nGuests are welcome too – just use the Contact Us page to request a guest link to join in!
URL:https://www.1nvrc.com/event/virtual-workshop-chat/2020-12-23/
CATEGORIES:Static Events
ATTACH;FMTTYPE=image/jpeg:https://www.1nvrc.com/wp-content/uploads/2019/12/Workshop.jpg
END:VEVENT
BEGIN:VEVENT
DTSTART;TZID=America/New_York:20201217T193000
DTEND;TZID=America/New_York:20201217T203000
DTSTAMP:20260425T090921
CREATED:20201102T200819Z
LAST-MODIFIED:20201102T200819Z
UID:10000441-1608233400-1608237000@www.1nvrc.com
SUMMARY:VIRTUAL Monthly Club Meeting
DESCRIPTION:All meetings are open to the public and we encourage potential new members to join us. You’ll have to bring your own pizza and drinks as we are doing virtual meetings in this time of distancing. \nThis is the Zoom link for the meeting (https://us02web.zoom.us/j/4690492803) and the meeting pass code is the same as the gate combination. \nGuests are welcome too – just use the Contact Us page to request a guest link to join in!
URL:https://www.1nvrc.com/event/virtual-monthly-club-meeting/
END:VEVENT
END:VCALENDAR