BEGIN:VCALENDAR
VERSION:2.0
PRODID:-//Northern Virginia Radio Control - NVRC - ECPv6.15.20//NONSGML v1.0//EN
CALSCALE:GREGORIAN
METHOD:PUBLISH
X-WR-CALNAME:Northern Virginia Radio Control - NVRC
X-ORIGINAL-URL:https://www.1nvrc.com
X-WR-CALDESC:Events for Northern Virginia Radio Control - NVRC
REFRESH-INTERVAL;VALUE=DURATION:PT1H
X-Robots-Tag:noindex
X-PUBLISHED-TTL:PT1H
BEGIN:VTIMEZONE
TZID:America/New_York
BEGIN:DAYLIGHT
TZOFFSETFROM:-0500
TZOFFSETTO:-0400
TZNAME:EDT
DTSTART:20180311T070000
END:DAYLIGHT
BEGIN:STANDARD
TZOFFSETFROM:-0400
TZOFFSETTO:-0500
TZNAME:EST
DTSTART:20181104T060000
END:STANDARD
BEGIN:DAYLIGHT
TZOFFSETFROM:-0500
TZOFFSETTO:-0400
TZNAME:EDT
DTSTART:20190310T070000
END:DAYLIGHT
BEGIN:STANDARD
TZOFFSETFROM:-0400
TZOFFSETTO:-0500
TZNAME:EST
DTSTART:20191103T060000
END:STANDARD
BEGIN:DAYLIGHT
TZOFFSETFROM:-0500
TZOFFSETTO:-0400
TZNAME:EDT
DTSTART:20200308T070000
END:DAYLIGHT
BEGIN:STANDARD
TZOFFSETFROM:-0400
TZOFFSETTO:-0500
TZNAME:EST
DTSTART:20201101T060000
END:STANDARD
BEGIN:DAYLIGHT
TZOFFSETFROM:-0500
TZOFFSETTO:-0400
TZNAME:EDT
DTSTART:20210314T070000
END:DAYLIGHT
BEGIN:STANDARD
TZOFFSETFROM:-0400
TZOFFSETTO:-0500
TZNAME:EST
DTSTART:20211107T060000
END:STANDARD
END:VTIMEZONE
BEGIN:VEVENT
DTSTART;TZID=America/New_York:20200422T203000
DTEND;TZID=America/New_York:20200422T213000
DTSTAMP:20260425T121837
CREATED:20200420T004641Z
LAST-MODIFIED:20210413T161951Z
UID:10000350-1587587400-1587591000@www.1nvrc.com
SUMMARY:NVRC Workshop Chat - Airbrushing
DESCRIPTION:We’ve gone virtual!  With the ongoing public health emergency\, it’s not responsible to gather at the field. So we’re getting together on video chat! \nCome join us for a Zoom video workshop chat at https://us02web.zoom.us/j/86255202788  Zoom Meeting ID: 862 5520 2788 \nTonight’s topic is airbrushing\, including one (perhaps two) live demonstrations! \nThe password is the gate combination on the back of your membership card.  If you’re a potential new member or lost your membership card\, use the Contact Us Page on the website and ask for a special guest link to join the meeting. \nWe welcome all RC flyers (and modelers) of all skill levels!
URL:https://www.1nvrc.com/event/nvrc-workshop-chat-3/
LOCATION:VA
CATEGORIES:Static Events
ATTACH;FMTTYPE=image/png:https://www.1nvrc.com/wp-content/uploads/2020/04/Model_Night.png
END:VEVENT
BEGIN:VEVENT
DTSTART;TZID=America/New_York:20200419T100000
DTEND;TZID=America/New_York:20200419T180000
DTSTAMP:20260425T121837
CREATED:20200314T021800Z
LAST-MODIFIED:20210413T091727Z
UID:10000347-1587290400-1587319200@www.1nvrc.com
SUMMARY:Sunday Funday!
DESCRIPTION:Hobby Hangar & Full Throttle RC present Sunday Funday!
URL:https://www.1nvrc.com/event/sunday-funday/
LOCATION:Maples Field\, 1700 Sowego Rd\, Catlett\, VA\, 20119\, United States
CATEGORIES:Flying Events,Outdoor Fun Fly
END:VEVENT
BEGIN:VEVENT
DTSTART;TZID=America/New_York:20200418T210000
DTEND;TZID=America/New_York:20200418T223000
DTSTAMP:20260425T121837
CREATED:20200411T145128Z
LAST-MODIFIED:20210413T143014Z
UID:10000349-1587243600-1587249000@www.1nvrc.com
SUMMARY:NVRC Workshop Chat
DESCRIPTION:We’ve gone virtual!  With the ongoing public health emergency\, it’s not responsible to gather at the field. So we’re getting together on video chat! \nCome join us for a Zoom video workshop chat at https://us02web.zoom.us/j/620831945  Zoom Meeting ID: 620 831 945 \nThe password is the gate combination on the back of your membership card.  If you’re a potential new member or lost your membership card\, use the Contact Us Page on the website and ask for a special guest link to join the meeting. \nWe welcome all RC flyers of all skill levels!
URL:https://www.1nvrc.com/event/nvrc-workshop-chat-2/
LOCATION:VA
CATEGORIES:Static Events
ATTACH;FMTTYPE=image/png:https://www.1nvrc.com/wp-content/uploads/2020/04/Model_Night.png
END:VEVENT
BEGIN:VEVENT
DTSTART;TZID=America/New_York:20200416T193000
DTEND;TZID=America/New_York:20200416T210000
DTSTAMP:20260425T121837
CREATED:20191215T045847Z
LAST-MODIFIED:20210413T102653Z
UID:10000101-1587065400-1587070800@www.1nvrc.com
SUMMARY:Monthly Virtual Club Meeting
DESCRIPTION:We’ve gone virtual!  With the ongoing public health emergency\, it’s not responsible to hold an in person club meeting. So we’re getting together on video chat! \nCome join us for a Zoom video chat meeting at  https://us02web.zoom.us/j/454732277   Zoom Meeting ID: 454 732 277 \nThe password is the gate combination on the back of your membership card.  If you’re a potential new member or lost your membership card\, use the Contact Us Page on the website and ask for a special guest link to join the meeting. \nWe welcome all RC flyers of all skill levels!
URL:https://www.1nvrc.com/event/monthly-club-meeting-17/
LOCATION:Farm Club Bealton VA\, Bealton\, VA\, United States
CATEGORIES:Static Events
ATTACH;FMTTYPE=image/png:https://www.1nvrc.com/wp-content/uploads/2017/12/NVRC-Logo-e1514095621486.png
END:VEVENT
BEGIN:VEVENT
DTSTART;TZID=America/New_York:20200414T210000
DTEND;TZID=America/New_York:20200414T220000
DTSTAMP:20260425T121837
CREATED:20200411T144818Z
LAST-MODIFIED:20210417T174118Z
UID:10000348-1586898000-1586901600@www.1nvrc.com
SUMMARY:NVRC Workshop Chat
DESCRIPTION:We’ve gone virtual!  With the ongoing public health emergency\, it’s not responsible to gather at the field. So we’re getting together on video chat! \nCome join us for a Zoom video workshop chat at https://us02web.zoom.us/j/167705631  Zoom Meeting ID: 167 705 631 \nThe password is the gate combination on the back of your membership card.  If you’re a potential new member or lost your membership card\, use the Contact Us Page on the website and ask for a special guest link to join the meeting. \nWe welcome all RC flyers of all skill levels!
URL:https://www.1nvrc.com/event/nvrc-workshop-chat/
LOCATION:VA
CATEGORIES:Static Events
ATTACH;FMTTYPE=image/png:https://www.1nvrc.com/wp-content/uploads/2020/04/Model_Night.png
END:VEVENT
BEGIN:VEVENT
DTSTART;TZID=America/New_York:20200319T193000
DTEND;TZID=America/New_York:20200319T210000
DTSTAMP:20260425T121837
CREATED:20191215T045546Z
LAST-MODIFIED:20210413T125344Z
UID:10000098-1584646200-1584651600@www.1nvrc.com
SUMMARY:CANCELLED - March Monthly Club Meeting
DESCRIPTION:The NVRC Board has determined to cancel the March meeting in order to comply with “social distancing” recommendations put forth by state and local officials as well as health professionals.  As of now\, the April meeting and April events are still scheduled as planned.\nBoth flying fields are unaffected by our decision to cancel the March meeting.  Poplar Ford and Lorton are open with regular schedules.  Flying is not curtailed in any way.\nPlease remember: practice good hygiene\, wash your hand frequently\, stay home if you feel sick\, and avoid large gatherings.  Practice “social distancing”.  That means keeping at least one wingspan between yourself and your flying partner (kidding\, maybe not).\nStay safe and healthy and we’ll see everyone either at the field or the April meeting!
URL:https://www.1nvrc.com/event/monthly-club-meeting-16/
LOCATION:City of Fairfax Fire Station 3\, 4081 University Drive\, Fairfax\, VA\, 22030\, United States
CATEGORIES:Static Events
END:VEVENT
BEGIN:VEVENT
DTSTART;TZID=America/New_York:20200314T100000
DTEND;TZID=America/New_York:20200314T150000
DTSTAMP:20260425T121837
CREATED:20200308T024236Z
LAST-MODIFIED:20210416T111504Z
UID:10000339-1584180000-1584198000@www.1nvrc.com
SUMMARY:CANCELLED - Women in Aviation and Space Heritage Family Day
DESCRIPTION:The Smithsonian buildings are closed to the public this weeked\, and this event has been cancelled.  Please watch their website for information on when they will reopen.\n\nA great family and history event coming up at Udvar-Hazy! \nLearn about groundbreaking women of the past and the women driving us into the future. Meet inspiring women working in the field today\, participate in a build your own flyer design challenge\, hear the story “I Am Amelia Earhart”\, and step into Rosie the Riveter’s “We Can Do It” poster at our dress-up\, photo station! \nhttps://airandspace.si.edu/events/women-aviation-space-family-day-2020 \n 
URL:https://www.1nvrc.com/event/women-in-aviation-and-space-heritage-family-day/
LOCATION:Udvar Hazy Center\, 14390 Air and Space Museum Pkwy\, Chantilly\, VA\, 20151\, United States
CATEGORIES:Static Events
END:VEVENT
BEGIN:VEVENT
DTSTART;TZID=America/New_York:20200308T080000
DTEND;TZID=America/New_York:20200308T093000
DTSTAMP:20260425T121837
CREATED:20191215T040756Z
LAST-MODIFIED:20210413T055333Z
UID:10000324-1583654400-1583659800@www.1nvrc.com
SUMMARY:Indoor Flying at Westfields High School
DESCRIPTION:This is a STEM fundraiser so come on out with your indoor and free flight models!
URL:https://www.1nvrc.com/event/indoor-flying-at-westfields-high-school-17/
LOCATION:Westfield High School\, 4700 Stonecroft Blvd\, Chantilly\, VA\, 20151\, United States
CATEGORIES:Flying Events,Indoor Fun Fly
ATTACH;FMTTYPE=image/jpeg:https://www.1nvrc.com/wp-content/uploads/2008/09/photo1.jpg
END:VEVENT
BEGIN:VEVENT
DTSTART;TZID=America/New_York:20200223T080000
DTEND;TZID=America/New_York:20200223T093000
DTSTAMP:20260425T121837
CREATED:20191215T040618Z
LAST-MODIFIED:20210413T154831Z
UID:10000323-1582444800-1582450200@www.1nvrc.com
SUMMARY:Indoor Flying at Westfields High School
DESCRIPTION:This is a STEM fundraiser so come on out with your indoor and free flight models!
URL:https://www.1nvrc.com/event/indoor-flying-at-westfields-high-school-16/
LOCATION:Westfield High School\, 4700 Stonecroft Blvd\, Chantilly\, VA\, 20151\, United States
CATEGORIES:Flying Events,Indoor Fun Fly
ATTACH;FMTTYPE=image/jpeg:https://www.1nvrc.com/wp-content/uploads/2008/09/photo1.jpg
END:VEVENT
BEGIN:VEVENT
DTSTART;TZID=America/New_York:20200220T193000
DTEND;TZID=America/New_York:20200220T210000
DTSTAMP:20260425T121837
CREATED:20191215T045442Z
LAST-MODIFIED:20210413T071832Z
UID:10000096-1582227000-1582232400@www.1nvrc.com
SUMMARY:Monthly Club Meeting
DESCRIPTION:Club Meetings
URL:https://www.1nvrc.com/event/monthly-club-meeting-14/
LOCATION:City of Fairfax Fire Station 3\, 4081 University Drive\, Fairfax\, VA\, 22030\, United States
CATEGORIES:Static Events
END:VEVENT
BEGIN:VEVENT
DTSTART;TZID=America/New_York:20200209T080000
DTEND;TZID=America/New_York:20200209T093000
DTSTAMP:20260425T121837
CREATED:20191215T040431Z
LAST-MODIFIED:20210413T064605Z
UID:10000322-1581235200-1581240600@www.1nvrc.com
SUMMARY:Indoor Flying at Westfields High School
DESCRIPTION:This is a STEM fundraiser so come on out with your indoor and free flight models!
URL:https://www.1nvrc.com/event/indoor-flying-at-westfields-high-school-15/
LOCATION:Westfield High School\, 4700 Stonecroft Blvd\, Chantilly\, VA\, 20151\, United States
CATEGORIES:Flying Events,Indoor Fun Fly
ATTACH;FMTTYPE=image/jpeg:https://www.1nvrc.com/wp-content/uploads/2008/09/photo1.jpg
END:VEVENT
BEGIN:VEVENT
DTSTART;TZID=America/New_York:20200208T090000
DTEND;TZID=America/New_York:20200208T140000
DTSTAMP:20260425T121837
CREATED:20190903T025850Z
LAST-MODIFIED:20210416T105931Z
UID:10000317-1581152400-1581170400@www.1nvrc.com
SUMMARY:Indoor Fun Fly
DESCRIPTION:This is a great event and fundraiser by the West Potomac High School science club – RC and free flight welcome! \nNVRC will also have a large tub of free flight and small RC kits we will be selling at this event – all proceeds will be donated to the school club too!
URL:https://www.1nvrc.com/event/indoor-fun-fly-6/
LOCATION:West Potomac High School\, 6500 Quander Road\, Alexandria \, VA\, 22307\, United States
CATEGORIES:Flying Events,Indoor Fun Fly
END:VEVENT
BEGIN:VEVENT
DTSTART;TZID=America/New_York:20200126T080000
DTEND;TZID=America/New_York:20200126T093000
DTSTAMP:20260425T121837
CREATED:20191215T040211Z
LAST-MODIFIED:20210416T110303Z
UID:10000321-1580025600-1580031000@www.1nvrc.com
SUMMARY:Indoor Flying at Westfields High School
DESCRIPTION:This is a STEM fundraiser so come on out with your indoor and free flight models!
URL:https://www.1nvrc.com/event/indoor-flying-at-westfields-high-school-14/
LOCATION:Westfield High School\, 4700 Stonecroft Blvd\, Chantilly\, VA\, 20151\, United States
CATEGORIES:Flying Events,Indoor Fun Fly
ATTACH;FMTTYPE=image/jpeg:https://www.1nvrc.com/wp-content/uploads/2008/09/photo1.jpg
END:VEVENT
BEGIN:VEVENT
DTSTART;TZID=America/New_York:20200125T100000
DTEND;TZID=America/New_York:20200125T120000
DTSTAMP:20260425T121837
CREATED:20190208T100500Z
LAST-MODIFIED:20210413T162517Z
UID:10000075-1579946400-1579953600@www.1nvrc.com
SUMMARY:Winter Snow Fly
DESCRIPTION:Outdoor Fun Fly
URL:https://www.1nvrc.com/event/winter-snow-fly/
LOCATION:Lorton/Burnett Field\, 9800 Furnace Road\, Lorton\, VA\, 22079\, United States
CATEGORIES:Flying Events,Outdoor Fun Fly
ATTACH;FMTTYPE=image/jpeg:https://www.1nvrc.com/wp-content/uploads/2017/12/IMG_0800.jpg
END:VEVENT
BEGIN:VEVENT
DTSTART;TZID=America/New_York:20200123T183000
DTEND;TZID=America/New_York:20200123T213000
DTSTAMP:20260425T121837
CREATED:20191125T141342Z
LAST-MODIFIED:20210413T143655Z
UID:10000319-1579804200-1579815000@www.1nvrc.com
SUMMARY:GLH Pylon Racing Build Night!
DESCRIPTION:We’re going to start pylon racing with the Willy-nillie’s GLH 250 planes this spring! Pick up a kit and come join us for a build night\, or build your own when you have time and come out for some fun when the racing starts! \nIt’s OK to bring a partially completed kit too – it helps to show people different steps in the process! \nHttp://www.willynillies.com
URL:https://www.1nvrc.com/event/glh-pylon-racing-build-night/
LOCATION:Monster Mini Golf\, 14130 Sullyfield Circle\, Suite G\,  Chantilly\, VA\, 20151\, United States
CATEGORIES:Static Events
END:VEVENT
BEGIN:VEVENT
DTSTART;TZID=America/New_York:20200116T193000
DTEND;TZID=America/New_York:20200116T210000
DTSTAMP:20260425T121837
CREATED:20191215T045326Z
LAST-MODIFIED:20210413T133403Z
UID:10000094-1579203000-1579208400@www.1nvrc.com
SUMMARY:Monthly Club Meeting
DESCRIPTION:Club Meetings
URL:https://www.1nvrc.com/event/monthly-club-meeting-13/
LOCATION:City of Fairfax Fire Station 3\, 4081 University Drive\, Fairfax\, VA\, 22030\, United States
CATEGORIES:Static Events
END:VEVENT
BEGIN:VEVENT
DTSTART;TZID=America/New_York:20200111T100000
DTEND;TZID=America/New_York:20200111T120000
DTSTAMP:20260425T121837
CREATED:20190208T160009Z
LAST-MODIFIED:20210414T165542Z
UID:10000076-1578736800-1578744000@www.1nvrc.com
SUMMARY:Streamer Combat Skirmish!
DESCRIPTION:Come on out and see if you can take down the NVRC Aces!  If you’ve never flown streamer combat before\, come chase the “Lobster” tail and get in on the fun! You don’t need any special equipment – just an electric plane with a 3s2200 or smaller battery.\n \nRemember\, it’s an open flying day\, so make sure all pilots are aware of combat intentions and keep those planes out over the rough – not on the green. No friendly fire incidents please!!
URL:https://www.1nvrc.com/event/streamer-combat-skirmish-21/
LOCATION:Poplar Ford Park\, 6714 Bull Run Post Office Road\, Centerville\, VA\, 20120\, United States
CATEGORIES:Flying Events
END:VEVENT
BEGIN:VEVENT
DTSTART;TZID=America/New_York:20200105T080000
DTEND;TZID=America/New_York:20200105T093000
DTSTAMP:20260425T121837
CREATED:20191215T035441Z
LAST-MODIFIED:20210415T152127Z
UID:10000320-1578211200-1578216600@www.1nvrc.com
SUMMARY:Indoor Flying at Westfields High School
DESCRIPTION:This is a STEM fundraiser so come on out with your indoor and free flight models!
URL:https://www.1nvrc.com/event/indoor-flying-at-westfields-high-school-13/
LOCATION:Westfield High School\, 4700 Stonecroft Blvd\, Chantilly\, VA\, 20151\, United States
CATEGORIES:Flying Events,Indoor Fun Fly
ATTACH;FMTTYPE=image/jpeg:https://www.1nvrc.com/wp-content/uploads/2008/09/photo1.jpg
END:VEVENT
BEGIN:VEVENT
DTSTART;TZID=America/New_York:20191223T193000
DTEND;TZID=America/New_York:20191223T213000
DTSTAMP:20260425T121837
CREATED:20191217T163507Z
LAST-MODIFIED:20210413T052617Z
UID:10000328-1577129400-1577136600@www.1nvrc.com
SUMMARY:Tiny Whoop Racing
DESCRIPTION:Bring your appetite and thirst to Clare and Don’s Beach Shack while we race Tiny Whoops. It will be a fun night of friendly drone racing. No fee to race or spectate\, just have a drink and a bite to eat. See the link below for a brief look at the space. Be ready for a tight technical track.
URL:https://www.1nvrc.com/event/tiny-whoop-racing-12/
LOCATION:Clare & Don’s Beach Shack\, 130 N Washington St\, Falls Church\, VA\, 22046\, United States
CATEGORIES:Indoor Fun Fly
END:VEVENT
BEGIN:VEVENT
DTSTART;TZID=America/New_York:20191215T110000
DTEND;TZID=America/New_York:20191215T130000
DTSTAMP:20260425T121837
CREATED:20190208T103601Z
LAST-MODIFIED:20210416T110213Z
UID:10000305-1576407600-1576414800@www.1nvrc.com
SUMMARY:Streamer "Lobster" Combat Skirmish?
DESCRIPTION:Come on out and see if you can take down the NVRC Aces!   \n\nFollow all normal field rules!\n4 in the air at once\nCoordinate with other pilots\n\n\nRemember\, it’s an open flying day\, so make sure all pilots are aware of combat intentions and keep those planes out over the rough – not on the green. No friendly fire incidents please!! \nAbout this Lobster Combat thing – umm…. yeah… we think it has something to do with chasing a plane with a long tail… or maybe getting a free dinner?  Come join us and find out!
URL:https://www.1nvrc.com/event/streamer-combat-skirmish-20/
LOCATION:Poplar Ford Park\, 6714 Bull Run Post Office Road\, Centerville\, VA\, 20120\, United States
CATEGORIES:Flying Events
ATTACH;FMTTYPE=image/jpeg:https://www.1nvrc.com/wp-content/uploads/2019/02/lobster-combat.jpg
END:VEVENT
BEGIN:VEVENT
DTSTART;TZID=America/New_York:20191214T170000
DTEND;TZID=America/New_York:20191214T200000
DTSTAMP:20260425T121837
CREATED:20190208T220051Z
LAST-MODIFIED:20210413T085712Z
UID:10000077-1576342800-1576353600@www.1nvrc.com
SUMMARY:Annual Holiday Banquet
DESCRIPTION:  \nYour favorite annual RC gift exchange extravaganza is happening next Saturday! The NVRC Holiday Banquet will be held at the firehouse on Saturday December 14th from 5pm to 8pm. Barbeque will be served\, gifts will be exchanged\, laughter will occur\, and all members\, spouses\, children and other guests are welcome! \n– Remember to bring a wrapped Radio Control hobby related (or adult beverage) gift worth a minimum of $20 for the New England Gift Exchange (aka Yankee Swap <== click for the rules)\n– Please bring an appetizer or desert to share\n– Please bring $15 per adult to help with the BBQ costs (kids eat free unless they are bottomless teenage hunger pits) \nRSVP to Mark Franke or Jon Pruett by Wednesday\, December 11th so we can get the BBQ order sized appropriately. \nIf you haven’t been to one of our annual holiday parties before\, it’s a whole lot of fun and we really want you to come by! You don’t even have to be a member to join in – just be friendly to one! \nSee you there!
URL:https://www.1nvrc.com/event/annual-holiday-banquet/
LOCATION:City of Fairfax Fire Station 3\, 4081 University Drive\, Fairfax\, VA\, 22030\, United States
CATEGORIES:Static Events
ATTACH;FMTTYPE=image/png:https://www.1nvrc.com/wp-content/uploads/2019/02/Santa_Airplane.png
END:VEVENT
BEGIN:VEVENT
DTSTART;TZID=America/New_York:20191123T050000
DTEND;TZID=America/New_York:20191123T070000
DTSTAMP:20260425T121837
CREATED:20190208T095714Z
LAST-MODIFIED:20210413T191827Z
UID:10000074-1574485200-1574492400@www.1nvrc.com
SUMMARY:Toys for Tots Fun Fly
DESCRIPTION:Due to expected rain on Saturday\, we’re going to do this toy drive collection at Hobby Hangar from 10-12.  Come by with a new unwrapped toy and join us for coffee\, donuts\, and RC bench talk!  See  you there! \n  \nOutdoor Fun Fly
URL:https://www.1nvrc.com/event/toys-for-tots-fun-fly-2/
LOCATION:Hobby Hangar\, 14014-D Sullyfield Circle\, Chantilly\, VA\, 20151\, United States
CATEGORIES:Flying Events,Outdoor Fun Fly
ATTACH;FMTTYPE=image/jpeg:https://www.1nvrc.com/wp-content/uploads/2016/10/toys-for-tots.jpg
END:VEVENT
BEGIN:VEVENT
DTSTART;TZID=America/New_York:20191121T143000
DTEND;TZID=America/New_York:20191121T160000
DTSTAMP:20260425T121837
CREATED:20190208T090739Z
LAST-MODIFIED:20210413T175350Z
UID:10000294-1574346600-1574352000@www.1nvrc.com
SUMMARY:Monthly Club Meeting
DESCRIPTION:Club Meetings
URL:https://www.1nvrc.com/event/monthly-club-meeting-15/
LOCATION:City of Fairfax Fire Station 3\, 4081 University Drive\, Fairfax\, VA\, 22030\, United States
CATEGORIES:Static Events
END:VEVENT
BEGIN:VEVENT
DTSTART;TZID=America/New_York:20191116T040000
DTEND;TZID=America/New_York:20191116T110000
DTSTAMP:20260425T121837
CREATED:20190903T025610Z
LAST-MODIFIED:20210414T190638Z
UID:10000308-1573876800-1573902000@www.1nvrc.com
SUMMARY:Indoor Fun Fly
DESCRIPTION:This is a great event & fundraiser hosted by the West Potomac High School science club!
URL:https://www.1nvrc.com/event/indoor-fun-fly-5/
LOCATION:West Potomac High School\, 6500 Quander Road\, Alexandria \, VA\, 22307\, United States
CATEGORIES:Flying Events,Indoor Fun Fly
END:VEVENT
BEGIN:VEVENT
DTSTART;TZID=America/New_York:20191109T030000
DTEND;TZID=America/New_York:20191109T070000
DTSTAMP:20260425T121837
CREATED:20190208T103454Z
LAST-MODIFIED:20210415T191155Z
UID:10000304-1573268400-1573282800@www.1nvrc.com
SUMMARY:Streamer Combat Skirmish!
DESCRIPTION:Come on out and see if you can take down the NVRC Aces!   \n\nFollow all normal field rules!\n4 in the air at once\nCoordinate with other pilots\n\n\nRemember\, it’s an open flying day\, so make sure all pilots are aware of combat intentions and keep those planes out over the rough – not on the green. No friendly fire incidents please!!
URL:https://www.1nvrc.com/event/streamer-combat-skirmish-19/
LOCATION:Lorton/Burnett Field\, 9800 Furnace Road\, Lorton\, VA\, 22079\, United States
CATEGORIES:Flying Events
END:VEVENT
BEGIN:VEVENT
DTSTART;TZID=America/New_York:20191019T040000
DTEND;TZID=America/New_York:20191019T080000
DTSTAMP:20260425T121837
CREATED:20190208T103346Z
LAST-MODIFIED:20210413T162011Z
UID:10000303-1571457600-1571472000@www.1nvrc.com
SUMMARY:Streamer Combat Skirmish!
DESCRIPTION:Come on out and see if you can take down the NVRC Aces!   \n\nFollow all normal field rules!\n4 in the air at once\nCoordinate with other pilots\n\n\nRemember\, it’s an open flying day\, so make sure all pilots are aware of combat intentions and keep those planes out over the rough – not on the green. No friendly fire incidents please!!
URL:https://www.1nvrc.com/event/streamer-combat-skirmish-18/
LOCATION:Lorton/Burnett Field\, 9800 Furnace Road\, Lorton\, VA\, 22079\, United States
CATEGORIES:Flying Events
END:VEVENT
BEGIN:VEVENT
DTSTART;TZID=America/New_York:20191017T153000
DTEND;TZID=America/New_York:20191017T170000
DTSTAMP:20260425T121837
CREATED:20190208T090618Z
LAST-MODIFIED:20210413T162012Z
UID:10000292-1571326200-1571331600@www.1nvrc.com
SUMMARY:Monthly Club Meeting
DESCRIPTION:Club Meetings
URL:https://www.1nvrc.com/event/monthly-club-meeting-12/
LOCATION:City of Fairfax Fire Station 3\, 4081 University Drive\, Fairfax\, VA\, 22030\, United States
CATEGORIES:Static Events
END:VEVENT
BEGIN:VEVENT
DTSTART;TZID=America/New_York:20191012T040000
DTEND;TZID=America/New_York:20191012T130000
DTSTAMP:20260425T121837
CREATED:20190208T095348Z
LAST-MODIFIED:20210413T071640Z
UID:10000073-1570852800-1570885200@www.1nvrc.com
SUMMARY:RC Auction!
DESCRIPTION:
URL:https://www.1nvrc.com/event/rc-auction-2/
LOCATION:West Potomac High School\, 6500 Quander Road\, Alexandria \, VA\, 22307\, United States
CATEGORIES:Static Events
ATTACH;FMTTYPE=image/gif:https://www.1nvrc.com/wp-content/uploads/2015/02/Auction-Cartoon.gif
END:VEVENT
BEGIN:VEVENT
DTSTART;TZID=America/New_York:20191005T040000
DTEND;TZID=America/New_York:20191005T080000
DTSTAMP:20260425T121837
CREATED:20190208T094825Z
LAST-MODIFIED:20210414T002748Z
UID:10000072-1570248000-1570262400@www.1nvrc.com
SUMMARY:Fall Fun Fly
DESCRIPTION:Outdoor Fun Fly
URL:https://www.1nvrc.com/event/fall-fun-fly-4/
LOCATION:Poplar Ford Park\, 6714 Bull Run Post Office Road\, Centerville\, VA\, 20120\, United States
CATEGORIES:Flying Events,Outdoor Fun Fly
END:VEVENT
BEGIN:VEVENT
DTSTART;TZID=America/New_York:20190922T040000
DTEND;TZID=America/New_York:20190922T100000
DTSTAMP:20260425T121837
CREATED:20190811T192141Z
LAST-MODIFIED:20210414T174256Z
UID:10000310-1569124800-1569146400@www.1nvrc.com
SUMMARY:Vintage RC Fly & Tell
DESCRIPTION:It’s a gathering of the Northern Virginia Vintage Radio Control Society – NVVRCS for short! Just rolls off the tongue\, doesn’t it! \nThe Vintage Radio Control Society celebrates the history of RC aeromodeling\, specifically planes designed for radio control more than 35 years ago (pre 1984 this year). More information on the VRCS is at their website here http://vintagercsociety.org/cms3/ and in a great article here http://modelaviation.com/vrcs \nThis gathering will be a vintage “Fly and Tell” for telling the stories of these great planes\, how they came to be\, how they influenced us as individuals. We will have some friendly competition and prizes too\, and the field is not closed to other flyers so come on out with your planes\, old or new\, and see what’s going on!
URL:https://www.1nvrc.com/event/vintage-rc-fly-tell/
LOCATION:Poplar Ford Park\, 6714 Bull Run Post Office Road\, Centerville\, VA\, 20120\, United States
CATEGORIES:Outdoor Fun Fly
ATTACH;FMTTYPE=image/jpeg:https://www.1nvrc.com/wp-content/uploads/2019/07/vrcs-logo-e1563379790304.jpg
ORGANIZER;CN="NVVRCS":MAILTO:jonathan.pruett@gmail.com
END:VEVENT
END:VCALENDAR