BEGIN:VCALENDAR
VERSION:2.0
PRODID:-//Northern Virginia Radio Control - NVRC - ECPv6.15.20//NONSGML v1.0//EN
CALSCALE:GREGORIAN
METHOD:PUBLISH
X-WR-CALNAME:Northern Virginia Radio Control - NVRC
X-ORIGINAL-URL:https://www.1nvrc.com
X-WR-CALDESC:Events for Northern Virginia Radio Control - NVRC
REFRESH-INTERVAL;VALUE=DURATION:PT1H
X-Robots-Tag:noindex
X-PUBLISHED-TTL:PT1H
BEGIN:VTIMEZONE
TZID:America/New_York
BEGIN:DAYLIGHT
TZOFFSETFROM:-0500
TZOFFSETTO:-0400
TZNAME:EDT
DTSTART:20190310T070000
END:DAYLIGHT
BEGIN:STANDARD
TZOFFSETFROM:-0400
TZOFFSETTO:-0500
TZNAME:EST
DTSTART:20191103T060000
END:STANDARD
BEGIN:DAYLIGHT
TZOFFSETFROM:-0500
TZOFFSETTO:-0400
TZNAME:EDT
DTSTART:20200308T070000
END:DAYLIGHT
BEGIN:STANDARD
TZOFFSETFROM:-0400
TZOFFSETTO:-0500
TZNAME:EST
DTSTART:20201101T060000
END:STANDARD
BEGIN:DAYLIGHT
TZOFFSETFROM:-0500
TZOFFSETTO:-0400
TZNAME:EDT
DTSTART:20210314T070000
END:DAYLIGHT
BEGIN:STANDARD
TZOFFSETFROM:-0400
TZOFFSETTO:-0500
TZNAME:EST
DTSTART:20211107T060000
END:STANDARD
END:VTIMEZONE
BEGIN:VEVENT
DTSTART;VALUE=DATE:20200929
DTEND;VALUE=DATE:20201005
DTSTAMP:20260425T102458
CREATED:20200308T025126Z
LAST-MODIFIED:20210414T020136Z
UID:10000337-1601337600-1601855999@www.1nvrc.com
SUMMARY:CANCELLED 0 Tidewater RC Mid-Atlantic Dawn Patrol
DESCRIPTION:Visit  https://flytrc.com/   for more information \n 
URL:https://www.1nvrc.com/event/tidewater-rc-mid-atlantic-dawn-patrol/
LOCATION:VA
CATEGORIES:Flying Events,Outdoor Fun Fly
END:VEVENT
BEGIN:VEVENT
DTSTART;TZID=America/New_York:20200926T203000
DTEND;TZID=America/New_York:20200926T210000
DTSTAMP:20260425T102458
CREATED:20200428T024900Z
LAST-MODIFIED:20210413T160520Z
UID:10000438-1601152200-1601154000@www.1nvrc.com
SUMMARY:NVRC Saturday Workshop Chat
DESCRIPTION:We’ve gone virtual!  With the ongoing public health emergency\, it’s not responsible to gather at the field. So we’re getting together on video chat! \nCome join us for a Zoom video workshop chat at Join Zoom Meeting\nhttps://us02web.zoom.us/j/4690492803\nMeeting ID: 469 049 2803 \nThe password is the gate combination on the back of your membership card.  If you’re a potential new member or lost your membership card\, use the Contact Us Page on the website and ask for a special guest link to join the meeting. \nWe welcome all RC flyers of all skill levels!
URL:https://www.1nvrc.com/event/nvrc-workshop-chat-6-2020-05-30/2020-09-26/
LOCATION:VA
CATEGORIES:Static Events
ATTACH;FMTTYPE=image/png:https://www.1nvrc.com/wp-content/uploads/2020/04/Model_Night.png
END:VEVENT
BEGIN:VEVENT
DTSTART;TZID=America/New_York:20200923T203000
DTEND;TZID=America/New_York:20200923T220000
DTSTAMP:20260425T102458
CREATED:20200428T024737Z
LAST-MODIFIED:20210413T050834Z
UID:10000135-1600893000-1600898400@www.1nvrc.com
SUMMARY:NVRC Wednesday Workshop Chat
DESCRIPTION:We’ve gone virtual!  With the ongoing public health emergency\, it’s not responsible to gather at the field. So we’re getting together on video chat! \nCome join us for a Zoom video workshop chat at Join Zoom Meeting\nhttps://us02web.zoom.us/j/4690492803\nMeeting ID: 469 049 2803 \nThe password is the gate combination on the back of your membership card.  If you’re a potential new member or lost your membership card\, use the Contact Us Page on the website and ask for a special guest link to join the meeting. \nWe welcome all RC flyers of all skill levels!
URL:https://www.1nvrc.com/event/nvrc-workshop-chat-5-2020-05-27/2020-09-23/
LOCATION:VA
CATEGORIES:Static Events
ATTACH;FMTTYPE=image/png:https://www.1nvrc.com/wp-content/uploads/2020/04/Model_Night.png
END:VEVENT
BEGIN:VEVENT
DTSTART;TZID=America/New_York:20200919T203000
DTEND;TZID=America/New_York:20200919T210000
DTSTAMP:20260425T102458
CREATED:20200428T024900Z
LAST-MODIFIED:20210413T160520Z
UID:10000437-1600547400-1600549200@www.1nvrc.com
SUMMARY:NVRC Saturday Workshop Chat
DESCRIPTION:We’ve gone virtual!  With the ongoing public health emergency\, it’s not responsible to gather at the field. So we’re getting together on video chat! \nCome join us for a Zoom video workshop chat at Join Zoom Meeting\nhttps://us02web.zoom.us/j/4690492803\nMeeting ID: 469 049 2803 \nThe password is the gate combination on the back of your membership card.  If you’re a potential new member or lost your membership card\, use the Contact Us Page on the website and ask for a special guest link to join the meeting. \nWe welcome all RC flyers of all skill levels!
URL:https://www.1nvrc.com/event/nvrc-workshop-chat-6-2020-05-30/2020-09-19/
LOCATION:VA
CATEGORIES:Static Events
ATTACH;FMTTYPE=image/png:https://www.1nvrc.com/wp-content/uploads/2020/04/Model_Night.png
END:VEVENT
BEGIN:VEVENT
DTSTART;TZID=America/New_York:20200917T193000
DTEND;TZID=America/New_York:20200917T210000
DTSTAMP:20260425T102458
CREATED:20191215T050323Z
LAST-MODIFIED:20210413T071635Z
UID:10000109-1600371000-1600376400@www.1nvrc.com
SUMMARY:CANCELLED - Monthly Club Meeting
DESCRIPTION:Club Meetings
URL:https://www.1nvrc.com/event/monthly-club-meeting-21/
LOCATION:City of Fairfax Fire Station 3\, 4081 University Drive\, Fairfax\, VA\, 22030\, United States
CATEGORIES:Static Events
END:VEVENT
BEGIN:VEVENT
DTSTART;TZID=America/New_York:20200916T203000
DTEND;TZID=America/New_York:20200916T220000
DTSTAMP:20260425T102458
CREATED:20200428T024737Z
LAST-MODIFIED:20210413T050834Z
UID:10000134-1600288200-1600293600@www.1nvrc.com
SUMMARY:NVRC Wednesday Workshop Chat
DESCRIPTION:We’ve gone virtual!  With the ongoing public health emergency\, it’s not responsible to gather at the field. So we’re getting together on video chat! \nCome join us for a Zoom video workshop chat at Join Zoom Meeting\nhttps://us02web.zoom.us/j/4690492803\nMeeting ID: 469 049 2803 \nThe password is the gate combination on the back of your membership card.  If you’re a potential new member or lost your membership card\, use the Contact Us Page on the website and ask for a special guest link to join the meeting. \nWe welcome all RC flyers of all skill levels!
URL:https://www.1nvrc.com/event/nvrc-workshop-chat-5-2020-05-27/2020-09-16/
LOCATION:VA
CATEGORIES:Static Events
ATTACH;FMTTYPE=image/png:https://www.1nvrc.com/wp-content/uploads/2020/04/Model_Night.png
END:VEVENT
BEGIN:VEVENT
DTSTART;TZID=America/New_York:20200912T203000
DTEND;TZID=America/New_York:20200912T210000
DTSTAMP:20260425T102458
CREATED:20200428T024900Z
LAST-MODIFIED:20210413T160520Z
UID:10000436-1599942600-1599944400@www.1nvrc.com
SUMMARY:NVRC Saturday Workshop Chat
DESCRIPTION:We’ve gone virtual!  With the ongoing public health emergency\, it’s not responsible to gather at the field. So we’re getting together on video chat! \nCome join us for a Zoom video workshop chat at Join Zoom Meeting\nhttps://us02web.zoom.us/j/4690492803\nMeeting ID: 469 049 2803 \nThe password is the gate combination on the back of your membership card.  If you’re a potential new member or lost your membership card\, use the Contact Us Page on the website and ask for a special guest link to join the meeting. \nWe welcome all RC flyers of all skill levels!
URL:https://www.1nvrc.com/event/nvrc-workshop-chat-6-2020-05-30/2020-09-12/
LOCATION:VA
CATEGORIES:Static Events
ATTACH;FMTTYPE=image/png:https://www.1nvrc.com/wp-content/uploads/2020/04/Model_Night.png
END:VEVENT
BEGIN:VEVENT
DTSTART;TZID=America/New_York:20200909T203000
DTEND;TZID=America/New_York:20200909T220000
DTSTAMP:20260425T102458
CREATED:20200428T024737Z
LAST-MODIFIED:20210413T050834Z
UID:10000133-1599683400-1599688800@www.1nvrc.com
SUMMARY:NVRC Wednesday Workshop Chat
DESCRIPTION:We’ve gone virtual!  With the ongoing public health emergency\, it’s not responsible to gather at the field. So we’re getting together on video chat! \nCome join us for a Zoom video workshop chat at Join Zoom Meeting\nhttps://us02web.zoom.us/j/4690492803\nMeeting ID: 469 049 2803 \nThe password is the gate combination on the back of your membership card.  If you’re a potential new member or lost your membership card\, use the Contact Us Page on the website and ask for a special guest link to join the meeting. \nWe welcome all RC flyers of all skill levels!
URL:https://www.1nvrc.com/event/nvrc-workshop-chat-5-2020-05-27/2020-09-09/
LOCATION:VA
CATEGORIES:Static Events
ATTACH;FMTTYPE=image/png:https://www.1nvrc.com/wp-content/uploads/2020/04/Model_Night.png
END:VEVENT
BEGIN:VEVENT
DTSTART;TZID=America/New_York:20200905T203000
DTEND;TZID=America/New_York:20200905T210000
DTSTAMP:20260425T102458
CREATED:20200428T024900Z
LAST-MODIFIED:20210413T160520Z
UID:10000435-1599337800-1599339600@www.1nvrc.com
SUMMARY:NVRC Saturday Workshop Chat
DESCRIPTION:We’ve gone virtual!  With the ongoing public health emergency\, it’s not responsible to gather at the field. So we’re getting together on video chat! \nCome join us for a Zoom video workshop chat at Join Zoom Meeting\nhttps://us02web.zoom.us/j/4690492803\nMeeting ID: 469 049 2803 \nThe password is the gate combination on the back of your membership card.  If you’re a potential new member or lost your membership card\, use the Contact Us Page on the website and ask for a special guest link to join the meeting. \nWe welcome all RC flyers of all skill levels!
URL:https://www.1nvrc.com/event/nvrc-workshop-chat-6-2020-05-30/2020-09-05/
LOCATION:VA
CATEGORIES:Static Events
ATTACH;FMTTYPE=image/png:https://www.1nvrc.com/wp-content/uploads/2020/04/Model_Night.png
END:VEVENT
BEGIN:VEVENT
DTSTART;TZID=America/New_York:20200902T203000
DTEND;TZID=America/New_York:20200902T220000
DTSTAMP:20260425T102458
CREATED:20200428T024737Z
LAST-MODIFIED:20210413T050834Z
UID:10000132-1599078600-1599084000@www.1nvrc.com
SUMMARY:NVRC Wednesday Workshop Chat
DESCRIPTION:We’ve gone virtual!  With the ongoing public health emergency\, it’s not responsible to gather at the field. So we’re getting together on video chat! \nCome join us for a Zoom video workshop chat at Join Zoom Meeting\nhttps://us02web.zoom.us/j/4690492803\nMeeting ID: 469 049 2803 \nThe password is the gate combination on the back of your membership card.  If you’re a potential new member or lost your membership card\, use the Contact Us Page on the website and ask for a special guest link to join the meeting. \nWe welcome all RC flyers of all skill levels!
URL:https://www.1nvrc.com/event/nvrc-workshop-chat-5-2020-05-27/2020-09-02/
LOCATION:VA
CATEGORIES:Static Events
ATTACH;FMTTYPE=image/png:https://www.1nvrc.com/wp-content/uploads/2020/04/Model_Night.png
END:VEVENT
BEGIN:VEVENT
DTSTART;TZID=America/New_York:20200829T203000
DTEND;TZID=America/New_York:20200829T210000
DTSTAMP:20260425T102458
CREATED:20200428T024900Z
LAST-MODIFIED:20210413T160520Z
UID:10000434-1598733000-1598734800@www.1nvrc.com
SUMMARY:NVRC Saturday Workshop Chat
DESCRIPTION:We’ve gone virtual!  With the ongoing public health emergency\, it’s not responsible to gather at the field. So we’re getting together on video chat! \nCome join us for a Zoom video workshop chat at Join Zoom Meeting\nhttps://us02web.zoom.us/j/4690492803\nMeeting ID: 469 049 2803 \nThe password is the gate combination on the back of your membership card.  If you’re a potential new member or lost your membership card\, use the Contact Us Page on the website and ask for a special guest link to join the meeting. \nWe welcome all RC flyers of all skill levels!
URL:https://www.1nvrc.com/event/nvrc-workshop-chat-6-2020-05-30/2020-08-29/
LOCATION:VA
CATEGORIES:Static Events
ATTACH;FMTTYPE=image/png:https://www.1nvrc.com/wp-content/uploads/2020/04/Model_Night.png
END:VEVENT
BEGIN:VEVENT
DTSTART;TZID=America/New_York:20200829T100000
DTEND;TZID=America/New_York:20200829T130000
DTSTAMP:20260425T102458
CREATED:20200308T004724Z
LAST-MODIFIED:20210413T131342Z
UID:10000345-1598695200-1598706000@www.1nvrc.com
SUMMARY:Lorton Fun Fly
DESCRIPTION:Outdoor Fun Fly \n \nt
URL:https://www.1nvrc.com/event/lorton-fun-fly-2/
LOCATION:Lorton/Burnett Field\, 9800 Furnace Road\, Lorton\, VA\, 22079\, United States
CATEGORIES:Flying Events,Outdoor Fun Fly
ATTACH;FMTTYPE=image/jpeg:https://www.1nvrc.com/wp-content/uploads/2020/03/Elder60.jpg
END:VEVENT
BEGIN:VEVENT
DTSTART;TZID=America/New_York:20200826T203000
DTEND;TZID=America/New_York:20200826T220000
DTSTAMP:20260425T102458
CREATED:20200428T024737Z
LAST-MODIFIED:20210413T050834Z
UID:10000131-1598473800-1598479200@www.1nvrc.com
SUMMARY:NVRC Wednesday Workshop Chat
DESCRIPTION:We’ve gone virtual!  With the ongoing public health emergency\, it’s not responsible to gather at the field. So we’re getting together on video chat! \nCome join us for a Zoom video workshop chat at Join Zoom Meeting\nhttps://us02web.zoom.us/j/4690492803\nMeeting ID: 469 049 2803 \nThe password is the gate combination on the back of your membership card.  If you’re a potential new member or lost your membership card\, use the Contact Us Page on the website and ask for a special guest link to join the meeting. \nWe welcome all RC flyers of all skill levels!
URL:https://www.1nvrc.com/event/nvrc-workshop-chat-5-2020-05-27/2020-08-26/
LOCATION:VA
CATEGORIES:Static Events
ATTACH;FMTTYPE=image/png:https://www.1nvrc.com/wp-content/uploads/2020/04/Model_Night.png
END:VEVENT
BEGIN:VEVENT
DTSTART;TZID=America/New_York:20200822T203000
DTEND;TZID=America/New_York:20200822T210000
DTSTAMP:20260425T102458
CREATED:20200428T024900Z
LAST-MODIFIED:20210413T160520Z
UID:10000433-1598128200-1598130000@www.1nvrc.com
SUMMARY:NVRC Saturday Workshop Chat
DESCRIPTION:We’ve gone virtual!  With the ongoing public health emergency\, it’s not responsible to gather at the field. So we’re getting together on video chat! \nCome join us for a Zoom video workshop chat at Join Zoom Meeting\nhttps://us02web.zoom.us/j/4690492803\nMeeting ID: 469 049 2803 \nThe password is the gate combination on the back of your membership card.  If you’re a potential new member or lost your membership card\, use the Contact Us Page on the website and ask for a special guest link to join the meeting. \nWe welcome all RC flyers of all skill levels!
URL:https://www.1nvrc.com/event/nvrc-workshop-chat-6-2020-05-30/2020-08-22/
LOCATION:VA
CATEGORIES:Static Events
ATTACH;FMTTYPE=image/png:https://www.1nvrc.com/wp-content/uploads/2020/04/Model_Night.png
END:VEVENT
BEGIN:VEVENT
DTSTART;TZID=America/New_York:20200820T183000
DTEND;TZID=America/New_York:20200820T210000
DTSTAMP:20260425T102458
CREATED:20191215T050217Z
LAST-MODIFIED:20210415T160638Z
UID:10000107-1597948200-1597957200@www.1nvrc.com
SUMMARY:Monthly Club Meeting - CANCLLED
DESCRIPTION:Club Meetings
URL:https://www.1nvrc.com/event/monthly-club-meeting-20/
LOCATION:Poplar Ford Park\, 6714 Bull Run Post Office Road\, Centerville\, VA\, 20120\, United States
CATEGORIES:Flying Events,Static Events
END:VEVENT
BEGIN:VEVENT
DTSTART;TZID=America/New_York:20200819T203000
DTEND;TZID=America/New_York:20200819T220000
DTSTAMP:20260425T102458
CREATED:20200428T024737Z
LAST-MODIFIED:20210413T050834Z
UID:10000130-1597869000-1597874400@www.1nvrc.com
SUMMARY:NVRC Wednesday Workshop Chat
DESCRIPTION:We’ve gone virtual!  With the ongoing public health emergency\, it’s not responsible to gather at the field. So we’re getting together on video chat! \nCome join us for a Zoom video workshop chat at Join Zoom Meeting\nhttps://us02web.zoom.us/j/4690492803\nMeeting ID: 469 049 2803 \nThe password is the gate combination on the back of your membership card.  If you’re a potential new member or lost your membership card\, use the Contact Us Page on the website and ask for a special guest link to join the meeting. \nWe welcome all RC flyers of all skill levels!
URL:https://www.1nvrc.com/event/nvrc-workshop-chat-5-2020-05-27/2020-08-19/
LOCATION:VA
CATEGORIES:Static Events
ATTACH;FMTTYPE=image/png:https://www.1nvrc.com/wp-content/uploads/2020/04/Model_Night.png
END:VEVENT
BEGIN:VEVENT
DTSTART;TZID=America/New_York:20200815T203000
DTEND;TZID=America/New_York:20200815T210000
DTSTAMP:20260425T102458
CREATED:20200428T024900Z
LAST-MODIFIED:20210413T160520Z
UID:10000432-1597523400-1597525200@www.1nvrc.com
SUMMARY:NVRC Saturday Workshop Chat
DESCRIPTION:We’ve gone virtual!  With the ongoing public health emergency\, it’s not responsible to gather at the field. So we’re getting together on video chat! \nCome join us for a Zoom video workshop chat at Join Zoom Meeting\nhttps://us02web.zoom.us/j/4690492803\nMeeting ID: 469 049 2803 \nThe password is the gate combination on the back of your membership card.  If you’re a potential new member or lost your membership card\, use the Contact Us Page on the website and ask for a special guest link to join the meeting. \nWe welcome all RC flyers of all skill levels!
URL:https://www.1nvrc.com/event/nvrc-workshop-chat-6-2020-05-30/2020-08-15/
LOCATION:VA
CATEGORIES:Static Events
ATTACH;FMTTYPE=image/png:https://www.1nvrc.com/wp-content/uploads/2020/04/Model_Night.png
END:VEVENT
BEGIN:VEVENT
DTSTART;TZID=America/New_York:20200812T203000
DTEND;TZID=America/New_York:20200812T220000
DTSTAMP:20260425T102458
CREATED:20200428T024737Z
LAST-MODIFIED:20210413T050834Z
UID:10000129-1597264200-1597269600@www.1nvrc.com
SUMMARY:NVRC Wednesday Workshop Chat
DESCRIPTION:We’ve gone virtual!  With the ongoing public health emergency\, it’s not responsible to gather at the field. So we’re getting together on video chat! \nCome join us for a Zoom video workshop chat at Join Zoom Meeting\nhttps://us02web.zoom.us/j/4690492803\nMeeting ID: 469 049 2803 \nThe password is the gate combination on the back of your membership card.  If you’re a potential new member or lost your membership card\, use the Contact Us Page on the website and ask for a special guest link to join the meeting. \nWe welcome all RC flyers of all skill levels!
URL:https://www.1nvrc.com/event/nvrc-workshop-chat-5-2020-05-27/2020-08-12/
LOCATION:VA
CATEGORIES:Static Events
ATTACH;FMTTYPE=image/png:https://www.1nvrc.com/wp-content/uploads/2020/04/Model_Night.png
END:VEVENT
BEGIN:VEVENT
DTSTART;TZID=America/New_York:20200808T203000
DTEND;TZID=America/New_York:20200808T210000
DTSTAMP:20260425T102458
CREATED:20200428T024900Z
LAST-MODIFIED:20210413T160520Z
UID:10000431-1596918600-1596920400@www.1nvrc.com
SUMMARY:NVRC Saturday Workshop Chat
DESCRIPTION:We’ve gone virtual!  With the ongoing public health emergency\, it’s not responsible to gather at the field. So we’re getting together on video chat! \nCome join us for a Zoom video workshop chat at Join Zoom Meeting\nhttps://us02web.zoom.us/j/4690492803\nMeeting ID: 469 049 2803 \nThe password is the gate combination on the back of your membership card.  If you’re a potential new member or lost your membership card\, use the Contact Us Page on the website and ask for a special guest link to join the meeting. \nWe welcome all RC flyers of all skill levels!
URL:https://www.1nvrc.com/event/nvrc-workshop-chat-6-2020-05-30/2020-08-08/
LOCATION:VA
CATEGORIES:Static Events
ATTACH;FMTTYPE=image/png:https://www.1nvrc.com/wp-content/uploads/2020/04/Model_Night.png
END:VEVENT
BEGIN:VEVENT
DTSTART;VALUE=DATE:20200807
DTEND;VALUE=DATE:20200810
DTSTAMP:20260425T102458
CREATED:20200308T030821Z
LAST-MODIFIED:20210413T213511Z
UID:10000346-1596758400-1597017599@www.1nvrc.com
SUMMARY:Fredericksburg RC Sparcs & Arcs Fun Fly
DESCRIPTION:https://www.fredericksburgrc.com/ \n \n 
URL:https://www.1nvrc.com/event/fredericksburg-rc-sparcs-arcs-fun-fly/
LOCATION:Fredricksburg Area RC Club\, 6900 Jefferson Davis Highway\, Spotsylvania Courthouse\, VA\, 22551
CATEGORIES:Flying Events,Outdoor Fun Fly
END:VEVENT
BEGIN:VEVENT
DTSTART;TZID=America/New_York:20200805T203000
DTEND;TZID=America/New_York:20200805T220000
DTSTAMP:20260425T102458
CREATED:20200428T024737Z
LAST-MODIFIED:20210413T050834Z
UID:10000128-1596659400-1596664800@www.1nvrc.com
SUMMARY:NVRC Wednesday Workshop Chat
DESCRIPTION:We’ve gone virtual!  With the ongoing public health emergency\, it’s not responsible to gather at the field. So we’re getting together on video chat! \nCome join us for a Zoom video workshop chat at Join Zoom Meeting\nhttps://us02web.zoom.us/j/4690492803\nMeeting ID: 469 049 2803 \nThe password is the gate combination on the back of your membership card.  If you’re a potential new member or lost your membership card\, use the Contact Us Page on the website and ask for a special guest link to join the meeting. \nWe welcome all RC flyers of all skill levels!
URL:https://www.1nvrc.com/event/nvrc-workshop-chat-5-2020-05-27/2020-08-05/
LOCATION:VA
CATEGORIES:Static Events
ATTACH;FMTTYPE=image/png:https://www.1nvrc.com/wp-content/uploads/2020/04/Model_Night.png
END:VEVENT
BEGIN:VEVENT
DTSTART;TZID=America/New_York:20200801T203000
DTEND;TZID=America/New_York:20200801T210000
DTSTAMP:20260425T102458
CREATED:20200428T024900Z
LAST-MODIFIED:20210413T160520Z
UID:10000430-1596313800-1596315600@www.1nvrc.com
SUMMARY:NVRC Saturday Workshop Chat
DESCRIPTION:We’ve gone virtual!  With the ongoing public health emergency\, it’s not responsible to gather at the field. So we’re getting together on video chat! \nCome join us for a Zoom video workshop chat at Join Zoom Meeting\nhttps://us02web.zoom.us/j/4690492803\nMeeting ID: 469 049 2803 \nThe password is the gate combination on the back of your membership card.  If you’re a potential new member or lost your membership card\, use the Contact Us Page on the website and ask for a special guest link to join the meeting. \nWe welcome all RC flyers of all skill levels!
URL:https://www.1nvrc.com/event/nvrc-workshop-chat-6-2020-05-30/2020-08-01/
LOCATION:VA
CATEGORIES:Static Events
ATTACH;FMTTYPE=image/png:https://www.1nvrc.com/wp-content/uploads/2020/04/Model_Night.png
END:VEVENT
BEGIN:VEVENT
DTSTART;TZID=America/New_York:20200729T203000
DTEND;TZID=America/New_York:20200729T220000
DTSTAMP:20260425T102458
CREATED:20200428T024737Z
LAST-MODIFIED:20210413T050834Z
UID:10000127-1596054600-1596060000@www.1nvrc.com
SUMMARY:NVRC Wednesday Workshop Chat
DESCRIPTION:We’ve gone virtual!  With the ongoing public health emergency\, it’s not responsible to gather at the field. So we’re getting together on video chat! \nCome join us for a Zoom video workshop chat at Join Zoom Meeting\nhttps://us02web.zoom.us/j/4690492803\nMeeting ID: 469 049 2803 \nThe password is the gate combination on the back of your membership card.  If you’re a potential new member or lost your membership card\, use the Contact Us Page on the website and ask for a special guest link to join the meeting. \nWe welcome all RC flyers of all skill levels!
URL:https://www.1nvrc.com/event/nvrc-workshop-chat-5-2020-05-27/2020-07-29/
LOCATION:VA
CATEGORIES:Static Events
ATTACH;FMTTYPE=image/png:https://www.1nvrc.com/wp-content/uploads/2020/04/Model_Night.png
END:VEVENT
BEGIN:VEVENT
DTSTART;TZID=America/New_York:20200725T203000
DTEND;TZID=America/New_York:20200725T210000
DTSTAMP:20260425T102458
CREATED:20200428T024900Z
LAST-MODIFIED:20210413T160520Z
UID:10000429-1595709000-1595710800@www.1nvrc.com
SUMMARY:NVRC Saturday Workshop Chat
DESCRIPTION:We’ve gone virtual!  With the ongoing public health emergency\, it’s not responsible to gather at the field. So we’re getting together on video chat! \nCome join us for a Zoom video workshop chat at Join Zoom Meeting\nhttps://us02web.zoom.us/j/4690492803\nMeeting ID: 469 049 2803 \nThe password is the gate combination on the back of your membership card.  If you’re a potential new member or lost your membership card\, use the Contact Us Page on the website and ask for a special guest link to join the meeting. \nWe welcome all RC flyers of all skill levels!
URL:https://www.1nvrc.com/event/nvrc-workshop-chat-6-2020-05-30/2020-07-25/
LOCATION:VA
CATEGORIES:Static Events
ATTACH;FMTTYPE=image/png:https://www.1nvrc.com/wp-content/uploads/2020/04/Model_Night.png
END:VEVENT
BEGIN:VEVENT
DTSTART;TZID=America/New_York:20200723T080000
DTEND;TZID=America/New_York:20200726T170000
DTSTAMP:20260425T102458
CREATED:20200514T000131Z
LAST-MODIFIED:20210413T054908Z
UID:10000421-1595491200-1595782800@www.1nvrc.com
SUMMARY:Warbirds & Classics Over Fredericksburg
DESCRIPTION:https://www.facebook.com/Warbirds-and-Classics-Over-Fredericksburg-1264683633577619/
URL:https://www.1nvrc.com/event/warbirds-classics-over-fredericksburg/
LOCATION:Fredricksburg Area RC Club\, 6900 Jefferson Davis Highway\, Spotsylvania Courthouse\, VA\, 22551
CATEGORIES:Flying Events,Outdoor Fun Fly
END:VEVENT
BEGIN:VEVENT
DTSTART;TZID=America/New_York:20200722T203000
DTEND;TZID=America/New_York:20200722T220000
DTSTAMP:20260425T102458
CREATED:20200428T024737Z
LAST-MODIFIED:20210413T050834Z
UID:10000126-1595449800-1595455200@www.1nvrc.com
SUMMARY:NVRC Wednesday Workshop Chat
DESCRIPTION:We’ve gone virtual!  With the ongoing public health emergency\, it’s not responsible to gather at the field. So we’re getting together on video chat! \nCome join us for a Zoom video workshop chat at Join Zoom Meeting\nhttps://us02web.zoom.us/j/4690492803\nMeeting ID: 469 049 2803 \nThe password is the gate combination on the back of your membership card.  If you’re a potential new member or lost your membership card\, use the Contact Us Page on the website and ask for a special guest link to join the meeting. \nWe welcome all RC flyers of all skill levels!
URL:https://www.1nvrc.com/event/nvrc-workshop-chat-5-2020-05-27/2020-07-22/
LOCATION:VA
CATEGORIES:Static Events
ATTACH;FMTTYPE=image/png:https://www.1nvrc.com/wp-content/uploads/2020/04/Model_Night.png
END:VEVENT
BEGIN:VEVENT
DTSTART;TZID=America/New_York:20200718T203000
DTEND;TZID=America/New_York:20200718T210000
DTSTAMP:20260425T102458
CREATED:20200428T024900Z
LAST-MODIFIED:20210413T160520Z
UID:10000428-1595104200-1595106000@www.1nvrc.com
SUMMARY:NVRC Saturday Workshop Chat
DESCRIPTION:We’ve gone virtual!  With the ongoing public health emergency\, it’s not responsible to gather at the field. So we’re getting together on video chat! \nCome join us for a Zoom video workshop chat at Join Zoom Meeting\nhttps://us02web.zoom.us/j/4690492803\nMeeting ID: 469 049 2803 \nThe password is the gate combination on the back of your membership card.  If you’re a potential new member or lost your membership card\, use the Contact Us Page on the website and ask for a special guest link to join the meeting. \nWe welcome all RC flyers of all skill levels!
URL:https://www.1nvrc.com/event/nvrc-workshop-chat-6-2020-05-30/2020-07-18/
LOCATION:VA
CATEGORIES:Static Events
ATTACH;FMTTYPE=image/png:https://www.1nvrc.com/wp-content/uploads/2020/04/Model_Night.png
END:VEVENT
BEGIN:VEVENT
DTSTART;TZID=America/New_York:20200718T090000
DTEND;TZID=America/New_York:20200718T140000
DTSTAMP:20260425T102458
CREATED:20200308T003915Z
LAST-MODIFIED:20210415T153659Z
UID:10000329-1595062800-1595080800@www.1nvrc.com
SUMMARY:Family Day and Open House - CANCELLED
DESCRIPTION:Outdoor Fun Fly
URL:https://www.1nvrc.com/event/family-day-and-open-house/
LOCATION:Poplar Ford Park\, 6714 Bull Run Post Office Road\, Centerville\, VA\, 20120\, United States
CATEGORIES:Flying Events,Outdoor Fun Fly
ATTACH;FMTTYPE=image/jpeg:https://www.1nvrc.com/wp-content/uploads/2016/06/WP_20160604_005-scaled.jpg
END:VEVENT
BEGIN:VEVENT
DTSTART;TZID=America/New_York:20200716T183000
DTEND;TZID=America/New_York:20200716T210000
DTSTAMP:20260425T102458
CREATED:20191215T050120Z
LAST-MODIFIED:20210414T193510Z
UID:10000105-1594924200-1594933200@www.1nvrc.com
SUMMARY:Monthly Club Meeting - CANCELLED
DESCRIPTION:Club Meetings
URL:https://www.1nvrc.com/event/monthly-club-meeting-19/
LOCATION:Poplar Ford Park\, 6714 Bull Run Post Office Road\, Centerville\, VA\, 20120\, United States
CATEGORIES:Flying Events,Static Events
END:VEVENT
BEGIN:VEVENT
DTSTART;TZID=America/New_York:20200715T203000
DTEND;TZID=America/New_York:20200715T220000
DTSTAMP:20260425T102458
CREATED:20200428T024737Z
LAST-MODIFIED:20210416T105953Z
UID:10000141-1594845000-1594850400@www.1nvrc.com
SUMMARY:NVRC Wednesday Workshop Chat
DESCRIPTION:Carl & Mark – Bristol! \nWe’ve gone virtual!  With the ongoing public health emergency\, it’s not responsible to gather at the field. So we’re getting together on video chat! \nCome join us for a Zoom video workshop chat at Join Zoom Meeting\nhttps://us02web.zoom.us/j/4690492803\nMeeting ID: 469 049 2803 \nThe password is the gate combination on the back of your membership card.  If you’re a potential new member or lost your membership card\, use the Contact Us Page on the website and ask for a special guest link to join the meeting. \nWe welcome all RC flyers of all skill levels!
URL:https://www.1nvrc.com/event/nvrc-workshop-chat-5-2020-05-27-2020-07-15/
LOCATION:VA
CATEGORIES:Static Events
ATTACH;FMTTYPE=image/png:https://www.1nvrc.com/wp-content/uploads/2020/04/Model_Night.png
END:VEVENT
END:VCALENDAR