BEGIN:VCALENDAR
VERSION:2.0
PRODID:-//Northern Virginia Radio Control - NVRC - ECPv6.15.20//NONSGML v1.0//EN
CALSCALE:GREGORIAN
METHOD:PUBLISH
X-WR-CALNAME:Northern Virginia Radio Control - NVRC
X-ORIGINAL-URL:https://www.1nvrc.com
X-WR-CALDESC:Events for Northern Virginia Radio Control - NVRC
REFRESH-INTERVAL;VALUE=DURATION:PT1H
X-Robots-Tag:noindex
X-PUBLISHED-TTL:PT1H
BEGIN:VTIMEZONE
TZID:America/New_York
BEGIN:DAYLIGHT
TZOFFSETFROM:-0500
TZOFFSETTO:-0400
TZNAME:EDT
DTSTART:20170312T070000
END:DAYLIGHT
BEGIN:STANDARD
TZOFFSETFROM:-0400
TZOFFSETTO:-0500
TZNAME:EST
DTSTART:20171105T060000
END:STANDARD
BEGIN:DAYLIGHT
TZOFFSETFROM:-0500
TZOFFSETTO:-0400
TZNAME:EDT
DTSTART:20180311T070000
END:DAYLIGHT
BEGIN:STANDARD
TZOFFSETFROM:-0400
TZOFFSETTO:-0500
TZNAME:EST
DTSTART:20181104T060000
END:STANDARD
BEGIN:DAYLIGHT
TZOFFSETFROM:-0500
TZOFFSETTO:-0400
TZNAME:EDT
DTSTART:20190310T070000
END:DAYLIGHT
BEGIN:STANDARD
TZOFFSETFROM:-0400
TZOFFSETTO:-0500
TZNAME:EST
DTSTART:20191103T060000
END:STANDARD
END:VTIMEZONE
BEGIN:VEVENT
DTSTART;TZID=America/New_York:20180825T050000
DTEND;TZID=America/New_York:20180825T100000
DTSTAMP:20260423T170532
CREATED:20180119T083454Z
LAST-MODIFIED:20210415T162829Z
UID:10000020-1535173200-1535191200@www.1nvrc.com
SUMMARY:Lorton Open House Redux!
DESCRIPTION:We had so much fun at the last Lorton / Burnett Field Open House event we decided to do it again! Come fly just about anything from Flite Fest Foamies to 1/4 scale gassers – no noise restrictions! \nWe’re also going to do some informal streamer combat\, so bring your 3s2200mah or smaller foamy combat planes (pusher or puller) for some semi-destructive fun – we’ll have extra streamers handy! \nOpen to all NVRC members and guests – must have current AMA card to fly
URL:https://www.1nvrc.com/event/giant-scale-fly-in/
LOCATION:Lorton/Burnett Field\, 9800 Furnace Road\, Lorton\, VA\, 22079\, United States
CATEGORIES:Flying Events,Outdoor Fun Fly
END:VEVENT
BEGIN:VEVENT
DTSTART;TZID=America/New_York:20180804T050000
DTEND;TZID=America/New_York:20180804T080000
DTSTAMP:20260423T170532
CREATED:20180119T083455Z
LAST-MODIFIED:20210415T055743Z
UID:10000224-1533358800-1533369600@www.1nvrc.com
SUMMARY:Streamer Combat Skirmish
DESCRIPTION:Informal streamer combat practices 1st Saturdays Apr-Sep \n\nFollow all normal field rules!\n4 in the air at once\nCoordinate with other pilots\n\n\n\nRemember\, it’s an open flying day\, so make sure all pilots are aware of combat intentions and don’t crowd the field – no friendly fire incident please!!
URL:https://www.1nvrc.com/event/streamer-combat-skirmish-2/
LOCATION:Lorton/Burnett Field\, 9800 Furnace Road\, Lorton\, VA\, 22079\, United States
CATEGORIES:Flying Events
END:VEVENT
BEGIN:VEVENT
DTSTART;TZID=America/New_York:20180707T050000
DTEND;TZID=America/New_York:20180707T080000
DTSTAMP:20260423T170532
CREATED:20180119T083455Z
LAST-MODIFIED:20210419T211558Z
UID:10000222-1530939600-1530950400@www.1nvrc.com
SUMMARY:Streamer Combat Skirmish
DESCRIPTION:Informal streamer combat practices 1st Saturdays Apr-Sep \n\nFollow all normal field rules!\n4 in the air at once\nCoordinate with other pilots\n\n\n\nRemember\, it’s an open flying day\, so make sure all pilots are aware of combat intentions and don’t crowd the field – no friendly fire incident please!!
URL:https://www.1nvrc.com/event/streamer-combat-skirmish-3/
LOCATION:Poplar Ford Park\, 6714 Bull Run Post Office Road\, Centerville\, VA\, 20120\, United States
CATEGORIES:Flying Events
END:VEVENT
BEGIN:VEVENT
DTSTART;TZID=America/New_York:20180617T050000
DTEND;TZID=America/New_York:20180617T080000
DTSTAMP:20260423T170532
CREATED:20180119T083455Z
LAST-MODIFIED:20210413T104040Z
UID:10000255-1529211600-1529222400@www.1nvrc.com
SUMMARY:Streamer Combat Event
DESCRIPTION:Official Event Rules in Process \n\nBattery limit 3s2200 \nPusher Props – No Tractor style!\nMore than 4 planes aloft at discretion of Safety Officer & Contest Director
URL:https://www.1nvrc.com/event/streamer-combat-event/
LOCATION:Poplar Ford Park\, 6714 Bull Run Post Office Road\, Centerville\, VA\, 20120\, United States
CATEGORIES:Flying Events,Outdoor Fun Fly
END:VEVENT
BEGIN:VEVENT
DTSTART;TZID=America/New_York:20180602T050000
DTEND;TZID=America/New_York:20180602T080000
DTSTAMP:20260423T170532
CREATED:20180119T083455Z
LAST-MODIFIED:20210416T031025Z
UID:10000220-1527915600-1527926400@www.1nvrc.com
SUMMARY:Streamer Combat Skirmish
DESCRIPTION:Informal streamer combat practices 1st Saturdays Apr-Sep \n\nFollow all normal field rules!\n4 in the air at once\nCoordinate with other pilots\n\n\n\nRemember\, it’s an open flying day\, so make sure all pilots are aware of combat intentions and don’t crowd the field – no friendly fire incident please!!
URL:https://www.1nvrc.com/event/streamer-combat-skirmish-4/
LOCATION:Poplar Ford Park\, 6714 Bull Run Post Office Road\, Centerville\, VA\, 20120\, United States
CATEGORIES:Flying Events
END:VEVENT
BEGIN:VEVENT
DTSTART;TZID=America/New_York:20180505T050000
DTEND;TZID=America/New_York:20180505T080000
DTSTAMP:20260423T170532
CREATED:20180119T083545Z
LAST-MODIFIED:20210418T234651Z
UID:10000032-1525496400-1525507200@www.1nvrc.com
SUMMARY:Streamer Combat Skirmish
DESCRIPTION:Informal streamer combat practices 1st Saturdays Apr-Sep \n\nFollow all normal field rules!\n4 in the air at once\nCoordinate with other pilots\n\n\n\nRemember\, it’s an open flying day\, so make sure all pilots are aware of combat intentions and don’t crowd the field – no friendly fire incident please!!
URL:https://www.1nvrc.com/event/streamer-combat-skirmish-5/
LOCATION:Poplar Ford Park\, 6714 Bull Run Post Office Road\, Centerville\, VA\, 20120\, United States
CATEGORIES:Flying Events
END:VEVENT
BEGIN:VEVENT
DTSTART;TZID=America/New_York:20180421T050000
DTEND;TZID=America/New_York:20180421T080000
DTSTAMP:20260423T170532
CREATED:20180119T083545Z
LAST-MODIFIED:20210414T021716Z
UID:10000028-1524286800-1524297600@www.1nvrc.com
SUMMARY:Streamer Combat Event
DESCRIPTION:Official Event Rules in Process \n\nBattery limit 3s2200 \nPusher Props – No Tractor style!\nMore than 4 planes aloft at discretion of Safety Officer & Contest Director
URL:https://www.1nvrc.com/event/streamer-combat-event-2/
LOCATION:Poplar Ford Park\, 6714 Bull Run Post Office Road\, Centerville\, VA\, 20120\, United States
CATEGORIES:Flying Events,Outdoor Fun Fly
END:VEVENT
BEGIN:VEVENT
DTSTART;TZID=America/New_York:20180407T050000
DTEND;TZID=America/New_York:20180407T080000
DTSTAMP:20260423T170532
CREATED:20180119T083545Z
LAST-MODIFIED:20210413T174110Z
UID:10000030-1523077200-1523088000@www.1nvrc.com
SUMMARY:Streamer Combat Skirmish
DESCRIPTION:Informal streamer combat practices 1st Saturdays Apr-Sep \n\nFollow all normal field rules!\n4 in the air at once\nCoordinate with other pilots\n\n\n\nRemember\, it’s an open flying day\, so make sure all pilots are aware of combat intentions and don’t crowd the field – no friendly fire incident please!!
URL:https://www.1nvrc.com/event/streamer-combat-skirmish-6/
LOCATION:Poplar Ford Park\, 6714 Bull Run Post Office Road\, Centerville\, VA\, 20120\, United States
CATEGORIES:Flying Events
END:VEVENT
BEGIN:VEVENT
DTSTART;TZID=America/New_York:20180228T140000
DTEND;TZID=America/New_York:20180228T180000
DTSTAMP:20260423T170532
CREATED:20180119T083711Z
LAST-MODIFIED:20210413T071632Z
UID:10000034-1519826400-1519840800@www.1nvrc.com
SUMMARY:Combat Wing Build Night
DESCRIPTION:NVRC Club build event based on the popular Flite Test (FT) foam board build series\nEasy to follow along build for all skills levels\nHosted at Tony’s “Monster Mini-Golf” THANK YOU TONY!!\nUtilizing a popular FT foam board plane kit the FT Mighty Mini Arrow and power pack “F”\nAfter build\, meet at Popular Ford for a streamer combat fun fly! \nIf you want to bring any other foamy wing kit to build for the combat\, or any other Flite Test foam board kit like the FT Scout\, that’s great by us! The more\, the merrier! \nPreparation for the build night\n\nReview the Flite Test Build Instructions & Video\n\nVideo: https://youtu.be/cD2Ca2oskVs\nInstructions: https://www.flitetest.com/articles/ft-mighty-mini-arrow-build\n\n\nOrder FT Plane and power pack – https://store.flitetest.com/ft-mighty-mini-arrow/\nRecommended additional items needed for build:\n\nRazor blades or box cutter knife for cutting foam\nHot glue gun & glue\nPacking tape\nPliers for bending push rods & landing gear\nMetal Ruler (for helping cut straight lines)\nServo centering tool\nPlastic cards (old CC or door key) for landing gear support\nSave all foam scrap for glue scrapers!\n\n\nEstimate about 1.5 hours for build – following the video format\n\nCome Join In!\n\nTo participate send Rob Winterrowd a message through the website Contact Us page\n\nFeel free to involve your family members too!\n\n\nIf available to volunteer with the build night\, please let Rob know\nThe build will take approx. 1.5 hours – Party Room at Monster Mini Golf   THANK YOU TONY!!\nBring your TinyWhoop style indoor drone or come watch the races too!\nPlan to meet the first available Saturday AM at Popular Ford for a streamer combat fun fly!\nIf enough people are interested\, we’ll do it again!
URL:https://www.1nvrc.com/event/combat-wing-build-night/
LOCATION:Monster Mini Golf\, 14130 Sullyfield Circle\, Suite G\,  Chantilly\, VA\, 20151\, United States
CATEGORIES:Static Events
ATTACH;FMTTYPE=image/jpeg:https://www.1nvrc.com/wp-content/uploads/2018/01/arrowbuild-1-png_1453322141.jpg
END:VEVENT
END:VCALENDAR