BEGIN:VCALENDAR
VERSION:2.0
PRODID:-//Northern Virginia Radio Control - NVRC - ECPv6.15.20//NONSGML v1.0//EN
CALSCALE:GREGORIAN
METHOD:PUBLISH
X-WR-CALNAME:Northern Virginia Radio Control - NVRC
X-ORIGINAL-URL:https://www.1nvrc.com
X-WR-CALDESC:Events for Northern Virginia Radio Control - NVRC
REFRESH-INTERVAL;VALUE=DURATION:PT1H
X-Robots-Tag:noindex
X-PUBLISHED-TTL:PT1H
BEGIN:VTIMEZONE
TZID:America/New_York
BEGIN:DAYLIGHT
TZOFFSETFROM:-0500
TZOFFSETTO:-0400
TZNAME:EDT
DTSTART:20250309T070000
END:DAYLIGHT
BEGIN:STANDARD
TZOFFSETFROM:-0400
TZOFFSETTO:-0500
TZNAME:EST
DTSTART:20251102T060000
END:STANDARD
BEGIN:DAYLIGHT
TZOFFSETFROM:-0500
TZOFFSETTO:-0400
TZNAME:EDT
DTSTART:20260308T070000
END:DAYLIGHT
BEGIN:STANDARD
TZOFFSETFROM:-0400
TZOFFSETTO:-0500
TZNAME:EST
DTSTART:20261101T060000
END:STANDARD
BEGIN:DAYLIGHT
TZOFFSETFROM:-0500
TZOFFSETTO:-0400
TZNAME:EDT
DTSTART:20270314T070000
END:DAYLIGHT
BEGIN:STANDARD
TZOFFSETFROM:-0400
TZOFFSETTO:-0500
TZNAME:EST
DTSTART:20271107T060000
END:STANDARD
BEGIN:DAYLIGHT
TZOFFSETFROM:-0500
TZOFFSETTO:-0400
TZNAME:EDT
DTSTART:20280312T070000
END:DAYLIGHT
BEGIN:STANDARD
TZOFFSETFROM:-0400
TZOFFSETTO:-0500
TZNAME:EST
DTSTART:20281105T060000
END:STANDARD
END:VTIMEZONE
BEGIN:VEVENT
DTSTART;TZID=America/New_York:20260627T090000
DTEND;TZID=America/New_York:20260627T150000
DTSTAMP:20260423T181727
CREATED:20260415T152844Z
LAST-MODIFIED:20260415T152844Z
UID:10000957-1782550800-1782572400@www.1nvrc.com
SUMMARY:Radio Controlled Air Show "Airplanes of the World"
DESCRIPTION:WWW.FlyFreeState.com
URL:https://www.1nvrc.com/event/radio-controlled-air-show-airplanes-of-the-world/
LOCATION:Free State Aeromodelers\, 6050 Van Dusen Road\, Laurel\, MD\, United States
CATEGORIES:Flying Events,Outdoor Fun Fly
END:VEVENT
BEGIN:VEVENT
DTSTART;TZID=America/New_York:20260711T080000
DTEND;TZID=America/New_York:20260711T170000
DTSTAMP:20260423T181727
CREATED:20260222T021249Z
LAST-MODIFIED:20260320T141310Z
UID:10000938-1783756800-1783789200@www.1nvrc.com
SUMMARY:Commemorative Air Force and Culpeper air show
DESCRIPTION:CD – Mark Franke / TBD
URL:https://www.1nvrc.com/event/commemorative-air-force-and-culpeper-air-show/
LOCATION:VA
CATEGORIES:Flying Events,Static Events
END:VEVENT
BEGIN:VEVENT
DTSTART;TZID=America/New_York:20260712T090000
DTEND;TZID=America/New_York:20260712T170000
DTSTAMP:20260423T181727
CREATED:20260321T232343Z
LAST-MODIFIED:20260321T232343Z
UID:10000590-1783846800-1783875600@www.1nvrc.com
SUMMARY:FPV Field Day
DESCRIPTION:In our new FPV format\, we are going to dedicate the second Sunday of each month as an FPV Field Day at Poplar Ford Field. Fixed wing line of sight RC activities are still permitted\, but need to give way for FPV fixed wing or multi-rotor activities which can include setting up race gates on the runway. \nOn these FPV Field Days\, all NVRC members wishing to fly fixed wing line of sight are welcome to use the Lorton Field – even if you do not have the normal Lorton membership tag on your badge.
URL:https://www.1nvrc.com/event/fpv-field-day-2-2-2/2026-07-12/
LOCATION:Poplar Ford Park\, 6714 Bull Run Post Office Road\, Centerville\, VA\, 20120\, United States
CATEGORIES:Flying Events,Multi-rotor Racing
ATTACH;FMTTYPE=image/jpeg:https://www.1nvrc.com/wp-content/uploads/2018/01/FCPA-DronePark.jpg
END:VEVENT
BEGIN:VEVENT
DTSTART;TZID=America/New_York:20260716T193000
DTEND;TZID=America/New_York:20260716T210000
DTSTAMP:20260423T181727
CREATED:20260222T011002Z
LAST-MODIFIED:20260222T011339Z
UID:10000914-1784230200-1784235600@www.1nvrc.com
SUMMARY:Night Fly Monthly meeting (Summer)
DESCRIPTION:Night fly and monthly meeting at Poplar Ford park\nBe safe! \nClub Meetings
URL:https://www.1nvrc.com/event/night-fly-monthly-meeting-summer-2/2026-07-16/
LOCATION:Poplar Ford Park\, 6714 Bull Run Post Office Road\, Centerville\, VA\, 20120\, United States
END:VEVENT
BEGIN:VEVENT
DTSTART;TZID=America/New_York:20260809T090000
DTEND;TZID=America/New_York:20260809T170000
DTSTAMP:20260423T181727
CREATED:20260321T232343Z
LAST-MODIFIED:20260321T232343Z
UID:10000591-1786266000-1786294800@www.1nvrc.com
SUMMARY:FPV Field Day
DESCRIPTION:In our new FPV format\, we are going to dedicate the second Sunday of each month as an FPV Field Day at Poplar Ford Field. Fixed wing line of sight RC activities are still permitted\, but need to give way for FPV fixed wing or multi-rotor activities which can include setting up race gates on the runway. \nOn these FPV Field Days\, all NVRC members wishing to fly fixed wing line of sight are welcome to use the Lorton Field – even if you do not have the normal Lorton membership tag on your badge.
URL:https://www.1nvrc.com/event/fpv-field-day-2-2-2/2026-08-09/
LOCATION:Poplar Ford Park\, 6714 Bull Run Post Office Road\, Centerville\, VA\, 20120\, United States
CATEGORIES:Flying Events,Multi-rotor Racing
ATTACH;FMTTYPE=image/jpeg:https://www.1nvrc.com/wp-content/uploads/2018/01/FCPA-DronePark.jpg
END:VEVENT
BEGIN:VEVENT
DTSTART;TZID=America/New_York:20260815T090000
DTEND;TZID=America/New_York:20260815T120000
DTSTAMP:20260423T181727
CREATED:20260222T021536Z
LAST-MODIFIED:20260222T021536Z
UID:10000939-1786784400-1786795200@www.1nvrc.com
SUMMARY:Biplane Fun Fly
DESCRIPTION:CD – Bob Burrnett
URL:https://www.1nvrc.com/event/biplane-fun-fly-6/
LOCATION:Lorton/Burnett Field\, 9800 Furnace Road\, Lorton\, VA\, 22079\, United States
CATEGORIES:Flying Events,Outdoor Fun Fly
END:VEVENT
BEGIN:VEVENT
DTSTART;TZID=America/New_York:20260820T193000
DTEND;TZID=America/New_York:20260820T210000
DTSTAMP:20260423T181727
CREATED:20260222T011002Z
LAST-MODIFIED:20260222T011339Z
UID:10000915-1787254200-1787259600@www.1nvrc.com
SUMMARY:Night Fly Monthly meeting (Summer)
DESCRIPTION:Night fly and monthly meeting at Poplar Ford park\nBe safe! \nClub Meetings
URL:https://www.1nvrc.com/event/night-fly-monthly-meeting-summer-2/2026-08-20/
LOCATION:Poplar Ford Park\, 6714 Bull Run Post Office Road\, Centerville\, VA\, 20120\, United States
END:VEVENT
BEGIN:VEVENT
DTSTART;TZID=America/New_York:20260913T090000
DTEND;TZID=America/New_York:20260913T170000
DTSTAMP:20260423T181727
CREATED:20260321T232343Z
LAST-MODIFIED:20260321T232343Z
UID:10000592-1789290000-1789318800@www.1nvrc.com
SUMMARY:FPV Field Day
DESCRIPTION:In our new FPV format\, we are going to dedicate the second Sunday of each month as an FPV Field Day at Poplar Ford Field. Fixed wing line of sight RC activities are still permitted\, but need to give way for FPV fixed wing or multi-rotor activities which can include setting up race gates on the runway. \nOn these FPV Field Days\, all NVRC members wishing to fly fixed wing line of sight are welcome to use the Lorton Field – even if you do not have the normal Lorton membership tag on your badge.
URL:https://www.1nvrc.com/event/fpv-field-day-2-2-2/2026-09-13/
LOCATION:Poplar Ford Park\, 6714 Bull Run Post Office Road\, Centerville\, VA\, 20120\, United States
CATEGORIES:Flying Events,Multi-rotor Racing
ATTACH;FMTTYPE=image/jpeg:https://www.1nvrc.com/wp-content/uploads/2018/01/FCPA-DronePark.jpg
END:VEVENT
BEGIN:VEVENT
DTSTART;TZID=America/New_York:20260917T193000
DTEND;TZID=America/New_York:20260917T210000
DTSTAMP:20260423T181727
CREATED:20260222T005818Z
LAST-MODIFIED:20260222T011702Z
UID:10000920-1789673400-1789678800@www.1nvrc.com
SUMMARY:MONTHLY CLUB MEETING
DESCRIPTION:We are back to in-person meetings at Fairfax Fire Station #3 for 2025 (please wear a mask if you are at risk for COVID\, and please stay home if you feel sick in any way). \nBe safe! \nClub Meetings
URL:https://www.1nvrc.com/event/monthly-club-meetings-2/2026-09-17/
LOCATION:City of Fairfax Fire Station 3\, 4081 University Drive\, Fairfax\, VA\, 22030\, United States
END:VEVENT
BEGIN:VEVENT
DTSTART;TZID=America/New_York:20260926T080000
DTEND;TZID=America/New_York:20260926T170000
DTSTAMP:20260423T181727
CREATED:20260222T021703Z
LAST-MODIFIED:20260222T021703Z
UID:10000940-1790409600-1790442000@www.1nvrc.com
SUMMARY:Leesburg air show
DESCRIPTION:CD – Mark Franke / Rob Kaplan
URL:https://www.1nvrc.com/event/leesburg-air-show-3/
LOCATION:Leesburg Airport\, 1001 Sycolin Rd SE\, Leesburg\, VA\, 20175\, United States
CATEGORIES:Flying Events,Static Events
END:VEVENT
BEGIN:VEVENT
DTSTART;TZID=America/New_York:20261010T090000
DTEND;TZID=America/New_York:20261010T120000
DTSTAMP:20260423T181727
CREATED:20260222T021834Z
LAST-MODIFIED:20260318T150951Z
UID:10000941-1791622800-1791633600@www.1nvrc.com
SUMMARY:Lorton Glider Day
DESCRIPTION:CD – Robert Kaplan
URL:https://www.1nvrc.com/event/lorton-glider-day-5/
LOCATION:Lorton/Burnett Field\, 9800 Furnace Road\, Lorton\, VA\, 22079\, United States
END:VEVENT
BEGIN:VEVENT
DTSTART;TZID=America/New_York:20261011T090000
DTEND;TZID=America/New_York:20261011T170000
DTSTAMP:20260423T181727
CREATED:20260321T232343Z
LAST-MODIFIED:20260321T232343Z
UID:10000593-1791709200-1791738000@www.1nvrc.com
SUMMARY:FPV Field Day
DESCRIPTION:In our new FPV format\, we are going to dedicate the second Sunday of each month as an FPV Field Day at Poplar Ford Field. Fixed wing line of sight RC activities are still permitted\, but need to give way for FPV fixed wing or multi-rotor activities which can include setting up race gates on the runway. \nOn these FPV Field Days\, all NVRC members wishing to fly fixed wing line of sight are welcome to use the Lorton Field – even if you do not have the normal Lorton membership tag on your badge.
URL:https://www.1nvrc.com/event/fpv-field-day-2-2-2/2026-10-11/
LOCATION:Poplar Ford Park\, 6714 Bull Run Post Office Road\, Centerville\, VA\, 20120\, United States
CATEGORIES:Flying Events,Multi-rotor Racing
ATTACH;FMTTYPE=image/jpeg:https://www.1nvrc.com/wp-content/uploads/2018/01/FCPA-DronePark.jpg
END:VEVENT
BEGIN:VEVENT
DTSTART;TZID=America/New_York:20261015T193000
DTEND;TZID=America/New_York:20261015T210000
DTSTAMP:20260423T181727
CREATED:20260222T005818Z
LAST-MODIFIED:20260222T011702Z
UID:10000921-1792092600-1792098000@www.1nvrc.com
SUMMARY:MONTHLY CLUB MEETING
DESCRIPTION:We are back to in-person meetings at Fairfax Fire Station #3 for 2025 (please wear a mask if you are at risk for COVID\, and please stay home if you feel sick in any way). \nBe safe! \nClub Meetings
URL:https://www.1nvrc.com/event/monthly-club-meetings-2/2026-10-15/
LOCATION:City of Fairfax Fire Station 3\, 4081 University Drive\, Fairfax\, VA\, 22030\, United States
END:VEVENT
BEGIN:VEVENT
DTSTART;TZID=America/New_York:20261017T080000
DTEND;TZID=America/New_York:20261017T130000
DTSTAMP:20260423T181727
CREATED:20260222T021951Z
LAST-MODIFIED:20260222T021951Z
UID:10000942-1792224000-1792242000@www.1nvrc.com
SUMMARY:Fall Chicken Fun Fly & Silent Auction Swap Meet
DESCRIPTION:CD- Ken Bassett and Chris Bunker
URL:https://www.1nvrc.com/event/fall-chicken-fun-fly-silent-auction-swap-meet-2/
LOCATION:Poplar Ford Park\, 6714 Bull Run Post Office Road\, Centerville\, VA\, 20120\, United States
CATEGORIES:Flying Events,Outdoor Fun Fly
END:VEVENT
BEGIN:VEVENT
DTSTART;TZID=America/New_York:20261108T090000
DTEND;TZID=America/New_York:20261108T170000
DTSTAMP:20260423T181727
CREATED:20260321T232343Z
LAST-MODIFIED:20260321T232343Z
UID:10000594-1794128400-1794157200@www.1nvrc.com
SUMMARY:FPV Field Day
DESCRIPTION:In our new FPV format\, we are going to dedicate the second Sunday of each month as an FPV Field Day at Poplar Ford Field. Fixed wing line of sight RC activities are still permitted\, but need to give way for FPV fixed wing or multi-rotor activities which can include setting up race gates on the runway. \nOn these FPV Field Days\, all NVRC members wishing to fly fixed wing line of sight are welcome to use the Lorton Field – even if you do not have the normal Lorton membership tag on your badge.
URL:https://www.1nvrc.com/event/fpv-field-day-2-2-2/2026-11-08/
LOCATION:Poplar Ford Park\, 6714 Bull Run Post Office Road\, Centerville\, VA\, 20120\, United States
CATEGORIES:Flying Events,Multi-rotor Racing
ATTACH;FMTTYPE=image/jpeg:https://www.1nvrc.com/wp-content/uploads/2018/01/FCPA-DronePark.jpg
END:VEVENT
BEGIN:VEVENT
DTSTART;TZID=America/New_York:20261119T193000
DTEND;TZID=America/New_York:20261119T210000
DTSTAMP:20260423T181727
CREATED:20260222T005818Z
LAST-MODIFIED:20260222T011702Z
UID:10000922-1795116600-1795122000@www.1nvrc.com
SUMMARY:MONTHLY CLUB MEETING
DESCRIPTION:We are back to in-person meetings at Fairfax Fire Station #3 for 2025 (please wear a mask if you are at risk for COVID\, and please stay home if you feel sick in any way). \nBe safe! \nClub Meetings
URL:https://www.1nvrc.com/event/monthly-club-meetings-2/2026-11-19/
LOCATION:City of Fairfax Fire Station 3\, 4081 University Drive\, Fairfax\, VA\, 22030\, United States
END:VEVENT
BEGIN:VEVENT
DTSTART;TZID=America/New_York:20261212T170000
DTEND;TZID=America/New_York:20261212T233000
DTSTAMP:20260423T181727
CREATED:20260222T022215Z
LAST-MODIFIED:20260222T022215Z
UID:10000943-1797094800-1797118200@www.1nvrc.com
SUMMARY:Holiday Party
DESCRIPTION:CD – Paul Lukas
URL:https://www.1nvrc.com/event/holiday-party-2/
LOCATION:Truo Clubhouse\, 4146 Elizabeth Lane\, Annandale\, 22003
END:VEVENT
BEGIN:VEVENT
DTSTART;TZID=America/New_York:20261213T090000
DTEND;TZID=America/New_York:20261213T170000
DTSTAMP:20260423T181727
CREATED:20260321T232343Z
LAST-MODIFIED:20260321T232343Z
UID:10000595-1797152400-1797181200@www.1nvrc.com
SUMMARY:FPV Field Day
DESCRIPTION:In our new FPV format\, we are going to dedicate the second Sunday of each month as an FPV Field Day at Poplar Ford Field. Fixed wing line of sight RC activities are still permitted\, but need to give way for FPV fixed wing or multi-rotor activities which can include setting up race gates on the runway. \nOn these FPV Field Days\, all NVRC members wishing to fly fixed wing line of sight are welcome to use the Lorton Field – even if you do not have the normal Lorton membership tag on your badge.
URL:https://www.1nvrc.com/event/fpv-field-day-2-2-2/2026-12-13/
LOCATION:Poplar Ford Park\, 6714 Bull Run Post Office Road\, Centerville\, VA\, 20120\, United States
CATEGORIES:Flying Events,Multi-rotor Racing
ATTACH;FMTTYPE=image/jpeg:https://www.1nvrc.com/wp-content/uploads/2018/01/FCPA-DronePark.jpg
END:VEVENT
BEGIN:VEVENT
DTSTART;TZID=America/New_York:20270110T090000
DTEND;TZID=America/New_York:20270110T170000
DTSTAMP:20260423T181727
CREATED:20260321T232343Z
LAST-MODIFIED:20260321T232343Z
UID:10000596-1799571600-1799600400@www.1nvrc.com
SUMMARY:FPV Field Day
DESCRIPTION:In our new FPV format\, we are going to dedicate the second Sunday of each month as an FPV Field Day at Poplar Ford Field. Fixed wing line of sight RC activities are still permitted\, but need to give way for FPV fixed wing or multi-rotor activities which can include setting up race gates on the runway. \nOn these FPV Field Days\, all NVRC members wishing to fly fixed wing line of sight are welcome to use the Lorton Field – even if you do not have the normal Lorton membership tag on your badge.
URL:https://www.1nvrc.com/event/fpv-field-day-2-2-2/2027-01-10/
LOCATION:Poplar Ford Park\, 6714 Bull Run Post Office Road\, Centerville\, VA\, 20120\, United States
CATEGORIES:Flying Events,Multi-rotor Racing
ATTACH;FMTTYPE=image/jpeg:https://www.1nvrc.com/wp-content/uploads/2018/01/FCPA-DronePark.jpg
END:VEVENT
BEGIN:VEVENT
DTSTART;TZID=America/New_York:20270214T090000
DTEND;TZID=America/New_York:20270214T170000
DTSTAMP:20260423T181727
CREATED:20260321T232343Z
LAST-MODIFIED:20260321T232343Z
UID:10000597-1802595600-1802624400@www.1nvrc.com
SUMMARY:FPV Field Day
DESCRIPTION:In our new FPV format\, we are going to dedicate the second Sunday of each month as an FPV Field Day at Poplar Ford Field. Fixed wing line of sight RC activities are still permitted\, but need to give way for FPV fixed wing or multi-rotor activities which can include setting up race gates on the runway. \nOn these FPV Field Days\, all NVRC members wishing to fly fixed wing line of sight are welcome to use the Lorton Field – even if you do not have the normal Lorton membership tag on your badge.
URL:https://www.1nvrc.com/event/fpv-field-day-2-2-2/2027-02-14/
LOCATION:Poplar Ford Park\, 6714 Bull Run Post Office Road\, Centerville\, VA\, 20120\, United States
CATEGORIES:Flying Events,Multi-rotor Racing
ATTACH;FMTTYPE=image/jpeg:https://www.1nvrc.com/wp-content/uploads/2018/01/FCPA-DronePark.jpg
END:VEVENT
BEGIN:VEVENT
DTSTART;TZID=America/New_York:20270314T090000
DTEND;TZID=America/New_York:20270314T170000
DTSTAMP:20260423T181727
CREATED:20260321T232343Z
LAST-MODIFIED:20260321T232343Z
UID:10000598-1805014800-1805043600@www.1nvrc.com
SUMMARY:FPV Field Day
DESCRIPTION:In our new FPV format\, we are going to dedicate the second Sunday of each month as an FPV Field Day at Poplar Ford Field. Fixed wing line of sight RC activities are still permitted\, but need to give way for FPV fixed wing or multi-rotor activities which can include setting up race gates on the runway. \nOn these FPV Field Days\, all NVRC members wishing to fly fixed wing line of sight are welcome to use the Lorton Field – even if you do not have the normal Lorton membership tag on your badge.
URL:https://www.1nvrc.com/event/fpv-field-day-2-2-2/2027-03-14/
LOCATION:Poplar Ford Park\, 6714 Bull Run Post Office Road\, Centerville\, VA\, 20120\, United States
CATEGORIES:Flying Events,Multi-rotor Racing
ATTACH;FMTTYPE=image/jpeg:https://www.1nvrc.com/wp-content/uploads/2018/01/FCPA-DronePark.jpg
END:VEVENT
BEGIN:VEVENT
DTSTART;TZID=America/New_York:20270411T090000
DTEND;TZID=America/New_York:20270411T170000
DTSTAMP:20260423T181727
CREATED:20260321T232343Z
LAST-MODIFIED:20260321T232343Z
UID:10000599-1807434000-1807462800@www.1nvrc.com
SUMMARY:FPV Field Day
DESCRIPTION:In our new FPV format\, we are going to dedicate the second Sunday of each month as an FPV Field Day at Poplar Ford Field. Fixed wing line of sight RC activities are still permitted\, but need to give way for FPV fixed wing or multi-rotor activities which can include setting up race gates on the runway. \nOn these FPV Field Days\, all NVRC members wishing to fly fixed wing line of sight are welcome to use the Lorton Field – even if you do not have the normal Lorton membership tag on your badge.
URL:https://www.1nvrc.com/event/fpv-field-day-2-2-2/2027-04-11/
LOCATION:Poplar Ford Park\, 6714 Bull Run Post Office Road\, Centerville\, VA\, 20120\, United States
CATEGORIES:Flying Events,Multi-rotor Racing
ATTACH;FMTTYPE=image/jpeg:https://www.1nvrc.com/wp-content/uploads/2018/01/FCPA-DronePark.jpg
END:VEVENT
BEGIN:VEVENT
DTSTART;TZID=America/New_York:20270509T090000
DTEND;TZID=America/New_York:20270509T170000
DTSTAMP:20260423T181727
CREATED:20260321T232343Z
LAST-MODIFIED:20260321T232343Z
UID:10000600-1809853200-1809882000@www.1nvrc.com
SUMMARY:FPV Field Day
DESCRIPTION:In our new FPV format\, we are going to dedicate the second Sunday of each month as an FPV Field Day at Poplar Ford Field. Fixed wing line of sight RC activities are still permitted\, but need to give way for FPV fixed wing or multi-rotor activities which can include setting up race gates on the runway. \nOn these FPV Field Days\, all NVRC members wishing to fly fixed wing line of sight are welcome to use the Lorton Field – even if you do not have the normal Lorton membership tag on your badge.
URL:https://www.1nvrc.com/event/fpv-field-day-2-2-2/2027-05-09/
LOCATION:Poplar Ford Park\, 6714 Bull Run Post Office Road\, Centerville\, VA\, 20120\, United States
CATEGORIES:Flying Events,Multi-rotor Racing
ATTACH;FMTTYPE=image/jpeg:https://www.1nvrc.com/wp-content/uploads/2018/01/FCPA-DronePark.jpg
END:VEVENT
BEGIN:VEVENT
DTSTART;TZID=America/New_York:20270613T090000
DTEND;TZID=America/New_York:20270613T170000
DTSTAMP:20260423T181727
CREATED:20260321T232343Z
LAST-MODIFIED:20260321T232343Z
UID:10000601-1812877200-1812906000@www.1nvrc.com
SUMMARY:FPV Field Day
DESCRIPTION:In our new FPV format\, we are going to dedicate the second Sunday of each month as an FPV Field Day at Poplar Ford Field. Fixed wing line of sight RC activities are still permitted\, but need to give way for FPV fixed wing or multi-rotor activities which can include setting up race gates on the runway. \nOn these FPV Field Days\, all NVRC members wishing to fly fixed wing line of sight are welcome to use the Lorton Field – even if you do not have the normal Lorton membership tag on your badge.
URL:https://www.1nvrc.com/event/fpv-field-day-2-2-2/2027-06-13/
LOCATION:Poplar Ford Park\, 6714 Bull Run Post Office Road\, Centerville\, VA\, 20120\, United States
CATEGORIES:Flying Events,Multi-rotor Racing
ATTACH;FMTTYPE=image/jpeg:https://www.1nvrc.com/wp-content/uploads/2018/01/FCPA-DronePark.jpg
END:VEVENT
BEGIN:VEVENT
DTSTART;TZID=America/New_York:20270711T090000
DTEND;TZID=America/New_York:20270711T170000
DTSTAMP:20260423T181727
CREATED:20260321T232343Z
LAST-MODIFIED:20260321T232343Z
UID:10000602-1815296400-1815325200@www.1nvrc.com
SUMMARY:FPV Field Day
DESCRIPTION:In our new FPV format\, we are going to dedicate the second Sunday of each month as an FPV Field Day at Poplar Ford Field. Fixed wing line of sight RC activities are still permitted\, but need to give way for FPV fixed wing or multi-rotor activities which can include setting up race gates on the runway. \nOn these FPV Field Days\, all NVRC members wishing to fly fixed wing line of sight are welcome to use the Lorton Field – even if you do not have the normal Lorton membership tag on your badge.
URL:https://www.1nvrc.com/event/fpv-field-day-2-2-2/2027-07-11/
LOCATION:Poplar Ford Park\, 6714 Bull Run Post Office Road\, Centerville\, VA\, 20120\, United States
CATEGORIES:Flying Events,Multi-rotor Racing
ATTACH;FMTTYPE=image/jpeg:https://www.1nvrc.com/wp-content/uploads/2018/01/FCPA-DronePark.jpg
END:VEVENT
BEGIN:VEVENT
DTSTART;TZID=America/New_York:20270808T090000
DTEND;TZID=America/New_York:20270808T170000
DTSTAMP:20260423T181727
CREATED:20260321T232343Z
LAST-MODIFIED:20260321T232343Z
UID:10000603-1817715600-1817744400@www.1nvrc.com
SUMMARY:FPV Field Day
DESCRIPTION:In our new FPV format\, we are going to dedicate the second Sunday of each month as an FPV Field Day at Poplar Ford Field. Fixed wing line of sight RC activities are still permitted\, but need to give way for FPV fixed wing or multi-rotor activities which can include setting up race gates on the runway. \nOn these FPV Field Days\, all NVRC members wishing to fly fixed wing line of sight are welcome to use the Lorton Field – even if you do not have the normal Lorton membership tag on your badge.
URL:https://www.1nvrc.com/event/fpv-field-day-2-2-2/2027-08-08/
LOCATION:Poplar Ford Park\, 6714 Bull Run Post Office Road\, Centerville\, VA\, 20120\, United States
CATEGORIES:Flying Events,Multi-rotor Racing
ATTACH;FMTTYPE=image/jpeg:https://www.1nvrc.com/wp-content/uploads/2018/01/FCPA-DronePark.jpg
END:VEVENT
BEGIN:VEVENT
DTSTART;TZID=America/New_York:20270912T090000
DTEND;TZID=America/New_York:20270912T170000
DTSTAMP:20260423T181727
CREATED:20260321T232343Z
LAST-MODIFIED:20260321T232343Z
UID:10000604-1820739600-1820768400@www.1nvrc.com
SUMMARY:FPV Field Day
DESCRIPTION:In our new FPV format\, we are going to dedicate the second Sunday of each month as an FPV Field Day at Poplar Ford Field. Fixed wing line of sight RC activities are still permitted\, but need to give way for FPV fixed wing or multi-rotor activities which can include setting up race gates on the runway. \nOn these FPV Field Days\, all NVRC members wishing to fly fixed wing line of sight are welcome to use the Lorton Field – even if you do not have the normal Lorton membership tag on your badge.
URL:https://www.1nvrc.com/event/fpv-field-day-2-2-2/2027-09-12/
LOCATION:Poplar Ford Park\, 6714 Bull Run Post Office Road\, Centerville\, VA\, 20120\, United States
CATEGORIES:Flying Events,Multi-rotor Racing
ATTACH;FMTTYPE=image/jpeg:https://www.1nvrc.com/wp-content/uploads/2018/01/FCPA-DronePark.jpg
END:VEVENT
BEGIN:VEVENT
DTSTART;TZID=America/New_York:20271010T090000
DTEND;TZID=America/New_York:20271010T170000
DTSTAMP:20260423T181727
CREATED:20260321T232343Z
LAST-MODIFIED:20260321T232343Z
UID:10000605-1823158800-1823187600@www.1nvrc.com
SUMMARY:FPV Field Day
DESCRIPTION:In our new FPV format\, we are going to dedicate the second Sunday of each month as an FPV Field Day at Poplar Ford Field. Fixed wing line of sight RC activities are still permitted\, but need to give way for FPV fixed wing or multi-rotor activities which can include setting up race gates on the runway. \nOn these FPV Field Days\, all NVRC members wishing to fly fixed wing line of sight are welcome to use the Lorton Field – even if you do not have the normal Lorton membership tag on your badge.
URL:https://www.1nvrc.com/event/fpv-field-day-2-2-2/2027-10-10/
LOCATION:Poplar Ford Park\, 6714 Bull Run Post Office Road\, Centerville\, VA\, 20120\, United States
CATEGORIES:Flying Events,Multi-rotor Racing
ATTACH;FMTTYPE=image/jpeg:https://www.1nvrc.com/wp-content/uploads/2018/01/FCPA-DronePark.jpg
END:VEVENT
BEGIN:VEVENT
DTSTART;TZID=America/New_York:20271114T090000
DTEND;TZID=America/New_York:20271114T170000
DTSTAMP:20260423T181727
CREATED:20260321T232343Z
LAST-MODIFIED:20260321T232343Z
UID:10000606-1826182800-1826211600@www.1nvrc.com
SUMMARY:FPV Field Day
DESCRIPTION:In our new FPV format\, we are going to dedicate the second Sunday of each month as an FPV Field Day at Poplar Ford Field. Fixed wing line of sight RC activities are still permitted\, but need to give way for FPV fixed wing or multi-rotor activities which can include setting up race gates on the runway. \nOn these FPV Field Days\, all NVRC members wishing to fly fixed wing line of sight are welcome to use the Lorton Field – even if you do not have the normal Lorton membership tag on your badge.
URL:https://www.1nvrc.com/event/fpv-field-day-2-2-2/2027-11-14/
LOCATION:Poplar Ford Park\, 6714 Bull Run Post Office Road\, Centerville\, VA\, 20120\, United States
CATEGORIES:Flying Events,Multi-rotor Racing
ATTACH;FMTTYPE=image/jpeg:https://www.1nvrc.com/wp-content/uploads/2018/01/FCPA-DronePark.jpg
END:VEVENT
BEGIN:VEVENT
DTSTART;TZID=America/New_York:20271212T090000
DTEND;TZID=America/New_York:20271212T170000
DTSTAMP:20260423T181727
CREATED:20260321T232343Z
LAST-MODIFIED:20260321T232343Z
UID:10000607-1828602000-1828630800@www.1nvrc.com
SUMMARY:FPV Field Day
DESCRIPTION:In our new FPV format\, we are going to dedicate the second Sunday of each month as an FPV Field Day at Poplar Ford Field. Fixed wing line of sight RC activities are still permitted\, but need to give way for FPV fixed wing or multi-rotor activities which can include setting up race gates on the runway. \nOn these FPV Field Days\, all NVRC members wishing to fly fixed wing line of sight are welcome to use the Lorton Field – even if you do not have the normal Lorton membership tag on your badge.
URL:https://www.1nvrc.com/event/fpv-field-day-2-2-2/2027-12-12/
LOCATION:Poplar Ford Park\, 6714 Bull Run Post Office Road\, Centerville\, VA\, 20120\, United States
CATEGORIES:Flying Events,Multi-rotor Racing
ATTACH;FMTTYPE=image/jpeg:https://www.1nvrc.com/wp-content/uploads/2018/01/FCPA-DronePark.jpg
END:VEVENT
END:VCALENDAR