BEGIN:VCALENDAR
VERSION:2.0
PRODID:-//Northern Virginia Radio Control - NVRC - ECPv6.15.20//NONSGML v1.0//EN
CALSCALE:GREGORIAN
METHOD:PUBLISH
X-WR-CALNAME:Northern Virginia Radio Control - NVRC
X-ORIGINAL-URL:https://www.1nvrc.com
X-WR-CALDESC:Events for Northern Virginia Radio Control - NVRC
REFRESH-INTERVAL;VALUE=DURATION:PT1H
X-Robots-Tag:noindex
X-PUBLISHED-TTL:PT1H
BEGIN:VTIMEZONE
TZID:America/New_York
BEGIN:DAYLIGHT
TZOFFSETFROM:-0500
TZOFFSETTO:-0400
TZNAME:EDT
DTSTART:20180311T070000
END:DAYLIGHT
BEGIN:STANDARD
TZOFFSETFROM:-0400
TZOFFSETTO:-0500
TZNAME:EST
DTSTART:20181104T060000
END:STANDARD
BEGIN:DAYLIGHT
TZOFFSETFROM:-0500
TZOFFSETTO:-0400
TZNAME:EDT
DTSTART:20190310T070000
END:DAYLIGHT
BEGIN:STANDARD
TZOFFSETFROM:-0400
TZOFFSETTO:-0500
TZNAME:EST
DTSTART:20191103T060000
END:STANDARD
BEGIN:DAYLIGHT
TZOFFSETFROM:-0500
TZOFFSETTO:-0400
TZNAME:EDT
DTSTART:20200308T070000
END:DAYLIGHT
BEGIN:STANDARD
TZOFFSETFROM:-0400
TZOFFSETTO:-0500
TZNAME:EST
DTSTART:20201101T060000
END:STANDARD
END:VTIMEZONE
BEGIN:VEVENT
DTSTART;TZID=America/New_York:20191121T143000
DTEND;TZID=America/New_York:20191121T160000
DTSTAMP:20260425T070722
CREATED:20190208T090739Z
LAST-MODIFIED:20210413T175350Z
UID:10000294-1574346600-1574352000@www.1nvrc.com
SUMMARY:Monthly Club Meeting
DESCRIPTION:Club Meetings
URL:https://www.1nvrc.com/event/monthly-club-meeting-15/
LOCATION:City of Fairfax Fire Station 3\, 4081 University Drive\, Fairfax\, VA\, 22030\, United States
CATEGORIES:Static Events
END:VEVENT
BEGIN:VEVENT
DTSTART;TZID=America/New_York:20191116T040000
DTEND;TZID=America/New_York:20191116T110000
DTSTAMP:20260425T070722
CREATED:20190903T025610Z
LAST-MODIFIED:20210414T190638Z
UID:10000308-1573876800-1573902000@www.1nvrc.com
SUMMARY:Indoor Fun Fly
DESCRIPTION:This is a great event & fundraiser hosted by the West Potomac High School science club!
URL:https://www.1nvrc.com/event/indoor-fun-fly-5/
LOCATION:West Potomac High School\, 6500 Quander Road\, Alexandria \, VA\, 22307\, United States
CATEGORIES:Flying Events,Indoor Fun Fly
END:VEVENT
BEGIN:VEVENT
DTSTART;TZID=America/New_York:20191109T030000
DTEND;TZID=America/New_York:20191109T070000
DTSTAMP:20260425T070722
CREATED:20190208T103454Z
LAST-MODIFIED:20210415T191155Z
UID:10000304-1573268400-1573282800@www.1nvrc.com
SUMMARY:Streamer Combat Skirmish!
DESCRIPTION:Come on out and see if you can take down the NVRC Aces!   \n\nFollow all normal field rules!\n4 in the air at once\nCoordinate with other pilots\n\n\nRemember\, it’s an open flying day\, so make sure all pilots are aware of combat intentions and keep those planes out over the rough – not on the green. No friendly fire incidents please!!
URL:https://www.1nvrc.com/event/streamer-combat-skirmish-19/
LOCATION:Lorton/Burnett Field\, 9800 Furnace Road\, Lorton\, VA\, 22079\, United States
CATEGORIES:Flying Events
END:VEVENT
BEGIN:VEVENT
DTSTART;TZID=America/New_York:20191019T040000
DTEND;TZID=America/New_York:20191019T080000
DTSTAMP:20260425T070722
CREATED:20190208T103346Z
LAST-MODIFIED:20210413T162011Z
UID:10000303-1571457600-1571472000@www.1nvrc.com
SUMMARY:Streamer Combat Skirmish!
DESCRIPTION:Come on out and see if you can take down the NVRC Aces!   \n\nFollow all normal field rules!\n4 in the air at once\nCoordinate with other pilots\n\n\nRemember\, it’s an open flying day\, so make sure all pilots are aware of combat intentions and keep those planes out over the rough – not on the green. No friendly fire incidents please!!
URL:https://www.1nvrc.com/event/streamer-combat-skirmish-18/
LOCATION:Lorton/Burnett Field\, 9800 Furnace Road\, Lorton\, VA\, 22079\, United States
CATEGORIES:Flying Events
END:VEVENT
BEGIN:VEVENT
DTSTART;TZID=America/New_York:20191017T153000
DTEND;TZID=America/New_York:20191017T170000
DTSTAMP:20260425T070722
CREATED:20190208T090618Z
LAST-MODIFIED:20210413T162012Z
UID:10000292-1571326200-1571331600@www.1nvrc.com
SUMMARY:Monthly Club Meeting
DESCRIPTION:Club Meetings
URL:https://www.1nvrc.com/event/monthly-club-meeting-12/
LOCATION:City of Fairfax Fire Station 3\, 4081 University Drive\, Fairfax\, VA\, 22030\, United States
CATEGORIES:Static Events
END:VEVENT
BEGIN:VEVENT
DTSTART;TZID=America/New_York:20191012T040000
DTEND;TZID=America/New_York:20191012T130000
DTSTAMP:20260425T070722
CREATED:20190208T095348Z
LAST-MODIFIED:20210413T071640Z
UID:10000073-1570852800-1570885200@www.1nvrc.com
SUMMARY:RC Auction!
DESCRIPTION:
URL:https://www.1nvrc.com/event/rc-auction-2/
LOCATION:West Potomac High School\, 6500 Quander Road\, Alexandria \, VA\, 22307\, United States
CATEGORIES:Static Events
ATTACH;FMTTYPE=image/gif:https://www.1nvrc.com/wp-content/uploads/2015/02/Auction-Cartoon.gif
END:VEVENT
BEGIN:VEVENT
DTSTART;TZID=America/New_York:20191005T040000
DTEND;TZID=America/New_York:20191005T080000
DTSTAMP:20260425T070722
CREATED:20190208T094825Z
LAST-MODIFIED:20210414T002748Z
UID:10000072-1570248000-1570262400@www.1nvrc.com
SUMMARY:Fall Fun Fly
DESCRIPTION:Outdoor Fun Fly
URL:https://www.1nvrc.com/event/fall-fun-fly-4/
LOCATION:Poplar Ford Park\, 6714 Bull Run Post Office Road\, Centerville\, VA\, 20120\, United States
CATEGORIES:Flying Events,Outdoor Fun Fly
END:VEVENT
BEGIN:VEVENT
DTSTART;TZID=America/New_York:20190922T040000
DTEND;TZID=America/New_York:20190922T100000
DTSTAMP:20260425T070722
CREATED:20190811T192141Z
LAST-MODIFIED:20210414T174256Z
UID:10000310-1569124800-1569146400@www.1nvrc.com
SUMMARY:Vintage RC Fly & Tell
DESCRIPTION:It’s a gathering of the Northern Virginia Vintage Radio Control Society – NVVRCS for short! Just rolls off the tongue\, doesn’t it! \nThe Vintage Radio Control Society celebrates the history of RC aeromodeling\, specifically planes designed for radio control more than 35 years ago (pre 1984 this year). More information on the VRCS is at their website here http://vintagercsociety.org/cms3/ and in a great article here http://modelaviation.com/vrcs \nThis gathering will be a vintage “Fly and Tell” for telling the stories of these great planes\, how they came to be\, how they influenced us as individuals. We will have some friendly competition and prizes too\, and the field is not closed to other flyers so come on out with your planes\, old or new\, and see what’s going on!
URL:https://www.1nvrc.com/event/vintage-rc-fly-tell/
LOCATION:Poplar Ford Park\, 6714 Bull Run Post Office Road\, Centerville\, VA\, 20120\, United States
CATEGORIES:Outdoor Fun Fly
ATTACH;FMTTYPE=image/jpeg:https://www.1nvrc.com/wp-content/uploads/2019/07/vrcs-logo-e1563379790304.jpg
ORGANIZER;CN="NVVRCS":MAILTO:jonathan.pruett@gmail.com
END:VEVENT
BEGIN:VEVENT
DTSTART;TZID=America/New_York:20190919T143000
DTEND;TZID=America/New_York:20190919T170000
DTSTAMP:20260425T070722
CREATED:20190208T090501Z
LAST-MODIFIED:20210413T071453Z
UID:10000290-1568903400-1568912400@www.1nvrc.com
SUMMARY:Monthly Club Meeting
DESCRIPTION:Club Meetings
URL:https://www.1nvrc.com/event/monthly-club-meeting-11/
LOCATION:Poplar Ford Park\, 6714 Bull Run Post Office Road\, Centerville\, VA\, 20120\, United States
CATEGORIES:Outdoor Fun Fly,Static Events
END:VEVENT
BEGIN:VEVENT
DTSTART;TZID=America/New_York:20190914T050000
DTEND;TZID=America/New_York:20190914T080000
DTSTAMP:20260425T070722
CREATED:20190208T094649Z
LAST-MODIFIED:20210416T064559Z
UID:10000071-1568437200-1568448000@www.1nvrc.com
SUMMARY:Streamer Combat Event
DESCRIPTION:Streamer Combat
URL:https://www.1nvrc.com/event/streamer-combat-3/
LOCATION:Lorton/Burnett Field\, 9800 Furnace Road\, Lorton\, VA\, 22079\, United States
CATEGORIES:Flying Events
END:VEVENT
BEGIN:VEVENT
DTSTART;TZID=America/New_York:20190901T040000
DTEND;TZID=America/New_York:20190901T080000
DTSTAMP:20260425T070722
CREATED:20190208T094444Z
LAST-MODIFIED:20210413T082504Z
UID:10000070-1567310400-1567324800@www.1nvrc.com
SUMMARY:Pylon Races
DESCRIPTION:Pylon Racing
URL:https://www.1nvrc.com/event/pylon-races-6/
LOCATION:Poplar Ford Park\, 6714 Bull Run Post Office Road\, Centerville\, VA\, 20120\, United States
CATEGORIES:Flying Events
ATTACH;FMTTYPE=image/jpeg:https://www.1nvrc.com/wp-content/uploads/2017/12/EFL4450_a6.jpg
END:VEVENT
BEGIN:VEVENT
DTSTART;TZID=America/New_York:20190824T050000
DTEND;TZID=America/New_York:20190824T080000
DTSTAMP:20260425T070722
CREATED:20190208T094215Z
LAST-MODIFIED:20210413T145351Z
UID:10000069-1566622800-1566633600@www.1nvrc.com
SUMMARY:Lorton Fun Fly
DESCRIPTION:Outdoor Fun Fly
URL:https://www.1nvrc.com/event/lorton-fun-fly/
LOCATION:Lorton/Burnett Field\, 9800 Furnace Road\, Lorton\, VA\, 22079\, United States
CATEGORIES:Flying Events,Outdoor Fun Fly
ATTACH;FMTTYPE=image/jpeg:https://www.1nvrc.com/wp-content/uploads/2017/12/lorton_1.jpg
END:VEVENT
BEGIN:VEVENT
DTSTART;TZID=America/New_York:20190817T040000
DTEND;TZID=America/New_York:20190817T080000
DTSTAMP:20260425T070722
CREATED:20190208T103123Z
LAST-MODIFIED:20210413T210137Z
UID:10000302-1566014400-1566028800@www.1nvrc.com
SUMMARY:Streamer Combat Skirmish!
DESCRIPTION:Come on out and see if you can take down the NVRC Aces!   \n\nFollow all normal field rules!\n4 in the air at once\nCoordinate with other pilots\n\n\nRemember\, it’s an open flying day\, so make sure all pilots are aware of combat intentions and keep those planes out over the rough – not on the green. No friendly fire incidents please!!
URL:https://www.1nvrc.com/event/streamer-combat-skirmish-16/
LOCATION:Lorton/Burnett Field\, 9800 Furnace Road\, Lorton\, VA\, 22079\, United States
CATEGORIES:Flying Events
END:VEVENT
BEGIN:VEVENT
DTSTART;TZID=America/New_York:20190815T143000
DTEND;TZID=America/New_York:20190815T170000
DTSTAMP:20260425T070722
CREATED:20190208T090328Z
LAST-MODIFIED:20210413T071809Z
UID:10000288-1565879400-1565888400@www.1nvrc.com
SUMMARY:Monthly Club Meeting
DESCRIPTION:Club Meetings
URL:https://www.1nvrc.com/event/monthly-club-meeting-10/
LOCATION:Poplar Ford Park\, 6714 Bull Run Post Office Road\, Centerville\, VA\, 20120\, United States
CATEGORIES:Outdoor Fun Fly,Static Events
END:VEVENT
BEGIN:VEVENT
DTSTART;TZID=America/New_York:20190810T040000
DTEND;TZID=America/New_York:20190810T080000
DTSTAMP:20260425T070722
CREATED:20190208T093422Z
LAST-MODIFIED:20210417T175640Z
UID:10000068-1565409600-1565424000@www.1nvrc.com
SUMMARY:Biplane Fun Fly
DESCRIPTION:Outdoor Fun Fly
URL:https://www.1nvrc.com/event/biplane-fun-fly/
LOCATION:Poplar Ford Park\, 6714 Bull Run Post Office Road\, Centerville\, VA\, 20120\, United States
CATEGORIES:Flying Events,Outdoor Fun Fly
ATTACH;FMTTYPE=image/jpeg:https://www.1nvrc.com/wp-content/uploads/2019/02/rc-biplane-airplane-1.jpg
END:VEVENT
BEGIN:VEVENT
DTSTART;TZID=America/New_York:20190727T040000
DTEND;TZID=America/New_York:20190727T070000
DTSTAMP:20260425T070722
CREATED:20190717T200713Z
LAST-MODIFIED:20210413T123811Z
UID:10000314-1564200000-1564210800@www.1nvrc.com
SUMMARY:Vintage RC Fly & Tell
DESCRIPTION:It’s an informal gathering of the soon-to-be-official Northern Virginia Vintage Radio Control Society – NVVRCS for short! Just rolls off the tongue\, doesn’t it! \nThe Vintage Radio Control Society celebrates the history of RC aeromodeling\, specifically planes designed for radio control more than 35 years ago (pre 1984 this year). More information on the VRCS is at their website here http://vintagercsociety.org/cms3/ and in a great article here http://modelaviation.com/vrcs \nThis gathering will be an informal vintage “Fly and Tell” for telling the stories of these great planes\, how they came to be\, how they influenced us as individuals. The field is not closed to other flyers so come on out with your planes\, old or new\, and see what’s going on!
URL:https://www.1nvrc.com/event/vintage-rc-gathering/
LOCATION:Poplar Ford Park\, 6714 Bull Run Post Office Road\, Centerville\, VA\, 20120\, United States
CATEGORIES:Flying Events
ATTACH;FMTTYPE=image/jpeg:https://www.1nvrc.com/wp-content/uploads/2019/07/vrcs-logo-e1563379790304.jpg
ORGANIZER;CN="NVVRCS":MAILTO:jonathan.pruett@gmail.com
END:VEVENT
BEGIN:VEVENT
DTSTART;TZID=America/New_York:20190721T040000
DTEND;TZID=America/New_York:20190721T080000
DTSTAMP:20260425T070722
CREATED:20190208T093013Z
LAST-MODIFIED:20210413T204046Z
UID:10000067-1563681600-1563696000@www.1nvrc.com
SUMMARY:Pylon Races
DESCRIPTION:Pylon Racing
URL:https://www.1nvrc.com/event/pylon-races-5/
LOCATION:Poplar Ford Park\, 6714 Bull Run Post Office Road\, Centerville\, VA\, 20120\, United States
CATEGORIES:Flying Events,Outdoor Fun Fly
ATTACH;FMTTYPE=image/jpeg:https://www.1nvrc.com/wp-content/uploads/2017/12/EFL4450_a6.jpg
END:VEVENT
BEGIN:VEVENT
DTSTART;TZID=America/New_York:20190720T040000
DTEND;TZID=America/New_York:20190720T080000
DTSTAMP:20260425T070722
CREATED:20190208T103011Z
LAST-MODIFIED:20210414T121308Z
UID:10000301-1563595200-1563609600@www.1nvrc.com
SUMMARY:Streamer Combat Skirmish!
DESCRIPTION:Come on out and see if you can take down the NVRC Aces!   \n\nFollow all normal field rules!\n4 in the air at once\nCoordinate with other pilots\n\n\nRemember\, it’s an open flying day\, so make sure all pilots are aware of combat intentions and keep those planes out over the rough – not on the green. No friendly fire incidents please!!
URL:https://www.1nvrc.com/event/streamer-combat-skirmish-15/
LOCATION:Lorton/Burnett Field\, 9800 Furnace Road\, Lorton\, VA\, 22079\, United States
CATEGORIES:Flying Events
END:VEVENT
BEGIN:VEVENT
DTSTART;TZID=America/New_York:20190718T143000
DTEND;TZID=America/New_York:20190718T170000
DTSTAMP:20260425T070722
CREATED:20190208T090147Z
LAST-MODIFIED:20210413T175912Z
UID:10000286-1563460200-1563469200@www.1nvrc.com
SUMMARY:Monthly Club Meeting
DESCRIPTION:Club Meetings
URL:https://www.1nvrc.com/event/monthly-club-meeting-9/
LOCATION:Poplar Ford Park\, 6714 Bull Run Post Office Road\, Centerville\, VA\, 20120\, United States
CATEGORIES:Outdoor Fun Fly,Static Events
END:VEVENT
BEGIN:VEVENT
DTSTART;TZID=America/New_York:20190623T050000
DTEND;TZID=America/New_York:20190623T120000
DTSTAMP:20260425T070722
CREATED:20190208T092757Z
LAST-MODIFIED:20210413T134222Z
UID:10000066-1561266000-1561291200@www.1nvrc.com
SUMMARY:Giant Scale Fly-in and Open House
DESCRIPTION:Bring out your big planes\, or just come see what the fuss is all about! \nAll members and guests are welcome to come. \n80″ wingspan for monoplanes\, 60″ wingspan for biplanes to fly \nFlying and Static events to be announced\, but be assured that food and prizes will be served!
URL:https://www.1nvrc.com/event/giant-scale-fly-in-and-open-house/
LOCATION:Lorton/Burnett Field\, 9800 Furnace Road\, Lorton\, VA\, 22079\, United States
CATEGORIES:Flying Events,Outdoor Fun Fly
ATTACH;FMTTYPE=image/jpeg:https://www.1nvrc.com/wp-content/uploads/2017/12/Lorton_2.jpg
END:VEVENT
BEGIN:VEVENT
DTSTART;TZID=America/New_York:20190620T153000
DTEND;TZID=America/New_York:20190620T170000
DTSTAMP:20260425T070722
CREATED:20190208T090027Z
LAST-MODIFIED:20210417T143315Z
UID:10000065-1561044600-1561050000@www.1nvrc.com
SUMMARY:Monthly Club Meeting
DESCRIPTION:Due to the super sketchy weather forecast this week\, we’ll be meeting at the Firehouse instead of Poplar Ford Field. \nSee you there! \nClub Meetings
URL:https://www.1nvrc.com/event/monthly-club-meeting-8/
LOCATION:City of Fairfax Fire Station 3\, 4081 University Drive\, Fairfax\, VA\, 22030\, United States
CATEGORIES:Outdoor Fun Fly,Static Events
END:VEVENT
BEGIN:VEVENT
DTSTART;TZID=America/New_York:20190615T040000
DTEND;TZID=America/New_York:20190615T080000
DTSTAMP:20260425T070722
CREATED:20190208T092214Z
LAST-MODIFIED:20210413T155819Z
UID:10000291-1560571200-1560585600@www.1nvrc.com
SUMMARY:Streamer Combat
DESCRIPTION:Streamer Combat
URL:https://www.1nvrc.com/event/streamer-combat-2/
LOCATION:Lorton/Burnett Field\, 9800 Furnace Road\, Lorton\, VA\, 22079\, United States
CATEGORIES:Flying Events,Outdoor Fun Fly
END:VEVENT
BEGIN:VEVENT
DTSTART;TZID=America/New_York:20190608T040000
DTEND;TZID=America/New_York:20190608T080000
DTSTAMP:20260425T070722
CREATED:20190208T102901Z
LAST-MODIFIED:20210422T085415Z
UID:10000300-1559966400-1559980800@www.1nvrc.com
SUMMARY:Streamer Combat Skirmish!
DESCRIPTION:Come on out and see if you can take down the NVRC Aces!   \n\nFollow all normal field rules!\n4 in the air at once\nCoordinate with other pilots\n\n\nRemember\, it’s an open flying day\, so make sure all pilots are aware of combat intentions and keep those planes out over the rough – not on the green. No friendly fire incidents please!!
URL:https://www.1nvrc.com/event/streamer-combat-skirmish-14/
LOCATION:Lorton/Burnett Field\, 9800 Furnace Road\, Lorton\, VA\, 22079\, United States
CATEGORIES:Flying Events
END:VEVENT
BEGIN:VEVENT
DTSTART;TZID=America/New_York:20190602T040000
DTEND;TZID=America/New_York:20190602T080000
DTSTAMP:20260425T070722
CREATED:20190208T092000Z
LAST-MODIFIED:20210414T172359Z
UID:10000293-1559448000-1559462400@www.1nvrc.com
SUMMARY:Pylon Races
DESCRIPTION:Pylon Racing
URL:https://www.1nvrc.com/event/pylon-races-4/
LOCATION:Poplar Ford Park\, 6714 Bull Run Post Office Road\, Centerville\, VA\, 20120\, United States
CATEGORIES:Flying Events
ATTACH;FMTTYPE=image/png:https://www.1nvrc.com/wp-content/uploads/2018/01/pylon_racers.png
END:VEVENT
BEGIN:VEVENT
DTSTART;TZID=America/New_York:20190516T153000
DTEND;TZID=America/New_York:20190516T170000
DTSTAMP:20260425T070722
CREATED:20190208T084607Z
LAST-MODIFIED:20210414T172544Z
UID:10000064-1558020600-1558026000@www.1nvrc.com
SUMMARY:Annual Display Contest
DESCRIPTION:Display Contest
URL:https://www.1nvrc.com/event/annual-display-contest/
LOCATION:City of Fairfax Fire Station 3\, 4081 University Drive\, Fairfax\, VA\, 22030\, United States
CATEGORIES:Static Events
ATTACH;FMTTYPE=image/jpeg:https://www.1nvrc.com/wp-content/uploads/2016/03/NVRC_Build_9.jpg
END:VEVENT
BEGIN:VEVENT
DTSTART;TZID=America/New_York:20190511T040000
DTEND;TZID=America/New_York:20190511T090000
DTSTAMP:20260425T070722
CREATED:20190208T091323Z
LAST-MODIFIED:20210414T010238Z
UID:10000297-1557547200-1557565200@www.1nvrc.com
SUMMARY:Spring Fun Fly and Open House
DESCRIPTION:Outdoor Fun Fly
URL:https://www.1nvrc.com/event/spring-fun-fly-and-open-house/
LOCATION:Poplar Ford Park\, 6714 Bull Run Post Office Road\, Centerville\, VA\, 20120\, United States
CATEGORIES:Outdoor Fun Fly
ATTACH;FMTTYPE=image/jpeg:https://www.1nvrc.com/wp-content/uploads/2016/06/WP_20160604_005-scaled.jpg
END:VEVENT
BEGIN:VEVENT
DTSTART;TZID=America/New_York:20190420T050000
DTEND;TZID=America/New_York:20190420T080000
DTSTAMP:20260425T070722
CREATED:20190208T091023Z
LAST-MODIFIED:20210415T101324Z
UID:10000296-1555736400-1555747200@www.1nvrc.com
SUMMARY:Streamer Combat Event - CANCELLED
DESCRIPTION:Cancelled due to foul weather and a CD being on travel. \nGet your planes ready – we’ll see you at the May Combat Skirmish!! \n\nIt’s the most fun you can legally have with an electric RC plane! Bring a plane you’re not that attached to\, and we’ll hook a streamer to it. Guaranteed prizes awarded and crashes to cheer! \n  \n \nStreamer Combat
URL:https://www.1nvrc.com/event/streamer-combat/
LOCATION:Lorton/Burnett Field\, 9800 Furnace Road\, Lorton\, VA\, 22079\, United States
CATEGORIES:Flying Events,Outdoor Fun Fly
END:VEVENT
BEGIN:VEVENT
DTSTART;TZID=America/New_York:20190418T153000
DTEND;TZID=America/New_York:20190418T170000
DTSTAMP:20260425T070722
CREATED:20190208T083901Z
LAST-MODIFIED:20210414T035300Z
UID:10000063-1555601400-1555606800@www.1nvrc.com
SUMMARY:Monthly Club Meeting
DESCRIPTION:Club Meetings
URL:https://www.1nvrc.com/event/monthly-club-meeting-7/
LOCATION:City of Fairfax Fire Station 3\, 4081 University Drive\, Fairfax\, VA\, 22030\, United States
CATEGORIES:Static Events
END:VEVENT
BEGIN:VEVENT
DTSTART;TZID=America/New_York:20190413T040000
DTEND;TZID=America/New_York:20190413T080000
DTSTAMP:20260425T070722
CREATED:20190208T102550Z
LAST-MODIFIED:20210415T203832Z
UID:10000299-1555128000-1555142400@www.1nvrc.com
SUMMARY:Lorton Work Day & Streamer Combat Skirmish!
DESCRIPTION:Come help us install the new split-rail safety fencing starting at 9:00am\, we’ll have pizza when that’s done\, and then fly streamer combat for the afternoon! \nCome on out and see if you can take down the NVRC Aces!   \n\nFollow all normal field rules!\n4 in the air at once\nCoordinate with other pilots\n\n\nRemember\, it’s an open flying day after the fencing is installed\, so make sure all pilots are aware of combat intentions and keep those planes out over the rough – not on the green. No friendly fire incidents please!!
URL:https://www.1nvrc.com/event/streamer-combat-skirmish-12/
LOCATION:Lorton/Burnett Field\, 9800 Furnace Road\, Lorton\, VA\, 22079\, United States
CATEGORIES:Flying Events
END:VEVENT
BEGIN:VEVENT
DTSTART;TZID=America/New_York:20190327T164500
DTEND;TZID=America/New_York:20190327T180000
DTSTAMP:20260425T070722
CREATED:20190209T052341Z
LAST-MODIFIED:20210415T215246Z
UID:10000078-1553705100-1553709600@www.1nvrc.com
SUMMARY:Tiny Whoop Races
DESCRIPTION:Same race format – 3 rounds with a warm up lap. \n\n\n\nShow up at 8:45 to get ready and get your heat assignments \nWarm up lap at 9PM \nRegister here: \nView Race
URL:https://www.1nvrc.com/event/tiny-whoop-races-2/
LOCATION:Monster Mini Golf\, 14130 Sullyfield Circle\, Suite G\,  Chantilly\, VA\, 20151\, United States
CATEGORIES:Flying Events,Multi-rotor Racing
ATTACH;FMTTYPE=image/jpeg:https://www.1nvrc.com/wp-content/uploads/2017/12/MMG_TinyWhoop2.jpg
END:VEVENT
END:VCALENDAR