BEGIN:VCALENDAR
VERSION:2.0
PRODID:-//Northern Virginia Radio Control - NVRC - ECPv6.15.20//NONSGML v1.0//EN
CALSCALE:GREGORIAN
METHOD:PUBLISH
X-WR-CALNAME:Northern Virginia Radio Control - NVRC
X-ORIGINAL-URL:https://www.1nvrc.com
X-WR-CALDESC:Events for Northern Virginia Radio Control - NVRC
REFRESH-INTERVAL;VALUE=DURATION:PT1H
X-Robots-Tag:noindex
X-PUBLISHED-TTL:PT1H
BEGIN:VTIMEZONE
TZID:America/New_York
BEGIN:DAYLIGHT
TZOFFSETFROM:-0500
TZOFFSETTO:-0400
TZNAME:EDT
DTSTART:20170312T070000
END:DAYLIGHT
BEGIN:STANDARD
TZOFFSETFROM:-0400
TZOFFSETTO:-0500
TZNAME:EST
DTSTART:20171105T060000
END:STANDARD
BEGIN:DAYLIGHT
TZOFFSETFROM:-0500
TZOFFSETTO:-0400
TZNAME:EDT
DTSTART:20180311T070000
END:DAYLIGHT
BEGIN:STANDARD
TZOFFSETFROM:-0400
TZOFFSETTO:-0500
TZNAME:EST
DTSTART:20181104T060000
END:STANDARD
BEGIN:DAYLIGHT
TZOFFSETFROM:-0500
TZOFFSETTO:-0400
TZNAME:EDT
DTSTART:20190310T070000
END:DAYLIGHT
BEGIN:STANDARD
TZOFFSETFROM:-0400
TZOFFSETTO:-0500
TZNAME:EST
DTSTART:20191103T060000
END:STANDARD
END:VTIMEZONE
BEGIN:VEVENT
DTSTART;TZID=America/New_York:20181201T120000
DTEND;TZID=America/New_York:20181201T150000
DTSTAMP:20260425T084407
CREATED:20180119T083454Z
LAST-MODIFIED:20210413T071908Z
UID:10000218-1543665600-1543676400@www.1nvrc.com
SUMMARY:Holiday Banquet
DESCRIPTION:Come join the annual NVRC Holiday Banquet! \nWe’ll be at the firehouse from 5-8\, barbecue will be served\, and an RC gift exchange will be held so bring a wrapped present in the $20 range to join in the fun! All members\, potential members\, spouses\, and children are welcome!
URL:https://www.1nvrc.com/event/holiday-banquet/
LOCATION:City of Fairfax Fire Station 3\, 4081 University Drive\, Fairfax\, VA\, 22030\, United States
CATEGORIES:Static Events
END:VEVENT
BEGIN:VEVENT
DTSTART;TZID=America/New_York:20181117T050000
DTEND;TZID=America/New_York:20181117T080000
DTSTAMP:20260425T084407
CREATED:20180119T225520Z
LAST-MODIFIED:20210413T210836Z
UID:10000038-1542430800-1542441600@www.1nvrc.com
SUMMARY:Toys for Tots Fun Fly - cancelled for bog field
DESCRIPTION:Outdoor Fun Fly
URL:https://www.1nvrc.com/event/toys-for-tots-fun-fly/
LOCATION:Poplar Ford Park\, 6714 Bull Run Post Office Road\, Centerville\, VA\, 20120\, United States
CATEGORIES:Flying Events,Outdoor Fun Fly
END:VEVENT
BEGIN:VEVENT
DTSTART;TZID=America/New_York:20181115T143000
DTEND;TZID=America/New_York:20181115T160000
DTSTAMP:20260425T084408
CREATED:20171224T001624Z
LAST-MODIFIED:20210413T093158Z
UID:10000016-1542292200-1542297600@www.1nvrc.com
SUMMARY:Monthly Meeting
DESCRIPTION:November’s monthly meeting will be held at Monster Mini Golf in Chantilly due to a conflicting event at the Firehouse. \nPlease make every effort to attend as voting will occur at this meeting for next year’s NVRC club officers and board members. \nClub Meetings
URL:https://www.1nvrc.com/event/monthly-meeting-18/
LOCATION:Monster Mini Golf\, 14130 Sullyfield Circle\, Suite G\,  Chantilly\, VA\, 20151\, United States
CATEGORIES:Static Events
ATTACH;FMTTYPE=image/png:https://www.1nvrc.com/wp-content/uploads/2017/12/NVRC-Logo-e1514095621486.png
END:VEVENT
BEGIN:VEVENT
DTSTART;TZID=America/New_York:20181111T060000
DTEND;TZID=America/New_York:20181111T120000
DTSTAMP:20260425T084408
CREATED:20180910T062845Z
LAST-MODIFIED:20210413T095947Z
UID:10000279-1541916000-1541937600@www.1nvrc.com
SUMMARY:NVRC Multi-Rotor Racing - Campbel's Chase
DESCRIPTION:Welcome to NVRC’s 2018-2019 Loudoun Series!\nIn honor of John Campbell\, the 4th Earl of Loudoun\, we’re kicking off the 2018-19 season at Mickie Gordon Memorial Park. \n\nThis race is for 25mw vTx only. \nThe 2018-19 Loudoun Series will be open class (3s and up) flying through gates and pylons.  Scores will be tallied by the number of completed laps in 2 minutes through 4 rounds.  Prizes will be awarded to the 1st\, 2nd\, and 3rd place finishers at the end of the day\, but the real prize will be the Series Champion.  This award will be handed out at the end of the season in March.  There will be seven races scheduled in the season\, but only the top six will be scored. \nRegistration closes on Friday evening at 8PM.  After this point\, all pilots will be checked in and vTx frequencies and racing heats will be assigned based on NVRC’s ranking system (looks at your past 10 races to set heats). \nIMPORTANT – you must show your AMA card and FAA Registration.  If we cannot verify your AMA and FAA\, you will not be allowed to fly. \n$10 landing fee for non-NVRC club members\, $5 if you show your NVRC member card.  Landing fee includes snacks and drinks during the races. \n**Novice and intermediate level pilots will be grouped as best as possible into heats with their peers. \n***A note about inclement weather: If for any reason we cannot fly (snow\, rain\, wind)\, we’ll send out notification by Saturday afternoon.  The race will not be rescheduled. \n\n\n\nRace course setup begins at 10:30AM. \n10:30 AM – Pilot Registration \n11:00 – Pilot briefing and safety breifing \n11:15 – Warm ups by heat \n12:00 – 15:00 – Racing! \n15:00 – Course tear down \nMeet by the pavilion day of race: (link to fancy map – https://w3w.co/dislodged.segregation.trudges ) \nCheck out the NVRC MultiGP Chapter page for the latest details
URL:https://www.1nvrc.com/event/nvrc-multi-rotor-racing-campbels-chase-3/
LOCATION:Mickie Gordon Memorial Park\, 20177\, 23229 Carters Farm Ln\, Middleburg\, VA\, 20117\, United States
CATEGORIES:Flying Events,Multi-rotor Racing
ATTACH;FMTTYPE=image/jpeg:https://www.1nvrc.com/wp-content/uploads/2016/09/Multi_NVRC_Icon.jpg
END:VEVENT
BEGIN:VEVENT
DTSTART;TZID=America/New_York:20181110T030000
DTEND;TZID=America/New_York:20181110T090000
DTSTAMP:20260425T084408
CREATED:20181103T054538Z
LAST-MODIFIED:20210414T185835Z
UID:10000281-1541818800-1541840400@www.1nvrc.com
SUMMARY:Indoor Flying at West Potomac High School
DESCRIPTION:This is a STEM fundraiser so come on out with your indoor and free flight models! \nhttp://www.westpotomacengineeringstore.com/events.html for more details.
URL:https://www.1nvrc.com/event/indoor-flying-at-west-potomac-high-school-2/
LOCATION:West Potomac High School\, 6500 Quander Road\, Alexandria \, VA\, 22307\, United States
CATEGORIES:Flying Events,Indoor Fun Fly
ATTACH;FMTTYPE=image/jpeg:https://www.1nvrc.com/wp-content/uploads/2017/12/WestPotomac1.jpg
END:VEVENT
BEGIN:VEVENT
DTSTART;TZID=America/New_York:20181103T050000
DTEND;TZID=America/New_York:20181103T080000
DTSTAMP:20260425T084408
CREATED:20181023T232424Z
LAST-MODIFIED:20210413T191328Z
UID:10000280-1541221200-1541232000@www.1nvrc.com
SUMMARY:Streamer Combat Skirmish
DESCRIPTION:It’s been a few weeks and we need another informal streamer combat practice!  \nCome on out and see if you can take down our resident ace\, Mike Marr!  (grr… I’ll get you next time…) \n\nFollow all normal field rules!\n4 in the air at once\nCoordinate with other pilots\n\n\nRemember\, it’s an open flying day\, so make sure all pilots are aware of combat intentions and don’t crowd the field – no friendly fire incidents please!!
URL:https://www.1nvrc.com/event/streamer-combat-skirmish-7/
LOCATION:Poplar Ford Park\, 6714 Bull Run Post Office Road\, Centerville\, VA\, 20120\, United States
CATEGORIES:Flying Events
END:VEVENT
BEGIN:VEVENT
DTSTART;TZID=America/New_York:20181020T050000
DTEND;TZID=America/New_York:20181020T100000
DTSTAMP:20260425T084408
CREATED:20180119T083454Z
LAST-MODIFIED:20210413T162031Z
UID:10000217-1540011600-1540029600@www.1nvrc.com
SUMMARY:RC Auction
DESCRIPTION:
URL:https://www.1nvrc.com/event/rc-auction/
LOCATION:West Potomac High School\, 6500 Quander Road\, Alexandria \, VA\, 22307\, United States
CATEGORIES:Static Events
ATTACH;FMTTYPE=image/gif:https://www.1nvrc.com/wp-content/uploads/2015/02/Auction-Cartoon.gif
END:VEVENT
BEGIN:VEVENT
DTSTART;TZID=America/New_York:20181018T153000
DTEND;TZID=America/New_York:20181018T170000
DTSTAMP:20260425T084408
CREATED:20171224T001538Z
LAST-MODIFIED:20210413T175407Z
UID:10000015-1539876600-1539882000@www.1nvrc.com
SUMMARY:Monthly Meeting
DESCRIPTION:Club Meetings
URL:https://www.1nvrc.com/event/monthly-meeting-17/
LOCATION:City of Fairfax Fire Station 3\, 4081 University Drive\, Fairfax\, VA\, 22030\, United States
CATEGORIES:Static Events
ATTACH;FMTTYPE=image/png:https://www.1nvrc.com/wp-content/uploads/2017/12/NVRC-Logo-e1514095621486.png
END:VEVENT
BEGIN:VEVENT
DTSTART;TZID=America/New_York:20181014T070000
DTEND;TZID=America/New_York:20181014T130000
DTSTAMP:20260425T084408
CREATED:20180910T062311Z
LAST-MODIFIED:20210413T172134Z
UID:10000278-1539500400-1539522000@www.1nvrc.com
SUMMARY:NVRC Multi-Rotor Racing - Campbel's Chase
DESCRIPTION:Welcome to NVRC’s 2018-2019 Loudoun Series!\nIn honor of John Campbell\, the 4th Earl of Loudoun\, we’re kicking off the 2018-19 season at Mickie Gordon Memorial Park. \n\nThis race is for 25mw vTx only. \nThe 2018-19 Loudoun Series will be open class (3s and up) flying through gates and pylons.  Scores will be tallied by the number of completed laps in 2 minutes through 4 rounds.  Prizes will be awarded to the 1st\, 2nd\, and 3rd place finishers at the end of the day\, but the real prize will be the Series Champion.  This award will be handed out at the end of the season in March.  There will be seven races scheduled in the season\, but only the top six will be scored. \nRegistration closes on Friday evening at 8PM.  After this point\, all pilots will be checked in and vTx frequencies and racing heats will be assigned based on NVRC’s ranking system (looks at your past 10 races to set heats). \nIMPORTANT – you must show your AMA card and FAA Registration.  If we cannot verify your AMA and FAA\, you will not be allowed to fly. \n$10 landing fee for non-NVRC club members\, $5 if you show your NVRC member card.  Landing fee includes snacks and drinks during the races. \n**Novice and intermediate level pilots will be grouped as best as possible into heats with their peers. \n***A note about inclement weather: If for any reason we cannot fly (snow\, rain\, wind)\, we’ll send out notification by Saturday afternoon.  The race will not be rescheduled. \n\n\n\nRace course setup begins at 10:30AM. \n10:30 AM – Pilot Registration \n11:00 – Pilot briefing and safety breifing \n11:15 – Warm ups by heat \n12:00 – 15:00 – Racing! \n15:00 – Course tear down \nMeet by the pavilion day of race: (link to fancy map – https://w3w.co/dislodged.segregation.trudges ) \nCheck out the NVRC MultiGP Chapter page for the latest details
URL:https://www.1nvrc.com/event/nvrc-multi-rotor-racing-campbels-chase-2/
LOCATION:Mickie Gordon Memorial Park\, 20177\, 23229 Carters Farm Ln\, Middleburg\, VA\, 20117\, United States
CATEGORIES:Flying Events,Multi-rotor Racing
ATTACH;FMTTYPE=image/jpeg:https://www.1nvrc.com/wp-content/uploads/2016/09/Multi_NVRC_Icon.jpg
END:VEVENT
BEGIN:VEVENT
DTSTART;TZID=America/New_York:20181006T050000
DTEND;TZID=America/New_York:20181006T080000
DTSTAMP:20260425T084408
CREATED:20180119T083454Z
LAST-MODIFIED:20210416T013710Z
UID:10000216-1538802000-1538812800@www.1nvrc.com
SUMMARY:Fall Fun Fly
DESCRIPTION:Outdoor Fun Fly
URL:https://www.1nvrc.com/event/fall-fun-fly-3/
LOCATION:Poplar Ford Park\, 6714 Bull Run Post Office Road\, Centerville\, VA\, 20120\, United States
CATEGORIES:Flying Events,Outdoor Fun Fly
END:VEVENT
BEGIN:VEVENT
DTSTART;TZID=America/New_York:20180920T153000
DTEND;TZID=America/New_York:20180920T170000
DTSTAMP:20260425T084408
CREATED:20171224T001322Z
LAST-MODIFIED:20210413T154006Z
UID:10000014-1537457400-1537462800@www.1nvrc.com
SUMMARY:Monthly Meeting
DESCRIPTION:We’re having a cookout at Poplar Ford Field for this month’s meeting!  Come on out\, grilling starts around 6:30\, a few meeting remarks around 7ish\, and flying until the end of civil twilight! \nThe pit and parking lot is a little muddy so wear boots and watch where you park\, but the field is fine and the grill is hot! \nClub Meetings
URL:https://www.1nvrc.com/event/monthly-meeting-16/
LOCATION:Poplar Ford Park\, 6714 Bull Run Post Office Road\, Centerville\, VA\, 20120\, United States
CATEGORIES:Flying Events,Outdoor Fun Fly,Static Events
ATTACH;FMTTYPE=image/png:https://www.1nvrc.com/wp-content/uploads/2017/12/NVRC-Logo-e1514095621486.png
END:VEVENT
BEGIN:VEVENT
DTSTART;TZID=America/New_York:20180909T070000
DTEND;TZID=America/New_York:20180909T130000
DTSTAMP:20260425T084408
CREATED:20180910T061703Z
LAST-MODIFIED:20210417T160026Z
UID:10000276-1536476400-1536498000@www.1nvrc.com
SUMMARY:NVRC Multi-Rotor Racing - Campbel's Chase
DESCRIPTION:Welcome to the first race of NVRC’s Loudoun Series!\nIn honor of John Campbell\, the 4th Earl of Loudoun\, we’re kicking of the 2018-19 season at Mickie Gordon Memorial Park. \n\nThis race is for 25mw vTx only. \nThe first round of the 2018-19 Loudoun Series will be open class (3s and up) flying through gates and pylons.  Scores will be tallied by the number of completed laps in 2 minutes through 4 rounds.  Prizes will be awarded to the 1st\, 2nd\, and 3rd place finishers at the end of the day\, but the real prize will be the Series Champion.  This award will be handed out at the end of the season in March.  There will be seven races scheduled in the season\, but only the top six will be scored. \nRegistration closes on Friday evening (9/7/18) at 8PM.  After this point\, all pilots will be checked in and vTx frequencies and racing heats will be assigned based on NVRC’s ranking system (looks at your past 10 races to set heats). \nIMPORTANT – you must show your AMA card and FAA Registration.  If we cannot verify your AMA and FAA\, you will not be allowed to fly. \n$10 landing fee for non-NVRC club members\, $5 if you show your NVRC member card.  Landing fee includes snacks and drinks during the races. \n**Novice and intermediate level pilots will be grouped as best as possible into heats with their peers. \n***A note about inclement weather: If for any reason we cannot fly (snow\, rain\, wind)\, we’ll send out notification by Saturday afternoon.  The race will not be rescheduled. \n\n\n\nRace course setup begins at 10:30AM. \n10:30 AM – Pilot Registration \n11:00 – Pilot briefing and safety breifing \n11:15 – Warm ups by heat \n12:00 – 15:00 – Racing! \n15:00 – Course tear down \nMeet by the pavilion day of race: (link to fancy map – https://w3w.co/dislodged.segregation.trudges ) \nCheck out the NVRC MultiGP Chapter page for the latest details
URL:https://www.1nvrc.com/event/nvrc-multi-rotor-racing-campbels-chase/
LOCATION:Mickie Gordon Memorial Park\, 20177\, 23229 Carters Farm Ln\, Middleburg\, VA\, 20117\, United States
CATEGORIES:Flying Events,Multi-rotor Racing
ATTACH;FMTTYPE=image/png:https://www.1nvrc.com/wp-content/uploads/2017/12/NVRC-Logo-2.png
END:VEVENT
BEGIN:VEVENT
DTSTART;TZID=America/New_York:20180909T050000
DTEND;TZID=America/New_York:20180909T080000
DTSTAMP:20260425T084408
CREATED:20180119T083454Z
LAST-MODIFIED:20210414T044759Z
UID:10000215-1536469200-1536480000@www.1nvrc.com
SUMMARY:Pylon Races
DESCRIPTION:Pylon Racing
URL:https://www.1nvrc.com/event/pylon-races/
LOCATION:Poplar Ford Park\, 6714 Bull Run Post Office Road\, Centerville\, VA\, 20120\, United States
END:VEVENT
BEGIN:VEVENT
DTSTART;TZID=America/New_York:20180907T070000
DTEND;TZID=America/New_York:20180907T120000
DTSTAMP:20260425T084408
CREATED:20180907T052712Z
LAST-MODIFIED:20210417T162629Z
UID:10000274-1536303600-1536321600@www.1nvrc.com
SUMMARY:Leesburg Airshow
DESCRIPTION:NVRC pilots will be part of the Leesburg Airshow again this year! \nhttps://leesburgairshow.com/ \nCome enjoy a fun-filled day of exciting and educational aviation displays and demonstrations at the 2018 Leesburg Airshow!\nThe annual Leesburg Airshow will take place on Saturday\, September 29\, from 11 a.m. to 4 p.m.\, at the Leesburg Executive Airport. This event provides a wonderful opportunity to see a snapshot of the general aviation world. The static display area\, located on the airport’s aircraft parking ramp\, will feature many unique\, experimental and antique aircraft. The airshow exhibitors will showcase the many facets of general aviation\, such as flight training\, corporate transportation and emergency rescue operations. In addition\, there will be inflatables for the kids\, and a variety of food vendors. The skies above Leesburg will come alive with skydiving and aerobatic performances.
URL:https://www.1nvrc.com/event/leesburg-airshow/
LOCATION:Leesburg Airport\, 1001 Sycolin Rd SE\, Leesburg\, VA\, 20175\, United States
CATEGORIES:Flying Events
END:VEVENT
BEGIN:VEVENT
DTSTART;TZID=America/New_York:20180901T050000
DTEND;TZID=America/New_York:20180901T080000
DTSTAMP:20260425T084408
CREATED:20180120T001358Z
LAST-MODIFIED:20210413T055448Z
UID:10000261-1535778000-1535788800@www.1nvrc.com
SUMMARY:Blanket Swap Meet
DESCRIPTION:https://www.1nvrc.com/blanket-swaps/
URL:https://www.1nvrc.com/event/blanket-swap-meet-6/
LOCATION:Poplar Ford Park\, 6714 Bull Run Post Office Road\, Centerville\, VA\, 20120\, United States
END:VEVENT
BEGIN:VEVENT
DTSTART;TZID=America/New_York:20180901T050000
DTEND;TZID=America/New_York:20180901T080000
DTSTAMP:20260425T084408
CREATED:20180119T083455Z
LAST-MODIFIED:20210415T135020Z
UID:10000226-1535778000-1535788800@www.1nvrc.com
SUMMARY:Streamer Combat Skirmish
DESCRIPTION:Informal streamer combat practices 1st Saturdays Apr-Sep \n\nFollow all normal field rules!\n4 in the air at once\nCoordinate with other pilots\n\n\n\nRemember\, it’s an open flying day\, so make sure all pilots are aware of combat intentions and don’t crowd the field – no friendly fire incident please!!
URL:https://www.1nvrc.com/event/streamer-combat-skirmish/
LOCATION:Poplar Ford Park\, 6714 Bull Run Post Office Road\, Centerville\, VA\, 20120\, United States
CATEGORIES:Flying Events
END:VEVENT
BEGIN:VEVENT
DTSTART;TZID=America/New_York:20180825T050000
DTEND;TZID=America/New_York:20180825T100000
DTSTAMP:20260425T084408
CREATED:20180119T083454Z
LAST-MODIFIED:20210415T162829Z
UID:10000020-1535173200-1535191200@www.1nvrc.com
SUMMARY:Lorton Open House Redux!
DESCRIPTION:We had so much fun at the last Lorton / Burnett Field Open House event we decided to do it again! Come fly just about anything from Flite Fest Foamies to 1/4 scale gassers – no noise restrictions! \nWe’re also going to do some informal streamer combat\, so bring your 3s2200mah or smaller foamy combat planes (pusher or puller) for some semi-destructive fun – we’ll have extra streamers handy! \nOpen to all NVRC members and guests – must have current AMA card to fly
URL:https://www.1nvrc.com/event/giant-scale-fly-in/
LOCATION:Lorton/Burnett Field\, 9800 Furnace Road\, Lorton\, VA\, 22079\, United States
CATEGORIES:Flying Events,Outdoor Fun Fly
END:VEVENT
BEGIN:VEVENT
DTSTART;TZID=America/New_York:20180818T050000
DTEND;TZID=America/New_York:20180818T080000
DTSTAMP:20260425T084408
CREATED:20180119T083454Z
LAST-MODIFIED:20210414T095213Z
UID:10000214-1534568400-1534579200@www.1nvrc.com
SUMMARY:Biplane Contest
DESCRIPTION:
URL:https://www.1nvrc.com/event/biplane-contest-2/
LOCATION:Poplar Ford Park\, 6714 Bull Run Post Office Road\, Centerville\, VA\, 20120\, United States
CATEGORIES:Outdoor Fun Fly
END:VEVENT
BEGIN:VEVENT
DTSTART;TZID=America/New_York:20180816T153000
DTEND;TZID=America/New_York:20180816T170000
DTSTAMP:20260425T084408
CREATED:20171224T001239Z
LAST-MODIFIED:20210413T105741Z
UID:10000013-1534433400-1534438800@www.1nvrc.com
SUMMARY:Monthly Meeting
DESCRIPTION:Following the recent set of awesome meetings at Poplar Ford field this summer\, we’re again going to meet at the field for flying\, fellowship\, and fun (to steal a phrase from another notable RC flyer). \nGrilling starting around 6:30\, some short meeting remarks around 7ish\, and flying until the end of civil twilight. \nHope to see you there! \nClub Meetings
URL:https://www.1nvrc.com/event/monthly-meeting-15/
LOCATION:Poplar Ford Park\, 6714 Bull Run Post Office Road\, Centerville\, VA\, 20120\, United States
CATEGORIES:Static Events
ATTACH;FMTTYPE=image/png:https://www.1nvrc.com/wp-content/uploads/2017/12/NVRC-Logo-e1514095621486.png
END:VEVENT
BEGIN:VEVENT
DTSTART;TZID=America/New_York:20180811T060000
DTEND;TZID=America/New_York:20180811T120000
DTSTAMP:20260425T084408
CREATED:20180714T071416Z
LAST-MODIFIED:20210415T151933Z
UID:10000270-1533967200-1533988800@www.1nvrc.com
SUMMARY:Warbirds Over Boyds
DESCRIPTION:
URL:https://www.1nvrc.com/event/warbirds-over-boyds/
LOCATION:Boyds Field\, Boyds\, MD
CATEGORIES:Flying Events,Outdoor Fun Fly
END:VEVENT
BEGIN:VEVENT
DTSTART;TZID=America/New_York:20180804T050000
DTEND;TZID=America/New_York:20180804T080000
DTSTAMP:20260425T084408
CREATED:20180120T001321Z
LAST-MODIFIED:20210416T113710Z
UID:10000259-1533358800-1533369600@www.1nvrc.com
SUMMARY:Blanket Swap Meet
DESCRIPTION:https://www.1nvrc.com/blanket-swaps/
URL:https://www.1nvrc.com/event/blanket-swap-meet-5/
LOCATION:Lorton/Burnett Field\, 9800 Furnace Road\, Lorton\, VA\, 22079\, United States
END:VEVENT
BEGIN:VEVENT
DTSTART;TZID=America/New_York:20180804T050000
DTEND;TZID=America/New_York:20180804T080000
DTSTAMP:20260425T084408
CREATED:20180119T083455Z
LAST-MODIFIED:20210415T055743Z
UID:10000224-1533358800-1533369600@www.1nvrc.com
SUMMARY:Streamer Combat Skirmish
DESCRIPTION:Informal streamer combat practices 1st Saturdays Apr-Sep \n\nFollow all normal field rules!\n4 in the air at once\nCoordinate with other pilots\n\n\n\nRemember\, it’s an open flying day\, so make sure all pilots are aware of combat intentions and don’t crowd the field – no friendly fire incident please!!
URL:https://www.1nvrc.com/event/streamer-combat-skirmish-2/
LOCATION:Lorton/Burnett Field\, 9800 Furnace Road\, Lorton\, VA\, 22079\, United States
CATEGORIES:Flying Events
END:VEVENT
BEGIN:VEVENT
DTSTART;TZID=America/New_York:20180729T050000
DTEND;TZID=America/New_York:20180729T120000
DTSTAMP:20260425T084408
CREATED:20180714T070612Z
LAST-MODIFIED:20210413T211926Z
UID:10000268-1532840400-1532865600@www.1nvrc.com
SUMMARY:Hobby Hangar GSAA Open House
DESCRIPTION:Hobby Hangar Open House at GSAA\n\n\n\nSunday\, July 29\, 2018\n\nThe GSAA field will be open from 10:00 am until 4:00 pm.\n\n-Demonstration of the latest RC products\n-Food/drinks available for pilots and spectators\n-Raffles for great RC products/gift cards\n-Buddy Box flying with an instructor\n-Air to Air Combat\n-Drone Demonstrations\n-Glider Aerotows\n\n…and More!\n\n-$10 landing fee (includes food and raffle ticket)\n-Current AMA membership and FAA registration is required to fly.\n-No noise restrictions!\n-Spectators Welcome!\n \nFor directions to GSAA please click here.\n\n\n\n\n\n\n\n\n\n\n\nSEE YOU THERE!\nHobby Hangar
URL:https://www.1nvrc.com/event/hobby-hangar-gsaa-open-house/
LOCATION:GSAA (Hobby Hangar Field)\, 1700 Sowego Road\, Catlett\, VA\, 20119\, United States
CATEGORIES:Flying Events,Outdoor Fun Fly
END:VEVENT
BEGIN:VEVENT
DTSTART;TZID=America/New_York:20180719T170000
DTEND;TZID=America/New_York:20180719T190000
DTSTAMP:20260425T084408
CREATED:20180606T225100Z
LAST-MODIFIED:20210413T163518Z
UID:10000267-1532019600-1532026800@www.1nvrc.com
SUMMARY:Tiny Whoop Racing
DESCRIPTION:Come out and Race with us!\nCome to Monster Mini Golf for tiny whoop races!  Under a black light moon\, race the course around glowing gates and monsters.  Open to the public with a $10 registration fee\, add $5 for pizza and a drink.  This is as simple as it gets – count laps around the course\, most laps of the night wins!  The best part\, we’ll flip you right side up when you crash! \n\n-All quads must use a 1s battery \n-Prop guards are required. \n-1″ props max \n\n\n8:45 PM – Racer Checkin \n9:00 PM – Racing begins when the last golfer has left the course \nRegister at the NVRC MultiGP Chapter page for the latest details
URL:https://www.1nvrc.com/event/tiny-whoop-racing-11/
LOCATION:Monster Mini Golf\, 14130 Sullyfield Circle\, Suite G\,  Chantilly\, VA\, 20151\, United States
CATEGORIES:Multi-rotor Racing
ATTACH;FMTTYPE=image/jpeg:https://www.1nvrc.com/wp-content/uploads/2017/04/multigp-logo.jpg
END:VEVENT
BEGIN:VEVENT
DTSTART;TZID=America/New_York:20180719T143000
DTEND;TZID=America/New_York:20180719T170000
DTSTAMP:20260425T084408
CREATED:20171223T221133Z
LAST-MODIFIED:20210419T172429Z
UID:10000210-1532010600-1532019600@www.1nvrc.com
SUMMARY:Monthly Meeting
DESCRIPTION:Based on the great time we had holding the June meeting at Poplar Ford Field we’re doing it again in July! \nCome on out around 6:30 when the grill starts up\, and we’ll be flying through civil twilight so bring your lighted planes too! \nClub Meetings
URL:https://www.1nvrc.com/event/monthly-meeting-14/
LOCATION:Poplar Ford Park\, 6714 Bull Run Post Office Road\, Centerville\, VA\, 20120\, United States
CATEGORIES:Static Events
ATTACH;FMTTYPE=image/png:https://www.1nvrc.com/wp-content/uploads/2017/12/NVRC-Logo-e1514095621486.png
END:VEVENT
BEGIN:VEVENT
DTSTART;TZID=America/New_York:20180715T050000
DTEND;TZID=America/New_York:20180715T080000
DTSTAMP:20260425T084408
CREATED:20180119T083455Z
LAST-MODIFIED:20210413T071817Z
UID:10000257-1531630800-1531641600@www.1nvrc.com
SUMMARY:Pylon Races
DESCRIPTION:Pylon Racing
URL:https://www.1nvrc.com/event/pylon-races-2/
LOCATION:Poplar Ford Park\, 6714 Bull Run Post Office Road\, Centerville\, VA\, 20120\, United States
END:VEVENT
BEGIN:VEVENT
DTSTART;TZID=America/New_York:20180707T050000
DTEND;TZID=America/New_York:20180707T080000
DTSTAMP:20260425T084408
CREATED:20180120T000953Z
LAST-MODIFIED:20210413T110249Z
UID:10000047-1530939600-1530950400@www.1nvrc.com
SUMMARY:Blanket Swap Meet
DESCRIPTION:https://www.1nvrc.com/blanket-swaps/
URL:https://www.1nvrc.com/event/blanket-swap-meet-4/
LOCATION:Poplar Ford Park\, 6714 Bull Run Post Office Road\, Centerville\, VA\, 20120\, United States
END:VEVENT
BEGIN:VEVENT
DTSTART;TZID=America/New_York:20180707T050000
DTEND;TZID=America/New_York:20180707T080000
DTSTAMP:20260425T084408
CREATED:20180119T083455Z
LAST-MODIFIED:20210419T211558Z
UID:10000222-1530939600-1530950400@www.1nvrc.com
SUMMARY:Streamer Combat Skirmish
DESCRIPTION:Informal streamer combat practices 1st Saturdays Apr-Sep \n\nFollow all normal field rules!\n4 in the air at once\nCoordinate with other pilots\n\n\n\nRemember\, it’s an open flying day\, so make sure all pilots are aware of combat intentions and don’t crowd the field – no friendly fire incident please!!
URL:https://www.1nvrc.com/event/streamer-combat-skirmish-3/
LOCATION:Poplar Ford Park\, 6714 Bull Run Post Office Road\, Centerville\, VA\, 20120\, United States
CATEGORIES:Flying Events
END:VEVENT
BEGIN:VEVENT
DTSTART;TZID=America/New_York:20180705T170000
DTEND;TZID=America/New_York:20180705T190000
DTSTAMP:20260425T084408
CREATED:20180606T224953Z
LAST-MODIFIED:20210414T003759Z
UID:10000266-1530810000-1530817200@www.1nvrc.com
SUMMARY:Tiny Whoop Racing
DESCRIPTION:Come out and Race with us!\nCome to Monster Mini Golf for tiny whoop races!  Under a black light moon\, race the course around glowing gates and monsters.  Open to the public with a $10 registration fee\, add $5 for pizza and a drink.  This is as simple as it gets – count laps around the course\, most laps of the night wins!  The best part\, we’ll flip you right side up when you crash! \n\n-All quads must use a 1s battery \n-Prop guards are required. \n-1″ props max \n\n\n8:45 PM – Racer Checkin \n9:00 PM – Racing begins when the last golfer has left the course \nRegister at the NVRC MultiGP Chapter page for the latest details
URL:https://www.1nvrc.com/event/tiny-whoop-racing-10/
LOCATION:Monster Mini Golf\, 14130 Sullyfield Circle\, Suite G\,  Chantilly\, VA\, 20151\, United States
CATEGORIES:Multi-rotor Racing
ATTACH;FMTTYPE=image/jpeg:https://www.1nvrc.com/wp-content/uploads/2017/04/multigp-logo.jpg
END:VEVENT
BEGIN:VEVENT
DTSTART;TZID=America/New_York:20180624T060000
DTEND;TZID=America/New_York:20180624T110000
DTSTAMP:20260425T084408
CREATED:20180119T083455Z
LAST-MODIFIED:20210413T074228Z
UID:10000251-1529820000-1529838000@www.1nvrc.com
SUMMARY:Lorton Open House
DESCRIPTION:
URL:https://www.1nvrc.com/event/lorton-open-house/
LOCATION:Lorton/Burnett Field\, 9800 Furnace Road\, Lorton\, VA\, 22079\, United States
CATEGORIES:Flying Events,Outdoor Fun Fly
END:VEVENT
END:VCALENDAR