BEGIN:VCALENDAR
VERSION:2.0
PRODID:-//Northern Virginia Radio Control - NVRC - ECPv6.15.20//NONSGML v1.0//EN
CALSCALE:GREGORIAN
METHOD:PUBLISH
X-WR-CALNAME:Northern Virginia Radio Control - NVRC
X-ORIGINAL-URL:https://www.1nvrc.com
X-WR-CALDESC:Events for Northern Virginia Radio Control - NVRC
REFRESH-INTERVAL;VALUE=DURATION:PT1H
X-Robots-Tag:noindex
X-PUBLISHED-TTL:PT1H
BEGIN:VTIMEZONE
TZID:America/New_York
BEGIN:DAYLIGHT
TZOFFSETFROM:-0500
TZOFFSETTO:-0400
TZNAME:EDT
DTSTART:20160313T070000
END:DAYLIGHT
BEGIN:STANDARD
TZOFFSETFROM:-0400
TZOFFSETTO:-0500
TZNAME:EST
DTSTART:20161106T060000
END:STANDARD
BEGIN:DAYLIGHT
TZOFFSETFROM:-0500
TZOFFSETTO:-0400
TZNAME:EDT
DTSTART:20170312T070000
END:DAYLIGHT
BEGIN:STANDARD
TZOFFSETFROM:-0400
TZOFFSETTO:-0500
TZNAME:EST
DTSTART:20171105T060000
END:STANDARD
BEGIN:DAYLIGHT
TZOFFSETFROM:-0500
TZOFFSETTO:-0400
TZNAME:EDT
DTSTART:20180311T070000
END:DAYLIGHT
BEGIN:STANDARD
TZOFFSETFROM:-0400
TZOFFSETTO:-0500
TZNAME:EST
DTSTART:20181104T060000
END:STANDARD
BEGIN:DAYLIGHT
TZOFFSETFROM:-0500
TZOFFSETTO:-0400
TZNAME:EDT
DTSTART:20190310T070000
END:DAYLIGHT
BEGIN:STANDARD
TZOFFSETFROM:-0400
TZOFFSETTO:-0500
TZNAME:EST
DTSTART:20191103T060000
END:STANDARD
END:VTIMEZONE
BEGIN:VEVENT
DTSTART;TZID=America/New_York:20180215T143000
DTEND;TZID=America/New_York:20180215T160000
DTSTAMP:20260425T105510
CREATED:20171223T220703Z
LAST-MODIFIED:20210413T073519Z
UID:10000201-1518705000-1518710400@www.1nvrc.com
SUMMARY:Monthly Meeting
DESCRIPTION:Club Meetings
URL:https://www.1nvrc.com/event/monthly-meeting-9/
LOCATION:City of Fairfax Fire Station 3\, 4081 University Drive\, Fairfax\, VA\, 22030\, United States
CATEGORIES:Static Events
ATTACH;FMTTYPE=image/png:https://www.1nvrc.com/wp-content/uploads/2017/12/NVRC-Logo-e1514095621486.png
END:VEVENT
BEGIN:VEVENT
DTSTART;TZID=America/New_York:20180204T030000
DTEND;TZID=America/New_York:20180204T090000
DTSTAMP:20260425T105510
CREATED:20171223T232221Z
LAST-MODIFIED:20210413T172931Z
UID:10000012-1517713200-1517734800@www.1nvrc.com
SUMMARY:Indoor Flying at West Potomac High School
DESCRIPTION:This is a STEM fundraiser so come on out with your indoor and free flight models! \nhttp://www.westpotomacengineeringstore.com/events.html for more details.
URL:https://www.1nvrc.com/event/indoor-flying-at-west-potomac-high-school/
LOCATION:West Potomac High School\, 6500 Quander Road\, Alexandria \, VA\, 22307\, United States
CATEGORIES:Flying Events,Indoor Fun Fly
ATTACH;FMTTYPE=image/jpeg:https://www.1nvrc.com/wp-content/uploads/2017/12/WestPotomac1.jpg
END:VEVENT
BEGIN:VEVENT
DTSTART;TZID=America/New_York:20180131T160000
DTEND;TZID=America/New_York:20180131T180000
DTSTAMP:20260425T105510
CREATED:20171223T213411Z
LAST-MODIFIED:20210414T203822Z
UID:10000010-1517414400-1517421600@www.1nvrc.com
SUMMARY:Tiny Whoop Racing
DESCRIPTION:Come out and Race with us!\nCome to Monster Mini Golf for tiny whoop races!  Under a black light moon\, race the course around glowing gates and monsters.  Open to the public with a $10 registration fee\, add $5 for pizza and a drink.  This is as simple as it gets – count laps around the course\, most laps of the night wins!  The best part\, we’ll flip you right side up when you crash! \n\n-All quads must use a 1s battery \n-Prop guards are required. \n-1″ props max \n\n\n8:45 PM – Racer Checkin \n9:00 PM – Racing begins when the last golfer has left the course \nRegister at the NVRC MultiGP Chapter page for the latest details
URL:https://www.1nvrc.com/event/tiny-whoop-racing-7/
LOCATION:Monster Mini Golf\, 14130 Sullyfield Circle\, Suite G\,  Chantilly\, VA\, 20151\, United States
ATTACH;FMTTYPE=image/jpeg:https://www.1nvrc.com/wp-content/uploads/2017/04/multigp-logo.jpg
END:VEVENT
BEGIN:VEVENT
DTSTART;TZID=America/New_York:20180128T030000
DTEND;TZID=America/New_York:20180128T043000
DTSTAMP:20260425T105510
CREATED:20171223T232024Z
LAST-MODIFIED:20210413T061007Z
UID:10000011-1517108400-1517113800@www.1nvrc.com
SUMMARY:Indoor Flying at Westfields High School
DESCRIPTION:
URL:https://www.1nvrc.com/event/indoor-flying-at-westfields-high-school-5/
LOCATION:Westfield High School\, 4700 Stonecroft Blvd\, Chantilly\, VA\, 20151\, United States
CATEGORIES:Flying Events,Indoor Fun Fly
ATTACH;FMTTYPE=image/jpeg:https://www.1nvrc.com/wp-content/uploads/2017/12/best_2400653788bfce5ff278_IMG_0078__1_-scaled.jpg
END:VEVENT
BEGIN:VEVENT
DTSTART;TZID=America/New_York:20180120T040000
DTEND;TZID=America/New_York:20180120T070000
DTSTAMP:20260425T105510
CREATED:20171224T002316Z
LAST-MODIFIED:20210413T114348Z
UID:10000017-1516420800-1516431600@www.1nvrc.com
SUMMARY:Winter Fun Fly
DESCRIPTION:The NVRC Annual Snow-Fly will be held at the NVRC Poplar Ford Field on Saturday\, 20 January 2018.   \nRegistration begins at 09:00 and flying begins at 10:00.  The competition will have pilots doing some taxi event\, rolls\, spins\, loops\,and precise landing.  All is done in one flight and requires a person to be an NVRC qualified flyer and present a current (2018) AMA membership.   \nNon-NVRC flyers are welcome but will be required to pay a $5 landing fee.  (Nothing in life is free.)  \nCD: Harold Chadsey \nThe weather report looks beautiful – sunny and warm with low winds and no rain – so come on our and fly with us! \nNo need to be an expert flyer for this – everyone in the club is welcome!
URL:https://www.1nvrc.com/event/winter-fun-fly/
LOCATION:Poplar Ford Park\, 6714 Bull Run Post Office Road\, Centerville\, VA\, 20120\, United States
CATEGORIES:Flying Events,Outdoor Fun Fly
ATTACH;FMTTYPE=image/jpeg:https://www.1nvrc.com/wp-content/uploads/2017/12/IMG_0800.jpg
END:VEVENT
BEGIN:VEVENT
DTSTART;TZID=America/New_York:20180118T143000
DTEND;TZID=America/New_York:20180118T160000
DTSTAMP:20260425T105510
CREATED:20171223T220407Z
LAST-MODIFIED:20210415T111112Z
UID:10000198-1516285800-1516291200@www.1nvrc.com
SUMMARY:Monthly Meeting
DESCRIPTION:Club Meetings
URL:https://www.1nvrc.com/event/monthly-meeting-8/
LOCATION:City of Fairfax Fire Station 3\, 4081 University Drive\, Fairfax\, VA\, 22030\, United States
CATEGORIES:Static Events
ATTACH;FMTTYPE=image/png:https://www.1nvrc.com/wp-content/uploads/2017/12/NVRC-Logo-e1514095621486.png
END:VEVENT
BEGIN:VEVENT
DTSTART;TZID=America/New_York:20180118T133000
DTEND;TZID=America/New_York:20180118T143000
DTSTAMP:20260425T105510
CREATED:20180106T074755Z
LAST-MODIFIED:20210414T144242Z
UID:10000019-1516282200-1516285800@www.1nvrc.com
SUMMARY:Multi-Rotor Building Support
DESCRIPTION:Come early to the club meeting and learn how to build your own multi-rotor craft! This is the wrap up session for the build we started in the fall\, but whether you are brand new to building and flying\, or have a partially completed project you need help with\, come join us and bring your toys!
URL:https://www.1nvrc.com/event/multi-rotor-building-support/
LOCATION:City of Fairfax Fire Station 3\, 4081 University Drive\, Fairfax\, VA\, 22030\, United States
CATEGORIES:Static Events
END:VEVENT
BEGIN:VEVENT
DTSTART;TZID=America/New_York:20180107T030000
DTEND;TZID=America/New_York:20180107T043000
DTSTAMP:20260425T105510
CREATED:20171223T231923Z
LAST-MODIFIED:20210417T102754Z
UID:10000212-1515294000-1515299400@www.1nvrc.com
SUMMARY:Indoor Flying at Westfields High School
DESCRIPTION:
URL:https://www.1nvrc.com/event/indoor-flying-at-westfields-high-school-4/
LOCATION:Westfield High School\, 4700 Stonecroft Blvd\, Chantilly\, VA\, 20151\, United States
CATEGORIES:Flying Events,Indoor Fun Fly
ATTACH;FMTTYPE=image/jpeg:https://www.1nvrc.com/wp-content/uploads/2017/12/best_2400653788bfce5ff278_IMG_0078__1_-scaled.jpg
END:VEVENT
BEGIN:VEVENT
DTSTART;TZID=America/New_York:20180103T160000
DTEND;TZID=America/New_York:20180103T180000
DTSTAMP:20260425T105510
CREATED:20171223T213103Z
LAST-MODIFIED:20210416T110916Z
UID:10000009-1514995200-1515002400@www.1nvrc.com
SUMMARY:Tiny Whoop Racing
DESCRIPTION:Come out and Race with us!\nCome to Monster Mini Golf for tiny whoop races!  Under a black light moon\, race the course around glowing gates and monsters.  Open to the public with a $10 registration fee\, add $5 for pizza and a drink.  This is as simple as it gets – count laps around the course\, most laps of the night wins!  The best part\, we’ll flip you right side up when you crash! \n\n-All quads must use a 1s battery \n-Prop guards are required. \n-1″ props max \n\n\n8:45 PM – Racer Checkin \n9:00 PM – Racing begins when the last golfer has left the course \nRegister at the NVRC MultiGP Chapter page for the latest details
URL:https://www.1nvrc.com/event/tiny-whoop-racing-3/
LOCATION:Monster Mini Golf\, 14130 Sullyfield Circle\, Suite G\,  Chantilly\, VA\, 20151\, United States
ATTACH;FMTTYPE=image/jpeg:https://www.1nvrc.com/wp-content/uploads/2017/04/multigp-logo.jpg
END:VEVENT
BEGIN:VEVENT
DTSTART;TZID=America/New_York:20171209T120000
DTEND;TZID=America/New_York:20171209T160000
DTSTAMP:20260425T105510
CREATED:20170122T210455Z
LAST-MODIFIED:20210414T162527Z
UID:10000027-1512820800-1512835200@www.1nvrc.com
SUMMARY:NVRC Holiday Party
DESCRIPTION:Drinks and appetizers at 5 PM. Dinner at 6 PM followed by door prizes and our famous New England gift exchange. Please bring a wrapped gift worthy of $20. We will exchange gifts in the crazy style that we have done over the past five years. This is a great family event. We encourage you to participate. Please contact me with RSVP.  \nmfranke@cox.net Dinner will be provided by Mission barbecue \nCost per ticket is $10. Children eat free. You may bring an appetizer or a dessert to contribute to the evening. \nCome out and celebrate the holidays with your friends from NVRC!
URL:https://www.1nvrc.com/event/nvrc-holiday-party/
LOCATION:City of Fairfax Fire Station 3\, 4081 University Drive\, Fairfax\, VA\, 22030\, United States
END:VEVENT
BEGIN:VEVENT
DTSTART;TZID=America/New_York:20171116T143000
DTEND;TZID=America/New_York:20171116T160000
DTSTAMP:20260425T105510
CREATED:20170122T212926Z
LAST-MODIFIED:20210413T162533Z
UID:10000021-1510842600-1510848000@www.1nvrc.com
SUMMARY:Monthly Meeting
DESCRIPTION:Club Meetings
URL:https://www.1nvrc.com/event/monthly-meeting-7/
LOCATION:City of Fairfax Fire Station 3\, 4081 University Drive\, Fairfax\, VA\, 22030\, United States
CATEGORIES:Static Events
END:VEVENT
BEGIN:VEVENT
DTSTART;TZID=America/New_York:20171104T040000
DTEND;TZID=America/New_York:20171104T080000
DTSTAMP:20260425T105510
CREATED:20170122T210202Z
LAST-MODIFIED:20210413T115640Z
UID:10000041-1509768000-1509782400@www.1nvrc.com
SUMMARY:Toys for Tots Fly In
DESCRIPTION:
URL:https://www.1nvrc.com/event/toys-for-tots-fly-in/
LOCATION:Poplar Ford Park\, 6714 Bull Run Post Office Road\, Centerville\, VA\, 20120\, United States
CATEGORIES:Outdoor Fun Fly
ATTACH;FMTTYPE=image/jpeg:https://www.1nvrc.com/wp-content/uploads/2016/10/toys-for-tots.jpg
END:VEVENT
BEGIN:VEVENT
DTSTART;TZID=America/New_York:20171028T040000
DTEND;TZID=America/New_York:20171028T130000
DTSTAMP:20260425T105510
CREATED:20170122T210109Z
LAST-MODIFIED:20210414T190645Z
UID:10000039-1509163200-1509195600@www.1nvrc.com
SUMMARY:Air & Scare
DESCRIPTION:NVRC will be participating the the Air & Scare event at the Udvar Hazy Air & Space museum.  Details to follow when they become available.
URL:https://www.1nvrc.com/event/air-scare/
LOCATION:Udvar Hazy Center\, 14390 Air and Space Museum Pkwy\, Chantilly\, VA\, 20151\, United States
ATTACH;FMTTYPE=image/jpeg:https://www.1nvrc.com/wp-content/uploads/2016/05/sr71.jpg
END:VEVENT
BEGIN:VEVENT
DTSTART;TZID=America/New_York:20171021T040000
DTEND;TZID=America/New_York:20171021T130000
DTSTAMP:20260425T105510
CREATED:20170122T205933Z
LAST-MODIFIED:20210413T095405Z
UID:10000037-1508558400-1508590800@www.1nvrc.com
SUMMARY:Fall Auction
DESCRIPTION:CLICK HERE FOR AUCTION DETAILS:  NVRC Auction Flyer Fall 2017 \n 
URL:https://www.1nvrc.com/event/fall-auction-2/
LOCATION:West Potomac High School\, 6500 Quander Road\, Alexandria \, VA\, 22307\, United States
ATTACH;FMTTYPE=image/gif:https://www.1nvrc.com/wp-content/uploads/2015/02/Auction-Cartoon.gif
END:VEVENT
BEGIN:VEVENT
DTSTART;TZID=America/New_York:20171019T153000
DTEND;TZID=America/New_York:20171019T170000
DTSTAMP:20260425T105510
CREATED:20170122T212835Z
LAST-MODIFIED:20210414T010454Z
UID:10000025-1508427000-1508432400@www.1nvrc.com
SUMMARY:Monthly Meeting
DESCRIPTION:Club Meetings
URL:https://www.1nvrc.com/event/monthly-meeting-6/
LOCATION:City of Fairfax Fire Station 3\, 4081 University Drive\, Fairfax\, VA\, 22030\, United States
CATEGORIES:Static Events
END:VEVENT
BEGIN:VEVENT
DTSTART;TZID=America/New_York:20171007T040000
DTEND;TZID=America/New_York:20171007T080000
DTSTAMP:20260425T105510
CREATED:20170122T205826Z
LAST-MODIFIED:20210413T135838Z
UID:10000049-1507348800-1507363200@www.1nvrc.com
SUMMARY:Fall Fun Fly
DESCRIPTION:Save the date for the Fall Fun Fly.  Details to be provided as they become available.
URL:https://www.1nvrc.com/event/fall-fun-fly-2/
LOCATION:Poplar Ford Park\, 6714 Bull Run Post Office Road\, Centerville\, VA\, 20120\, United States
ATTACH;FMTTYPE=image/jpeg:https://www.1nvrc.com/wp-content/uploads/2013/10/IMG_0452.jpg
END:VEVENT
BEGIN:VEVENT
DTSTART;TZID=America/New_York:20170930T040000
DTEND;TZID=America/New_York:20170930T130000
DTSTAMP:20260425T105510
CREATED:20170122T205539Z
LAST-MODIFIED:20210415T060937Z
UID:10000048-1506744000-1506776400@www.1nvrc.com
SUMMARY:Leesburg Air Show
DESCRIPTION:NVRC will be participating in the Leesburg Airshow.  We will be looking for volunteers to greet the crowds\, display and discuss all things RC\, and a few skilled pilots to join in the show!  Details will be shared as we get closer to the event.
URL:https://www.1nvrc.com/event/leesburg-air-show-2/
LOCATION:Leesburg Airport\, 1001 Sycolin Rd SE\, Leesburg\, VA\, 20175\, United States
ATTACH;FMTTYPE=image/jpeg:https://www.1nvrc.com/wp-content/uploads/2016/08/2016-Website-Banner.jpg
END:VEVENT
BEGIN:VEVENT
DTSTART;TZID=America/New_York:20170923T040000
DTEND;TZID=America/New_York:20170923T130000
DTSTAMP:20260425T105510
CREATED:20170122T210310Z
LAST-MODIFIED:20210419T102857Z
UID:10000042-1506139200-1506171600@www.1nvrc.com
SUMMARY:Pattern/Quad Contest
DESCRIPTION:Contest to be held at Maples Field.  Details to be shared when they are finalized.
URL:https://www.1nvrc.com/event/patternquad-contest/
LOCATION:VA
END:VEVENT
BEGIN:VEVENT
DTSTART;TZID=America/New_York:20170921T153000
DTEND;TZID=America/New_York:20170921T170000
DTSTAMP:20260425T105510
CREATED:20170122T212729Z
LAST-MODIFIED:20210413T054434Z
UID:10000024-1506007800-1506013200@www.1nvrc.com
SUMMARY:Monthly Meeting
DESCRIPTION:Club Meetings
URL:https://www.1nvrc.com/event/monthly-meeting-5/
LOCATION:City of Fairfax Fire Station 3\, 4081 University Drive\, Fairfax\, VA\, 22030\, United States
CATEGORIES:Static Events
END:VEVENT
BEGIN:VEVENT
DTSTART;TZID=America/New_York:20170910T033000
DTEND;TZID=America/New_York:20170910T080000
DTSTAMP:20260425T105510
CREATED:20170123T222151Z
LAST-MODIFIED:20210413T204741Z
UID:10000026-1505014200-1505030400@www.1nvrc.com
SUMMARY:NVRC MultiGP Race Day!
DESCRIPTION:Come out and race with us!  \n\nRaces are open to ANY AMA member\nLanding fee $10\n\n$5 for NVRC members\n\n\nSetup starts at 7:30 AM\nRacing starts at 8:30 AM and will run until 11:45 AM\nField re-open for normal use at 12:00 PM\nCheck out the NVRC MultiGP Chapter page for the latest details
URL:https://www.1nvrc.com/event/nvrc-multigp-race-day-11/
LOCATION:Poplar Ford Park\, 6714 Bull Run Post Office Road\, Centerville\, VA\, 20120\, United States
ATTACH;FMTTYPE=image/jpeg:https://www.1nvrc.com/wp-content/uploads/2016/09/Multi_NVRC_Icon.jpg
END:VEVENT
BEGIN:VEVENT
DTSTART;TZID=America/New_York:20170909T040000
DTEND;TZID=America/New_York:20170909T080000
DTSTAMP:20260425T105510
CREATED:20170122T205345Z
LAST-MODIFIED:20210415T010956Z
UID:10000046-1504929600-1504944000@www.1nvrc.com
SUMMARY:T-28 Racing
DESCRIPTION:Save the Date for T-28 Racing.  Details to be shared as they become available.
URL:https://www.1nvrc.com/event/t-28-racing-3/
LOCATION:Poplar Ford Park\, 6714 Bull Run Post Office Road\, Centerville\, VA\, 20120\, United States
ATTACH;FMTTYPE=image/jpeg:https://www.1nvrc.com/wp-content/uploads/2013/08/t28.jpg
END:VEVENT
BEGIN:VEVENT
DTSTART;TZID=America/New_York:20170819T040000
DTEND;TZID=America/New_York:20170819T130000
DTSTAMP:20260425T105510
CREATED:20170122T205029Z
LAST-MODIFIED:20210416T113149Z
UID:10000044-1503115200-1503147600@www.1nvrc.com
SUMMARY:Biplane Contest
DESCRIPTION:Save the Date for the annual NVRC Biplane Contest.  Details to be shared when available.
URL:https://www.1nvrc.com/event/biplane-contest/
LOCATION:Poplar Ford Park\, 6714 Bull Run Post Office Road\, Centerville\, VA\, 20120\, United States
ATTACH;FMTTYPE=image/jpeg:https://www.1nvrc.com/wp-content/uploads/2016/05/Biplane-Clipart-7-scaled.jpg
END:VEVENT
BEGIN:VEVENT
DTSTART;TZID=America/New_York:20170817T153000
DTEND;TZID=America/New_York:20170817T170000
DTSTAMP:20260425T105510
CREATED:20170122T212457Z
LAST-MODIFIED:20210414T161341Z
UID:10000023-1502983800-1502989200@www.1nvrc.com
SUMMARY:Monthly Meeting
DESCRIPTION:Club Meetings
URL:https://www.1nvrc.com/event/monthly-meeting-4/
LOCATION:City of Fairfax Fire Station 3\, 4081 University Drive\, Fairfax\, VA\, 22030\, United States
CATEGORIES:Static Events
END:VEVENT
BEGIN:VEVENT
DTSTART;TZID=America/New_York:20170813T033000
DTEND;TZID=America/New_York:20170813T080000
DTSTAMP:20260425T105510
CREATED:20170123T222016Z
LAST-MODIFIED:20210415T200036Z
UID:10000035-1502595000-1502611200@www.1nvrc.com
SUMMARY:NVRC MultiGP Race Day!
DESCRIPTION:Come out and race with us!  \n\nRaces are open to ANY AMA member\nLanding fee $10\n\n$5 for NVRC members\n\n\nSetup starts at 7:30 AM\nRacing starts at 8:30 AM and will run until 11:45 AM\nField re-open for normal use at 12:00 PM\nCheck out the NVRC MultiGP Chapter page for the latest details
URL:https://www.1nvrc.com/event/nvrc-multigp-race-day-10/
LOCATION:Poplar Ford Park\, 6714 Bull Run Post Office Road\, Centerville\, VA\, 20120\, United States
ATTACH;FMTTYPE=image/jpeg:https://www.1nvrc.com/wp-content/uploads/2016/09/Multi_NVRC_Icon.jpg
END:VEVENT
BEGIN:VEVENT
DTSTART;TZID=America/New_York:20170720T153000
DTEND;TZID=America/New_York:20170720T170000
DTSTAMP:20260425T105510
CREATED:20170122T212407Z
LAST-MODIFIED:20210414T122541Z
UID:10000022-1500564600-1500570000@www.1nvrc.com
SUMMARY:Monthly Meeting
DESCRIPTION:Club Meetings
URL:https://www.1nvrc.com/event/monthly-meeting-3/
LOCATION:City of Fairfax Fire Station 3\, 4081 University Drive\, Fairfax\, VA\, 22030\, United States
CATEGORIES:Static Events
END:VEVENT
BEGIN:VEVENT
DTSTART;TZID=America/New_York:20170715T040000
DTEND;TZID=America/New_York:20170715T080000
DTSTAMP:20260425T105510
CREATED:20170122T204628Z
LAST-MODIFIED:20210413T122414Z
UID:10000054-1500091200-1500105600@www.1nvrc.com
SUMMARY:T-28 Racing
DESCRIPTION:Details TBD.
URL:https://www.1nvrc.com/event/t-28-racing-2/
LOCATION:Poplar Ford Park\, 6714 Bull Run Post Office Road\, Centerville\, VA\, 20120\, United States
ATTACH;FMTTYPE=image/jpeg:https://www.1nvrc.com/wp-content/uploads/2013/08/t28.jpg
END:VEVENT
BEGIN:VEVENT
DTSTART;TZID=America/New_York:20170709T033000
DTEND;TZID=America/New_York:20170709T080000
DTSTAMP:20260425T105510
CREATED:20170123T221835Z
LAST-MODIFIED:20210414T015423Z
UID:10000050-1499571000-1499587200@www.1nvrc.com
SUMMARY:NVRC MultiGP Race Day!
DESCRIPTION:Come out and race with us!  \n\nRaces are open to ANY AMA member\nLanding fee $10\n\n$5 for NVRC members\n\n\nSetup starts at 7:30 AM\nRacing starts at 8:30 AM and will run until 11:45 AM\nField re-open for normal use at 12:00 PM\nCheck out the NVRC MultiGP Chapter page for the latest details
URL:https://www.1nvrc.com/event/nvrc-multigp-race-day-9/
LOCATION:Poplar Ford Park\, 6714 Bull Run Post Office Road\, Centerville\, VA\, 20120\, United States
ATTACH;FMTTYPE=image/jpeg:https://www.1nvrc.com/wp-content/uploads/2016/09/Multi_NVRC_Icon.jpg
END:VEVENT
BEGIN:VEVENT
DTSTART;TZID=America/New_York:20170621T170000
DTEND;TZID=America/New_York:20170621T190000
DTSTAMP:20260425T105510
CREATED:20170410T175823Z
LAST-MODIFIED:20210416T110906Z
UID:10000008-1498064400-1498071600@www.1nvrc.com
SUMMARY:TINY WHOOP RACING!
DESCRIPTION:Indoor glow-n-the-dark micro drone races (Tiny Whoop MultiGP) this Wednesday (April 12) 9:00 pm to 11:00 pm at Monster Mini Golf. \n$10 pilot fee\, pizza and soda $5.  Spectators welcome\, and all the games and attractions will be available!
URL:https://www.1nvrc.com/event/tiny-whoop-racing-6/
LOCATION:Monster Mini Golf\, 14130 Sullyfield Circle\, Suite G\,  Chantilly\, VA\, 20151\, United States
ATTACH;FMTTYPE=image/jpeg:https://www.1nvrc.com/wp-content/uploads/2017/04/multigp-logo.jpg
END:VEVENT
BEGIN:VEVENT
DTSTART;TZID=America/New_York:20170617T040000
DTEND;TZID=America/New_York:20170617T130000
DTSTAMP:20260425T105510
CREATED:20170122T204446Z
LAST-MODIFIED:20210413T062249Z
UID:10000053-1497672000-1497704400@www.1nvrc.com
SUMMARY:Become a Pilot Day
DESCRIPTION:Details TBD.
URL:https://www.1nvrc.com/event/become-a-pilot-day/
LOCATION:Udvar Hazy Center\, 14390 Air and Space Museum Pkwy\, Chantilly\, VA\, 20151\, United States
ATTACH;FMTTYPE=image/jpeg:https://www.1nvrc.com/wp-content/uploads/2016/05/sr71.jpg
END:VEVENT
BEGIN:VEVENT
DTSTART;TZID=America/New_York:20170615T153000
DTEND;TZID=America/New_York:20170615T170000
DTSTAMP:20260425T105510
CREATED:20170122T212310Z
LAST-MODIFIED:20210415T041844Z
UID:10000033-1497540600-1497546000@www.1nvrc.com
SUMMARY:Monthly Meeting
DESCRIPTION:Club Meetings
URL:https://www.1nvrc.com/event/monthly-meeting-2/
LOCATION:City of Fairfax Fire Station 3\, 4081 University Drive\, Fairfax\, VA\, 22030\, United States
CATEGORIES:Static Events
END:VEVENT
END:VCALENDAR