BEGIN:VCALENDAR
VERSION:2.0
PRODID:-//Northern Virginia Radio Control - NVRC - ECPv6.15.20//NONSGML v1.0//EN
CALSCALE:GREGORIAN
METHOD:PUBLISH
X-WR-CALNAME:Northern Virginia Radio Control - NVRC
X-ORIGINAL-URL:https://www.1nvrc.com
X-WR-CALDESC:Events for Northern Virginia Radio Control - NVRC
REFRESH-INTERVAL;VALUE=DURATION:PT1H
X-Robots-Tag:noindex
X-PUBLISHED-TTL:PT1H
BEGIN:VTIMEZONE
TZID:America/New_York
BEGIN:DAYLIGHT
TZOFFSETFROM:-0500
TZOFFSETTO:-0400
TZNAME:EDT
DTSTART:20160313T070000
END:DAYLIGHT
BEGIN:STANDARD
TZOFFSETFROM:-0400
TZOFFSETTO:-0500
TZNAME:EST
DTSTART:20161106T060000
END:STANDARD
BEGIN:DAYLIGHT
TZOFFSETFROM:-0500
TZOFFSETTO:-0400
TZNAME:EDT
DTSTART:20170312T070000
END:DAYLIGHT
BEGIN:STANDARD
TZOFFSETFROM:-0400
TZOFFSETTO:-0500
TZNAME:EST
DTSTART:20171105T060000
END:STANDARD
BEGIN:DAYLIGHT
TZOFFSETFROM:-0500
TZOFFSETTO:-0400
TZNAME:EDT
DTSTART:20180311T070000
END:DAYLIGHT
BEGIN:STANDARD
TZOFFSETFROM:-0400
TZOFFSETTO:-0500
TZNAME:EST
DTSTART:20181104T060000
END:STANDARD
END:VTIMEZONE
BEGIN:VEVENT
DTSTART;TZID=America/New_York:20170909T040000
DTEND;TZID=America/New_York:20170909T080000
DTSTAMP:20260425T124215
CREATED:20170122T205345Z
LAST-MODIFIED:20210415T010956Z
UID:10000046-1504929600-1504944000@www.1nvrc.com
SUMMARY:T-28 Racing
DESCRIPTION:Save the Date for T-28 Racing.  Details to be shared as they become available.
URL:https://www.1nvrc.com/event/t-28-racing-3/
LOCATION:Poplar Ford Park\, 6714 Bull Run Post Office Road\, Centerville\, VA\, 20120\, United States
ATTACH;FMTTYPE=image/jpeg:https://www.1nvrc.com/wp-content/uploads/2013/08/t28.jpg
END:VEVENT
BEGIN:VEVENT
DTSTART;TZID=America/New_York:20170819T040000
DTEND;TZID=America/New_York:20170819T130000
DTSTAMP:20260425T124215
CREATED:20170122T205029Z
LAST-MODIFIED:20210416T113149Z
UID:10000044-1503115200-1503147600@www.1nvrc.com
SUMMARY:Biplane Contest
DESCRIPTION:Save the Date for the annual NVRC Biplane Contest.  Details to be shared when available.
URL:https://www.1nvrc.com/event/biplane-contest/
LOCATION:Poplar Ford Park\, 6714 Bull Run Post Office Road\, Centerville\, VA\, 20120\, United States
ATTACH;FMTTYPE=image/jpeg:https://www.1nvrc.com/wp-content/uploads/2016/05/Biplane-Clipart-7-scaled.jpg
END:VEVENT
BEGIN:VEVENT
DTSTART;TZID=America/New_York:20170817T153000
DTEND;TZID=America/New_York:20170817T170000
DTSTAMP:20260425T124215
CREATED:20170122T212457Z
LAST-MODIFIED:20210414T161341Z
UID:10000023-1502983800-1502989200@www.1nvrc.com
SUMMARY:Monthly Meeting
DESCRIPTION:Club Meetings
URL:https://www.1nvrc.com/event/monthly-meeting-4/
LOCATION:City of Fairfax Fire Station 3\, 4081 University Drive\, Fairfax\, VA\, 22030\, United States
CATEGORIES:Static Events
END:VEVENT
BEGIN:VEVENT
DTSTART;TZID=America/New_York:20170813T033000
DTEND;TZID=America/New_York:20170813T080000
DTSTAMP:20260425T124215
CREATED:20170123T222016Z
LAST-MODIFIED:20210415T200036Z
UID:10000035-1502595000-1502611200@www.1nvrc.com
SUMMARY:NVRC MultiGP Race Day!
DESCRIPTION:Come out and race with us!  \n\nRaces are open to ANY AMA member\nLanding fee $10\n\n$5 for NVRC members\n\n\nSetup starts at 7:30 AM\nRacing starts at 8:30 AM and will run until 11:45 AM\nField re-open for normal use at 12:00 PM\nCheck out the NVRC MultiGP Chapter page for the latest details
URL:https://www.1nvrc.com/event/nvrc-multigp-race-day-10/
LOCATION:Poplar Ford Park\, 6714 Bull Run Post Office Road\, Centerville\, VA\, 20120\, United States
ATTACH;FMTTYPE=image/jpeg:https://www.1nvrc.com/wp-content/uploads/2016/09/Multi_NVRC_Icon.jpg
END:VEVENT
BEGIN:VEVENT
DTSTART;TZID=America/New_York:20170720T153000
DTEND;TZID=America/New_York:20170720T170000
DTSTAMP:20260425T124215
CREATED:20170122T212407Z
LAST-MODIFIED:20210414T122541Z
UID:10000022-1500564600-1500570000@www.1nvrc.com
SUMMARY:Monthly Meeting
DESCRIPTION:Club Meetings
URL:https://www.1nvrc.com/event/monthly-meeting-3/
LOCATION:City of Fairfax Fire Station 3\, 4081 University Drive\, Fairfax\, VA\, 22030\, United States
CATEGORIES:Static Events
END:VEVENT
BEGIN:VEVENT
DTSTART;TZID=America/New_York:20170715T040000
DTEND;TZID=America/New_York:20170715T080000
DTSTAMP:20260425T124215
CREATED:20170122T204628Z
LAST-MODIFIED:20210413T122414Z
UID:10000054-1500091200-1500105600@www.1nvrc.com
SUMMARY:T-28 Racing
DESCRIPTION:Details TBD.
URL:https://www.1nvrc.com/event/t-28-racing-2/
LOCATION:Poplar Ford Park\, 6714 Bull Run Post Office Road\, Centerville\, VA\, 20120\, United States
ATTACH;FMTTYPE=image/jpeg:https://www.1nvrc.com/wp-content/uploads/2013/08/t28.jpg
END:VEVENT
BEGIN:VEVENT
DTSTART;TZID=America/New_York:20170709T033000
DTEND;TZID=America/New_York:20170709T080000
DTSTAMP:20260425T124215
CREATED:20170123T221835Z
LAST-MODIFIED:20210414T015423Z
UID:10000050-1499571000-1499587200@www.1nvrc.com
SUMMARY:NVRC MultiGP Race Day!
DESCRIPTION:Come out and race with us!  \n\nRaces are open to ANY AMA member\nLanding fee $10\n\n$5 for NVRC members\n\n\nSetup starts at 7:30 AM\nRacing starts at 8:30 AM and will run until 11:45 AM\nField re-open for normal use at 12:00 PM\nCheck out the NVRC MultiGP Chapter page for the latest details
URL:https://www.1nvrc.com/event/nvrc-multigp-race-day-9/
LOCATION:Poplar Ford Park\, 6714 Bull Run Post Office Road\, Centerville\, VA\, 20120\, United States
ATTACH;FMTTYPE=image/jpeg:https://www.1nvrc.com/wp-content/uploads/2016/09/Multi_NVRC_Icon.jpg
END:VEVENT
BEGIN:VEVENT
DTSTART;TZID=America/New_York:20170621T170000
DTEND;TZID=America/New_York:20170621T190000
DTSTAMP:20260425T124215
CREATED:20170410T175823Z
LAST-MODIFIED:20210416T110906Z
UID:10000008-1498064400-1498071600@www.1nvrc.com
SUMMARY:TINY WHOOP RACING!
DESCRIPTION:Indoor glow-n-the-dark micro drone races (Tiny Whoop MultiGP) this Wednesday (April 12) 9:00 pm to 11:00 pm at Monster Mini Golf. \n$10 pilot fee\, pizza and soda $5.  Spectators welcome\, and all the games and attractions will be available!
URL:https://www.1nvrc.com/event/tiny-whoop-racing-6/
LOCATION:Monster Mini Golf\, 14130 Sullyfield Circle\, Suite G\,  Chantilly\, VA\, 20151\, United States
ATTACH;FMTTYPE=image/jpeg:https://www.1nvrc.com/wp-content/uploads/2017/04/multigp-logo.jpg
END:VEVENT
BEGIN:VEVENT
DTSTART;TZID=America/New_York:20170617T040000
DTEND;TZID=America/New_York:20170617T130000
DTSTAMP:20260425T124215
CREATED:20170122T204446Z
LAST-MODIFIED:20210413T062249Z
UID:10000053-1497672000-1497704400@www.1nvrc.com
SUMMARY:Become a Pilot Day
DESCRIPTION:Details TBD.
URL:https://www.1nvrc.com/event/become-a-pilot-day/
LOCATION:Udvar Hazy Center\, 14390 Air and Space Museum Pkwy\, Chantilly\, VA\, 20151\, United States
ATTACH;FMTTYPE=image/jpeg:https://www.1nvrc.com/wp-content/uploads/2016/05/sr71.jpg
END:VEVENT
BEGIN:VEVENT
DTSTART;TZID=America/New_York:20170615T153000
DTEND;TZID=America/New_York:20170615T170000
DTSTAMP:20260425T124215
CREATED:20170122T212310Z
LAST-MODIFIED:20210415T041844Z
UID:10000033-1497540600-1497546000@www.1nvrc.com
SUMMARY:Monthly Meeting
DESCRIPTION:Club Meetings
URL:https://www.1nvrc.com/event/monthly-meeting-2/
LOCATION:City of Fairfax Fire Station 3\, 4081 University Drive\, Fairfax\, VA\, 22030\, United States
CATEGORIES:Static Events
END:VEVENT
BEGIN:VEVENT
DTSTART;TZID=America/New_York:20170611T033000
DTEND;TZID=America/New_York:20170611T080000
DTSTAMP:20260425T124215
CREATED:20170123T221705Z
LAST-MODIFIED:20210415T131831Z
UID:10000055-1497151800-1497168000@www.1nvrc.com
SUMMARY:NVRC MultiGP Race Day!
DESCRIPTION:Come out and race with us!  \n\nRaces are open to ANY AMA member\nLanding fee $10\n\n$5 for NVRC members\n\n\nSetup starts at 7:30 AM\nRacing starts at 8:30 AM and will run until 11:45 AM\nField re-open for normal use at 12:00 PM\nCheck out the NVRC MultiGP Chapter page for the latest details
URL:https://www.1nvrc.com/event/nvrc-multigp-race-day-8/
LOCATION:Poplar Ford Park\, 6714 Bull Run Post Office Road\, Centerville\, VA\, 20120\, United States
ATTACH;FMTTYPE=image/jpeg:https://www.1nvrc.com/wp-content/uploads/2016/09/Multi_NVRC_Icon.jpg
END:VEVENT
BEGIN:VEVENT
DTSTART;TZID=America/New_York:20170607T170000
DTEND;TZID=America/New_York:20170607T190000
DTSTAMP:20260425T124215
CREATED:20170410T175613Z
LAST-MODIFIED:20210414T123254Z
UID:10000007-1496854800-1496862000@www.1nvrc.com
SUMMARY:TINY WHOOP RACING!
DESCRIPTION:Indoor glow-n-the-dark micro drone races (Tiny Whoop MultiGP) this Wednesday (April 12) 9:00 pm to 11:00 pm at Monster Mini Golf. \n$10 pilot fee\, pizza and soda $5.  Spectators welcome\, and all the games and attractions will be available!
URL:https://www.1nvrc.com/event/tiny-whoop-racing-5/
LOCATION:Monster Mini Golf\, 14130 Sullyfield Circle\, Suite G\,  Chantilly\, VA\, 20151\, United States
ATTACH;FMTTYPE=image/jpeg:https://www.1nvrc.com/wp-content/uploads/2017/04/multigp-logo.jpg
END:VEVENT
BEGIN:VEVENT
DTSTART;TZID=America/New_York:20170603T040000
DTEND;TZID=America/New_York:20170603T090000
DTSTAMP:20260425T124215
CREATED:20170122T204044Z
LAST-MODIFIED:20210416T113207Z
UID:10000051-1496462400-1496480400@www.1nvrc.com
SUMMARY:Spring Fun Fly
DESCRIPTION:SAVE THE DATE!  Details for Spring Fun Fly will be shared when they are finalized.
URL:https://www.1nvrc.com/event/spring-fun-fly/
LOCATION:Poplar Ford Park\, 6714 Bull Run Post Office Road\, Centerville\, VA\, 20120\, United States
ATTACH;FMTTYPE=image/jpeg:https://www.1nvrc.com/wp-content/uploads/2016/03/teddy-bear-on-airplane-clipart-1.jpg
END:VEVENT
BEGIN:VEVENT
DTSTART;TZID=America/New_York:20170524T170000
DTEND;TZID=America/New_York:20170524T190000
DTSTAMP:20260425T124215
CREATED:20170410T175423Z
LAST-MODIFIED:20210413T192511Z
UID:10000006-1495645200-1495652400@www.1nvrc.com
SUMMARY:TINY WHOOP RACING!
DESCRIPTION:Indoor glow-n-the-dark micro drone races (Tiny Whoop MultiGP) this Wednesday (April 12) 9:00 pm to 11:00 pm at Monster Mini Golf. \n$10 pilot fee\, pizza and soda $5.  Spectators welcome\, and all the games and attractions will be available!
URL:https://www.1nvrc.com/event/tiny-whoop-racing-4/
LOCATION:Monster Mini Golf\, 14130 Sullyfield Circle\, Suite G\,  Chantilly\, VA\, 20151\, United States
ATTACH;FMTTYPE=image/jpeg:https://www.1nvrc.com/wp-content/uploads/2017/04/multigp-logo.jpg
END:VEVENT
BEGIN:VEVENT
DTSTART;TZID=America/New_York:20170518T153000
DTEND;TZID=America/New_York:20170518T170000
DTSTAMP:20260425T124215
CREATED:20170122T210923Z
LAST-MODIFIED:20210415T045400Z
UID:10000031-1495121400-1495126800@www.1nvrc.com
SUMMARY:Annual Build Contest
DESCRIPTION:In lieu of the regular monthly meeting NVRC will be hosting our annual Build Contest!  Bring out and show off your winter project!  We have categories for all types of aircraft (including Multirotors!).  More details will be shared as the event approaches.
URL:https://www.1nvrc.com/event/annual-build-contest-2/
LOCATION:City of Fairfax Fire Station 3\, 4081 University Drive\, Fairfax\, VA\, 22030\, United States
CATEGORIES:Static Events
ATTACH;FMTTYPE=image/jpeg:https://www.1nvrc.com/wp-content/uploads/2016/04/ryan-st-104-herr-balsa-wood-model-airplane-kit-rubber-powered-3.jpg
END:VEVENT
BEGIN:VEVENT
DTSTART;TZID=America/New_York:20170513T040000
DTEND;TZID=America/New_York:20170513T080000
DTSTAMP:20260425T124215
CREATED:20170122T204345Z
LAST-MODIFIED:20210416T113224Z
UID:10000052-1494648000-1494662400@www.1nvrc.com
SUMMARY:T-28 Racing
DESCRIPTION:T-28 Racing is back!  Save the date!
URL:https://www.1nvrc.com/event/t-28-racing/
LOCATION:Poplar Ford Park\, 6714 Bull Run Post Office Road\, Centerville\, VA\, 20120\, United States
ATTACH;FMTTYPE=image/jpeg:https://www.1nvrc.com/wp-content/uploads/2013/08/t28.jpg
END:VEVENT
BEGIN:VEVENT
DTSTART;TZID=America/New_York:20170510T170000
DTEND;TZID=America/New_York:20170510T190000
DTSTAMP:20260425T124215
CREATED:20170410T174619Z
LAST-MODIFIED:20210416T110837Z
UID:10000005-1494435600-1494442800@www.1nvrc.com
SUMMARY:TINY WHOOP RACING!
DESCRIPTION:Indoor glow-n-the-dark micro drone races (Tiny Whoop MultiGP) this Wednesday (May 10) 9:00 pm to 11:00 pm at Monster Mini Golf. \n$10 pilot fee\, pizza and soda $5.  Spectators welcome\, and all the games and attractions will be available!
URL:https://www.1nvrc.com/event/tiny-whoop-racing-2/
LOCATION:Monster Mini Golf\, 14130 Sullyfield Circle\, Suite G\,  Chantilly\, VA\, 20151\, United States
ATTACH;FMTTYPE=image/jpeg:https://www.1nvrc.com/wp-content/uploads/2017/04/multigp-logo.jpg
END:VEVENT
BEGIN:VEVENT
DTSTART;TZID=America/New_York:20170429T040000
DTEND;TZID=America/New_York:20170429T130000
DTSTAMP:20260425T124215
CREATED:20170330T181335Z
LAST-MODIFIED:20210416T114619Z
UID:10000002-1493438400-1493470800@www.1nvrc.com
SUMMARY:Burke Civil Air Patrol Visit
DESCRIPTION:The Burke Squadron Civil Air Patrol will be visiting the Poplar Ford field on April 29th.  This event will overlap with MultiGP racing and will allow the cadets to see multiple aspects of the RC Hobby. \nMo Azar will be speaking about this event at the April club meeting and will provide additional details there cz-lekarna.com.
URL:https://www.1nvrc.com/event/burke-civil-air-patrol-visit/
LOCATION:Poplar Ford Park\, 6714 Bull Run Post Office Road\, Centerville\, VA\, 20120\, United States
ATTACH;FMTTYPE=image/jpeg:https://www.1nvrc.com/wp-content/uploads/2017/03/Presentation1.jpg
END:VEVENT
BEGIN:VEVENT
DTSTART;TZID=America/New_York:20170423T040000
DTEND;TZID=America/New_York:20170423T173000
DTSTAMP:20260425T124215
CREATED:20170307T180623Z
LAST-MODIFIED:20210416T133637Z
UID:10000001-1492920000-1492968600@www.1nvrc.com
SUMMARY:Indoor Flying at Westfields High School
DESCRIPTION:Indoor Flying at Westfields High School (8:00AM -9:30AM)
URL:https://www.1nvrc.com/event/indoor-flying-at-westfields-high-school-3/
LOCATION:Westfield High School\, 4700 Stonecroft Blvd\, Chantilly\, VA\, 20151\, United States
CATEGORIES:Indoor Fun Fly
END:VEVENT
BEGIN:VEVENT
DTSTART;TZID=America/New_York:20170422T040000
DTEND;TZID=America/New_York:20170422T120000
DTSTAMP:20260425T124215
CREATED:20170122T203131Z
LAST-MODIFIED:20210415T073825Z
UID:10000089-1492833600-1492862400@www.1nvrc.com
SUMMARY:NVRC Spring Auction!
DESCRIPTION:CLICK HERE FOR DETAILS!  
URL:https://www.1nvrc.com/event/nvrc-spring-auction/
LOCATION:West Potomac High School\, 6500 Quander Road\, Alexandria \, VA\, 22307\, United States
ATTACH;FMTTYPE=image/gif:https://www.1nvrc.com/wp-content/uploads/2015/02/Auction-Cartoon.gif
END:VEVENT
BEGIN:VEVENT
DTSTART;TZID=America/New_York:20170420T153000
DTEND;TZID=America/New_York:20170420T170000
DTSTAMP:20260425T124215
CREATED:20170122T210651Z
LAST-MODIFIED:20210413T071823Z
UID:10000029-1492702200-1492707600@www.1nvrc.com
SUMMARY:Monthly Meeting
DESCRIPTION:Club Meetings
URL:https://www.1nvrc.com/event/monthly-meeting/
LOCATION:City of Fairfax Fire Station 3\, 4081 University Drive\, Fairfax\, VA\, 22030\, United States
END:VEVENT
BEGIN:VEVENT
DTSTART;TZID=America/New_York:20170412T170000
DTEND;TZID=America/New_York:20170412T190000
DTSTAMP:20260425T124215
CREATED:20170410T162248Z
LAST-MODIFIED:20210416T110827Z
UID:10000004-1492016400-1492023600@www.1nvrc.com
SUMMARY:Tiny Whoop Racing!
DESCRIPTION:Indoor glow-n-the-dark micro drone races (Tiny Whoop MultiGP) this Wednesday (April 12) 9:00 pm to 11:00 pm at Monster Mini Golf. \n$10 pilot fee\, pizza and soda $5.  Spectators welcome\, and all the games and attractions will be available!
URL:https://www.1nvrc.com/event/tiny-whoop-racing/
LOCATION:Monster Mini Golf\, 14130 Sullyfield Circle\, Suite G\,  Chantilly\, VA\, 20151\, United States
ATTACH;FMTTYPE=image/jpeg:https://www.1nvrc.com/wp-content/uploads/2017/04/multigp-logo.jpg
END:VEVENT
BEGIN:VEVENT
DTSTART;TZID=America/New_York:20170409T033000
DTEND;TZID=America/New_York:20170409T080000
DTSTAMP:20260425T124215
CREATED:20161018T220954Z
LAST-MODIFIED:20210417T183900Z
UID:10000097-1491708600-1491724800@www.1nvrc.com
SUMMARY:NVRC MultiGP Race Day!   Season Finale!
DESCRIPTION:Come out and race with us!  \n\nRaces are open to ANY AMA member\nLanding fee $10\n\n$5 for NVRC members\n\n\nSetup starts at 7:30 AM\nRacing starts at 8:30 AM and will run until 11:45 AM\nField re-open for normal use at 12:00 PM\nCheck out the NVRC MultiGP Chapter page for the latest details
URL:https://www.1nvrc.com/event/nvrc-multigp-race-day-6/
LOCATION:Poplar Ford Park\, 6714 Bull Run Post Office Road\, Centerville\, VA\, 20120\, United States
ATTACH;FMTTYPE=image/jpeg:https://www.1nvrc.com/wp-content/uploads/2016/09/Multi_NVRC_Icon.jpg
END:VEVENT
BEGIN:VEVENT
DTSTART;TZID=America/New_York:20170402T070000
DTEND;TZID=America/New_York:20170402T110000
DTSTAMP:20260425T124215
CREATED:20170330T201115Z
LAST-MODIFIED:20210415T143917Z
UID:10000003-1491116400-1491130800@www.1nvrc.com
SUMMARY:Lorton Work Day!
DESCRIPTION:Folks\,\nThe Lorton project is moving along! We will be having a work session at Lorton field Sunday\, April 2. We need a handful of volunteers with spreaders to seed and fertilize.  IF YOU HAVE A SPREADER PLEASE BRING IT ALONG! \nLorton Address:\n9850 Furnace Road\nLorton VA 22079 \nWe will meet at the administration building at 11AM.  Please bring a reflective vest if you have one. Everyone must sign in at the administration building\, which is located immediately on the right as you enter the facility (Just past the scales).  Please email me if you plan to attend.  Thanks in advance for your participation! \nMark Franke\nmfranke@cox.net\n703-963-0773
URL:https://www.1nvrc.com/event/lorton-work-day/
LOCATION:VA
CATEGORIES:Static Events
ATTACH;FMTTYPE=image/jpeg:https://www.1nvrc.com/wp-content/uploads/2013/08/sl_website-under-construction.jpeg
END:VEVENT
BEGIN:VEVENT
DTSTART;TZID=America/New_York:20170402T040000
DTEND;TZID=America/New_York:20170402T053000
DTSTAMP:20260425T124215
CREATED:20170307T180323Z
LAST-MODIFIED:20210415T183336Z
UID:10000193-1491105600-1491111000@www.1nvrc.com
SUMMARY:Indoor Flying at Westfields High School
DESCRIPTION:Indoor Flying at Westfields High School.  8:00AM-9:30AM
URL:https://www.1nvrc.com/event/indoor-flying-at-westfields-high-school-2/
LOCATION:Westfield High School\, 4700 Stonecroft Blvd\, Chantilly\, VA\, 20151\, United States
CATEGORIES:Indoor Fun Fly
END:VEVENT
BEGIN:VEVENT
DTSTART;TZID=America/New_York:20170325T033000
DTEND;TZID=America/New_York:20170325T060000
DTSTAMP:20260425T124215
CREATED:20161018T222351Z
LAST-MODIFIED:20210416T113234Z
UID:10000090-1490412600-1490421600@www.1nvrc.com
SUMMARY:NVRC MultiGP - Practice
DESCRIPTION:Come out and race with us!  \n\nPractices are open to ONLY to NVRC members\nSetup starts at 7:30 AM\nRacing starts at 8:00 AM and will run until at least 10:00 AM\nField re-open for normal use after 10:00 AM\nCheck out the NVRC MultiGP Chapter page for the latest details
URL:https://www.1nvrc.com/event/nvrc-multigp-practice-6/
LOCATION:Poplar Ford Park\, 6714 Bull Run Post Office Road\, Centerville\, VA\, 20120\, United States
ATTACH;FMTTYPE=image/jpeg:https://www.1nvrc.com/wp-content/uploads/2016/09/Multi_NVRC_Icon.jpg
END:VEVENT
BEGIN:VEVENT
DTSTART;TZID=America/New_York:20170319T040000
DTEND;TZID=America/New_York:20170319T053000
DTSTAMP:20260425T124215
CREATED:20170307T180033Z
LAST-MODIFIED:20210419T100628Z
UID:10000119-1489896000-1489901400@www.1nvrc.com
SUMMARY:Indoor Flying at Westfields High School
DESCRIPTION:Indoor flying at Westfields High School.  8:00AM -9:30AM
URL:https://www.1nvrc.com/event/indoor-flying-at-westfields-high-school/
LOCATION:Westfield High School\, 4700 Stonecroft Blvd\, Chantilly\, VA\, 20151\, United States
CATEGORIES:Indoor Fun Fly
END:VEVENT
BEGIN:VEVENT
DTSTART;TZID=America/New_York:20170316T153000
DTEND;TZID=America/New_York:20170316T170000
DTSTAMP:20260425T124215
CREATED:20160621T210704Z
LAST-MODIFIED:20210413T174420Z
UID:10000117-1489678200-1489683600@www.1nvrc.com
SUMMARY:Monthly Club Meeting
DESCRIPTION:Club Meetings
URL:https://www.1nvrc.com/event/monthly-club-meeting-2/
LOCATION:City of Fairfax Fire Station 3\, 4081 University Drive\, Fairfax\, VA\, 22030\, United States
END:VEVENT
BEGIN:VEVENT
DTSTART;TZID=America/New_York:20170312T050000
DTEND;TZID=America/New_York:20170312T120000
DTSTAMP:20260425T124215
CREATED:20170123T050627Z
LAST-MODIFIED:20210414T210653Z
UID:10000106-1489294800-1489320000@www.1nvrc.com
SUMMARY:Indoor Flying at National Building Museum
DESCRIPTION:**NOT AN NVRC SPONSORED EVENT** \n\n\n\nClick here for details! \nhttps://www.1nvrc.com/wp-content/uploads/2017/01/National-Building-Museum-flyer.pdf
URL:https://www.1nvrc.com/event/indoor-flying-at-national-building-museum/
LOCATION:National Building Museum\, 401 F Street NW\, Washington DC\, DC\, 20001\, United States
CATEGORIES:Indoor Fun Fly
END:VEVENT
BEGIN:VEVENT
DTSTART;TZID=America/New_York:20170312T033000
DTEND;TZID=America/New_York:20170312T080000
DTSTAMP:20260425T124215
CREATED:20161018T220842Z
LAST-MODIFIED:20210417T174054Z
UID:10000113-1489289400-1489305600@www.1nvrc.com
SUMMARY:NVRC MultiGP Race Day!
DESCRIPTION:Come out and race with us!  \n\nRaces are open to ANY AMA member\nLanding fee $10\n\n$5 for NVRC members\n\n\nSetup starts at 7:30 AM\nRacing starts at 8:30 AM and will run until 11:45 AM\nField re-open for normal use at 12:00 PM\nCheck out the NVRC MultiGP Chapter page for the latest details
URL:https://www.1nvrc.com/event/nvrc-multigp-race-day-5/
LOCATION:Poplar Ford Park\, 6714 Bull Run Post Office Road\, Centerville\, VA\, 20120\, United States
ATTACH;FMTTYPE=image/jpeg:https://www.1nvrc.com/wp-content/uploads/2016/09/Multi_NVRC_Icon.jpg
END:VEVENT
END:VCALENDAR