BEGIN:VCALENDAR
VERSION:2.0
PRODID:-//Northern Virginia Radio Control - NVRC - ECPv6.15.20//NONSGML v1.0//EN
CALSCALE:GREGORIAN
METHOD:PUBLISH
X-WR-CALNAME:Northern Virginia Radio Control - NVRC
X-ORIGINAL-URL:https://www.1nvrc.com
X-WR-CALDESC:Events for Northern Virginia Radio Control - NVRC
REFRESH-INTERVAL;VALUE=DURATION:PT1H
X-Robots-Tag:noindex
X-PUBLISHED-TTL:PT1H
BEGIN:VTIMEZONE
TZID:America/New_York
BEGIN:DAYLIGHT
TZOFFSETFROM:-0500
TZOFFSETTO:-0400
TZNAME:EDT
DTSTART:20210314T070000
END:DAYLIGHT
BEGIN:STANDARD
TZOFFSETFROM:-0400
TZOFFSETTO:-0500
TZNAME:EST
DTSTART:20211107T060000
END:STANDARD
BEGIN:DAYLIGHT
TZOFFSETFROM:-0500
TZOFFSETTO:-0400
TZNAME:EDT
DTSTART:20220313T070000
END:DAYLIGHT
BEGIN:STANDARD
TZOFFSETFROM:-0400
TZOFFSETTO:-0500
TZNAME:EST
DTSTART:20221106T060000
END:STANDARD
BEGIN:DAYLIGHT
TZOFFSETFROM:-0500
TZOFFSETTO:-0400
TZNAME:EDT
DTSTART:20230312T070000
END:DAYLIGHT
BEGIN:STANDARD
TZOFFSETFROM:-0400
TZOFFSETTO:-0500
TZNAME:EST
DTSTART:20231105T060000
END:STANDARD
BEGIN:DAYLIGHT
TZOFFSETFROM:-0500
TZOFFSETTO:-0400
TZNAME:EDT
DTSTART:20240310T070000
END:DAYLIGHT
BEGIN:STANDARD
TZOFFSETFROM:-0400
TZOFFSETTO:-0500
TZNAME:EST
DTSTART:20241103T060000
END:STANDARD
END:VTIMEZONE
BEGIN:VEVENT
DTSTART;TZID=America/New_York:20230601T080000
DTEND;TZID=America/New_York:20230604T170000
DTSTAMP:20260424T103859
CREATED:20230123T180051Z
LAST-MODIFIED:20230123T180051Z
UID:10000252-1685606400-1685898000@www.1nvrc.com
SUMMARY:Military Warbirds & Classics over Fredericksburg
DESCRIPTION:Militarey Warbirds & Classics\, 2 grass runways\, shelters\, pwr\, concessions\,Turbines\nOK (no sport jets}\,Landing fee $40.00 includes Sat. pilots dinner. Raffle Sat. 8 RV hookups and unlimited camping. Warbirds in Military Livery\, early arrivals welcome
URL:https://www.1nvrc.com/event/military-warbirds-classics-over-fredericksburg/
LOCATION:VA
END:VEVENT
BEGIN:VEVENT
DTSTART;TZID=America/New_York:20230528T120000
DTEND;TZID=America/New_York:20230528T170000
DTSTAMP:20260424T103859
CREATED:20230324T035313Z
LAST-MODIFIED:20230324T035515Z
UID:10000512-1685275200-1685293200@www.1nvrc.com
SUMMARY:Drone Race Skills practice session
DESCRIPTION:Drone Race Skills practice session
URL:https://www.1nvrc.com/event/6987/2023-05-28/
LOCATION:Poplar Ford Park\, 6714 Bull Run Post Office Road\, Centerville\, VA\, 20120\, United States
ATTACH;FMTTYPE=image/jpeg:https://www.1nvrc.com/wp-content/uploads/2017/12/Multi-GP_Racing3.jpg
END:VEVENT
BEGIN:VEVENT
DTSTART;TZID=America/New_York:20230520T083000
DTEND;TZID=America/New_York:20230520T130000
DTSTAMP:20260424T103859
CREATED:20230121T035759Z
LAST-MODIFIED:20230121T035759Z
UID:10000470-1684571400-1684587600@www.1nvrc.com
SUMMARY:NVRC Spring Fun Fly & Auction
DESCRIPTION:Outdoor Fun Fly
URL:https://www.1nvrc.com/event/nvrc-spring-fun-fly-auction/
LOCATION:Poplar Ford Park\, 6714 Bull Run Post Office Road\, Centerville\, VA\, 20120\, United States
CATEGORIES:Outdoor Fun Fly,Static Events
ATTACH;FMTTYPE=image/jpeg:https://www.1nvrc.com/wp-content/uploads/2013/09/nvrc-homepage-pics-e1618201578582.jpg
END:VEVENT
BEGIN:VEVENT
DTSTART;TZID=America/New_York:20230514T090000
DTEND;TZID=America/New_York:20230514T170000
DTSTAMP:20260424T103859
CREATED:20210227T035527Z
LAST-MODIFIED:20210227T035748Z
UID:10000182-1684054800-1684083600@www.1nvrc.com
SUMMARY:FPV Field Day
DESCRIPTION:In our new FPV format\, we are going to dedicate the second Sunday of each month as an FPV Field Day at Poplar Ford Field. Fixed wing line of sight RC activities are still permitted\, but need to give way for FPV fixed wing or multi-rotor activities which can include setting up race gates on the runway. \nOn these FPV Field Days\, all NVRC members wishing to fly fixed wing line of sight are welcome to use the Lorton Field – even if you do not have the normal Lorton membership tag on your badge.
URL:https://www.1nvrc.com/event/fpv-field-day/2023-05-14/
LOCATION:Poplar Ford Park\, 6714 Bull Run Post Office Road\, Centerville\, VA\, 20120\, United States
CATEGORIES:Flying Events,Multi-rotor Racing
ATTACH;FMTTYPE=image/jpeg:https://www.1nvrc.com/wp-content/uploads/2021/02/fpv-team.jpg
END:VEVENT
BEGIN:VEVENT
DTSTART;TZID=America/New_York:20230514T090000
DTEND;TZID=America/New_York:20230514T160000
DTSTAMP:20260424T103859
CREATED:20230121T041707Z
LAST-MODIFIED:20230121T041707Z
UID:10000354-1684054800-1684080000@www.1nvrc.com
SUMMARY:Multi-GP Official Qualifier Race
DESCRIPTION:On the 2nd Sunday of each month\, NVRC will be hosting Multi-GP Drone Qualifier Races from 9:00 am to 4:00pm. The gate setups for these races takes a little less than half of the field\, and fixed wing pilots who are able to work around that ground obstacle are welcome to come fly between race heats. \nOfficial Qualifier races on June 11th and July 9th \n  \nFPV Racing at NVRC
URL:https://www.1nvrc.com/event/multi-gp-official-qualifier-race/2023-05-14/
LOCATION:Poplar Ford Park\, 6714 Bull Run Post Office Road\, Centerville\, VA\, 20120\, United States
CATEGORIES:Flying Events,Multi-rotor Racing
ATTACH;FMTTYPE=image/jpeg:https://www.1nvrc.com/wp-content/uploads/2016/09/Multi_NVRC_Icon.jpg
END:VEVENT
BEGIN:VEVENT
DTSTART;TZID=America/New_York:20230506T083000
DTEND;TZID=America/New_York:20230506T110000
DTSTAMP:20260424T103859
CREATED:20230121T031117Z
LAST-MODIFIED:20230121T031117Z
UID:10000486-1683361800-1683370800@www.1nvrc.com
SUMMARY:NVRC Build Contest
DESCRIPTION:Schedule: \n8:30 am Setup Begins \n10:00 am Balloting \n11:00 am All done! \nFor more information about the long proud tradition and rules of our Display Contest\, please visit the event page here: \nDisplay Contest
URL:https://www.1nvrc.com/event/nvrc-build-contest-2/
LOCATION:Poplar Ford Park\, 6714 Bull Run Post Office Road\, Centerville\, VA\, 20120\, United States
CATEGORIES:Static Events
ATTACH;FMTTYPE=image/jpeg:https://www.1nvrc.com/wp-content/uploads/2019/12/26-March-1971-Building-Contest.jpg
END:VEVENT
BEGIN:VEVENT
DTSTART;TZID=America/New_York:20230424T080000
DTEND;TZID=America/New_York:20230430T170000
DTSTAMP:20260424T103859
CREATED:20230109T180439Z
LAST-MODIFIED:20230109T180439Z
UID:10000243-1682323200-1682874000@www.1nvrc.com
SUMMARY:Southeast Electric Flight Festival (SEFF) at Hodges field in Andersonville\, GA April 24 – 30\, 2023
DESCRIPTION:
URL:https://www.1nvrc.com/event/southeast-electric-flight-festival-seff-at-hodges-field-in-andersonville-ga-april-24-30-2023/
LOCATION:VA
END:VEVENT
BEGIN:VEVENT
DTSTART;TZID=America/New_York:20230423T120000
DTEND;TZID=America/New_York:20230423T170000
DTSTAMP:20260424T103859
CREATED:20230324T035313Z
LAST-MODIFIED:20230324T035515Z
UID:10000511-1682251200-1682269200@www.1nvrc.com
SUMMARY:Drone Race Skills practice session
DESCRIPTION:Drone Race Skills practice session
URL:https://www.1nvrc.com/event/6987/2023-04-23/
LOCATION:Poplar Ford Park\, 6714 Bull Run Post Office Road\, Centerville\, VA\, 20120\, United States
ATTACH;FMTTYPE=image/jpeg:https://www.1nvrc.com/wp-content/uploads/2017/12/Multi-GP_Racing3.jpg
END:VEVENT
BEGIN:VEVENT
DTSTART;TZID=America/New_York:20230422T090000
DTEND;TZID=America/New_York:20230422T120000
DTSTAMP:20260424T103859
CREATED:20230121T030020Z
LAST-MODIFIED:20230121T030020Z
UID:10000248-1682154000-1682164800@www.1nvrc.com
SUMMARY:New Pilot Qualification Day
DESCRIPTION:Know how to fly well enough but still carrying that new pilot badge? Not sure how to get upgraded to the qualified pilot badge? We can fix that! \nCome join us for a few hours of focus on helping members finish their qualification process. Any two qualified member or one club instructor can sign off on a pilot’s qualification status and we’ll be focused on doing that for as many people as we can during the New Pilot Qualification Day. \nNote\, this is not a flight training event – our instructors won’t be focused on buddy boxing and new pilot instruction.
URL:https://www.1nvrc.com/event/new-pilot-qualification-day-2/
LOCATION:Poplar Ford Park\, 6714 Bull Run Post Office Road\, Centerville\, VA\, 20120\, United States
CATEGORIES:Flying Events
ATTACH;FMTTYPE=image/jpeg:https://www.1nvrc.com/wp-content/uploads/2023/01/Aeroscout.jpeg
END:VEVENT
BEGIN:VEVENT
DTSTART;TZID=America/New_York:20230420T193000
DTEND;TZID=America/New_York:20230420T210000
DTSTAMP:20260424T103859
CREATED:20210216T210310Z
LAST-MODIFIED:20221216T184543Z
UID:10000151-1682019000-1682024400@www.1nvrc.com
SUMMARY:MONTHLY CLUB MEETING WINTER and FALL
DESCRIPTION:We are back to in-person meetings at Fairfax Fire Station #3 for the fall/winter (please wear a mask if you are at risk for COVID\, and please stay home if you feel sick in any way). \nBe safe! \nClub Meetings
URL:https://www.1nvrc.com/event/virtual-monthly-club-meeting-2-2022-04-21-2022-09-15/2023-04-20/
LOCATION:VA
CATEGORIES:Static Events
ATTACH;FMTTYPE=image/jpeg:https://www.1nvrc.com/wp-content/uploads/2020/11/NVRC-Logo-521x498-1.jpg
END:VEVENT
BEGIN:VEVENT
DTSTART;TZID=America/New_York:20230409T090000
DTEND;TZID=America/New_York:20230409T170000
DTSTAMP:20260424T103859
CREATED:20210227T035527Z
LAST-MODIFIED:20210227T035748Z
UID:10000181-1681030800-1681059600@www.1nvrc.com
SUMMARY:FPV Field Day
DESCRIPTION:In our new FPV format\, we are going to dedicate the second Sunday of each month as an FPV Field Day at Poplar Ford Field. Fixed wing line of sight RC activities are still permitted\, but need to give way for FPV fixed wing or multi-rotor activities which can include setting up race gates on the runway. \nOn these FPV Field Days\, all NVRC members wishing to fly fixed wing line of sight are welcome to use the Lorton Field – even if you do not have the normal Lorton membership tag on your badge.
URL:https://www.1nvrc.com/event/fpv-field-day/2023-04-09/
LOCATION:Poplar Ford Park\, 6714 Bull Run Post Office Road\, Centerville\, VA\, 20120\, United States
CATEGORIES:Flying Events,Multi-rotor Racing
ATTACH;FMTTYPE=image/jpeg:https://www.1nvrc.com/wp-content/uploads/2021/02/fpv-team.jpg
END:VEVENT
BEGIN:VEVENT
DTSTART;TZID=America/New_York:20230409T090000
DTEND;TZID=America/New_York:20230409T160000
DTSTAMP:20260424T103859
CREATED:20230121T041707Z
LAST-MODIFIED:20230121T041707Z
UID:10000353-1681030800-1681056000@www.1nvrc.com
SUMMARY:Multi-GP Official Qualifier Race
DESCRIPTION:On the 2nd Sunday of each month\, NVRC will be hosting Multi-GP Drone Qualifier Races from 9:00 am to 4:00pm. The gate setups for these races takes a little less than half of the field\, and fixed wing pilots who are able to work around that ground obstacle are welcome to come fly between race heats. \nOfficial Qualifier races on June 11th and July 9th \n  \nFPV Racing at NVRC
URL:https://www.1nvrc.com/event/multi-gp-official-qualifier-race/2023-04-09/
LOCATION:Poplar Ford Park\, 6714 Bull Run Post Office Road\, Centerville\, VA\, 20120\, United States
CATEGORIES:Flying Events,Multi-rotor Racing
ATTACH;FMTTYPE=image/jpeg:https://www.1nvrc.com/wp-content/uploads/2016/09/Multi_NVRC_Icon.jpg
END:VEVENT
BEGIN:VEVENT
DTSTART;TZID=America/New_York:20230316T193000
DTEND;TZID=America/New_York:20230316T210000
DTSTAMP:20260424T103859
CREATED:20210216T210310Z
LAST-MODIFIED:20221216T184543Z
UID:10000150-1678995000-1679000400@www.1nvrc.com
SUMMARY:MONTHLY CLUB MEETING WINTER and FALL
DESCRIPTION:We are back to in-person meetings at Fairfax Fire Station #3 for the fall/winter (please wear a mask if you are at risk for COVID\, and please stay home if you feel sick in any way). \nBe safe! \nClub Meetings
URL:https://www.1nvrc.com/event/virtual-monthly-club-meeting-2-2022-04-21-2022-09-15/2023-03-16/
LOCATION:VA
CATEGORIES:Static Events
ATTACH;FMTTYPE=image/jpeg:https://www.1nvrc.com/wp-content/uploads/2020/11/NVRC-Logo-521x498-1.jpg
END:VEVENT
BEGIN:VEVENT
DTSTART;TZID=America/New_York:20230312T090000
DTEND;TZID=America/New_York:20230312T170000
DTSTAMP:20260424T103859
CREATED:20210227T035527Z
LAST-MODIFIED:20210227T035748Z
UID:10000180-1678611600-1678640400@www.1nvrc.com
SUMMARY:FPV Field Day
DESCRIPTION:In our new FPV format\, we are going to dedicate the second Sunday of each month as an FPV Field Day at Poplar Ford Field. Fixed wing line of sight RC activities are still permitted\, but need to give way for FPV fixed wing or multi-rotor activities which can include setting up race gates on the runway. \nOn these FPV Field Days\, all NVRC members wishing to fly fixed wing line of sight are welcome to use the Lorton Field – even if you do not have the normal Lorton membership tag on your badge.
URL:https://www.1nvrc.com/event/fpv-field-day/2023-03-12/
LOCATION:Poplar Ford Park\, 6714 Bull Run Post Office Road\, Centerville\, VA\, 20120\, United States
CATEGORIES:Flying Events,Multi-rotor Racing
ATTACH;FMTTYPE=image/jpeg:https://www.1nvrc.com/wp-content/uploads/2021/02/fpv-team.jpg
END:VEVENT
BEGIN:VEVENT
DTSTART;TZID=America/New_York:20230312T090000
DTEND;TZID=America/New_York:20230312T160000
DTSTAMP:20260424T103859
CREATED:20230121T041707Z
LAST-MODIFIED:20230121T041707Z
UID:10000352-1678611600-1678636800@www.1nvrc.com
SUMMARY:Multi-GP Official Qualifier Race
DESCRIPTION:On the 2nd Sunday of each month\, NVRC will be hosting Multi-GP Drone Qualifier Races from 9:00 am to 4:00pm. The gate setups for these races takes a little less than half of the field\, and fixed wing pilots who are able to work around that ground obstacle are welcome to come fly between race heats. \nOfficial Qualifier races on June 11th and July 9th \n  \nFPV Racing at NVRC
URL:https://www.1nvrc.com/event/multi-gp-official-qualifier-race/2023-03-12/
LOCATION:Poplar Ford Park\, 6714 Bull Run Post Office Road\, Centerville\, VA\, 20120\, United States
CATEGORIES:Flying Events,Multi-rotor Racing
ATTACH;FMTTYPE=image/jpeg:https://www.1nvrc.com/wp-content/uploads/2016/09/Multi_NVRC_Icon.jpg
END:VEVENT
BEGIN:VEVENT
DTSTART;TZID=America/New_York:20230303T080000
DTEND;TZID=America/New_York:20230304T170000
DTSTAMP:20260424T103859
CREATED:20230109T181323Z
LAST-MODIFIED:20230109T181323Z
UID:10000245-1677830400-1677949200@www.1nvrc.com
SUMMARY:Southeastern Model Show (swap meet)
DESCRIPTION:Southeastern Model Show (swap meet) in Perry\, Georgia 3 & 4 Mar 2023 https://www.gamarc.com/smsshow
URL:https://www.1nvrc.com/event/southeastern-model-show-swap-meet/
LOCATION:VA
END:VEVENT
BEGIN:VEVENT
DTSTART;VALUE=DATE:20230218
DTEND;VALUE=DATE:20230219
DTSTAMP:20260424T103859
CREATED:20230109T185030Z
LAST-MODIFIED:20230109T185030Z
UID:10000246-1676678400-1676764799@www.1nvrc.com
SUMMARY:NNPRCC Swap Meet
DESCRIPTION:DATE: February 18\, 2023 \nFor all modeling and hobby related items including RC airplanes\, helicopters\, drones\, cars and boats. \nPLACE: Immanuel Baptist Church\, 69 Saunders Rd\, Newport News\, VA. Same location as last year.   https://goo.gl/maps/6Ah7a4h8btF7gckf7 \nTIME: Doors open for set-up at 8:00am. Open to Public at 9:00am. No selling before 9:00am\, Swap Meet hours: 9am to NOON \nGENERAL ADMISSION: $5.00 (Ladies free\, Children 10 years and younger are free). \nSELLERS: All tables are $12.00 each. Only the renter of the table or tables gets free admission. Don’t delay reserve early. Contact Todd Smith rctreetopflyer@gmail.com
URL:https://www.1nvrc.com/event/nnprcc-swap-meet/
LOCATION:VA
END:VEVENT
BEGIN:VEVENT
DTSTART;TZID=America/New_York:20230216T193000
DTEND;TZID=America/New_York:20230216T210000
DTSTAMP:20260424T103859
CREATED:20210216T210310Z
LAST-MODIFIED:20221216T184543Z
UID:10000149-1676575800-1676581200@www.1nvrc.com
SUMMARY:MONTHLY CLUB MEETING WINTER and FALL
DESCRIPTION:We are back to in-person meetings at Fairfax Fire Station #3 for the fall/winter (please wear a mask if you are at risk for COVID\, and please stay home if you feel sick in any way). \nBe safe! \nClub Meetings
URL:https://www.1nvrc.com/event/virtual-monthly-club-meeting-2-2022-04-21-2022-09-15/2023-02-16/
LOCATION:VA
CATEGORIES:Static Events
ATTACH;FMTTYPE=image/jpeg:https://www.1nvrc.com/wp-content/uploads/2020/11/NVRC-Logo-521x498-1.jpg
END:VEVENT
BEGIN:VEVENT
DTSTART;TZID=America/New_York:20230212T090000
DTEND;TZID=America/New_York:20230212T170000
DTSTAMP:20260424T103859
CREATED:20210227T035527Z
LAST-MODIFIED:20210227T035748Z
UID:10000179-1676192400-1676221200@www.1nvrc.com
SUMMARY:FPV Field Day
DESCRIPTION:In our new FPV format\, we are going to dedicate the second Sunday of each month as an FPV Field Day at Poplar Ford Field. Fixed wing line of sight RC activities are still permitted\, but need to give way for FPV fixed wing or multi-rotor activities which can include setting up race gates on the runway. \nOn these FPV Field Days\, all NVRC members wishing to fly fixed wing line of sight are welcome to use the Lorton Field – even if you do not have the normal Lorton membership tag on your badge.
URL:https://www.1nvrc.com/event/fpv-field-day/2023-02-12/
LOCATION:Poplar Ford Park\, 6714 Bull Run Post Office Road\, Centerville\, VA\, 20120\, United States
CATEGORIES:Flying Events,Multi-rotor Racing
ATTACH;FMTTYPE=image/jpeg:https://www.1nvrc.com/wp-content/uploads/2021/02/fpv-team.jpg
END:VEVENT
BEGIN:VEVENT
DTSTART;TZID=America/New_York:20230212T090000
DTEND;TZID=America/New_York:20230212T160000
DTSTAMP:20260424T103859
CREATED:20230121T041707Z
LAST-MODIFIED:20230121T041707Z
UID:10000351-1676192400-1676217600@www.1nvrc.com
SUMMARY:Multi-GP Official Qualifier Race
DESCRIPTION:On the 2nd Sunday of each month\, NVRC will be hosting Multi-GP Drone Qualifier Races from 9:00 am to 4:00pm. The gate setups for these races takes a little less than half of the field\, and fixed wing pilots who are able to work around that ground obstacle are welcome to come fly between race heats. \nOfficial Qualifier races on June 11th and July 9th \n  \nFPV Racing at NVRC
URL:https://www.1nvrc.com/event/multi-gp-official-qualifier-race/2023-02-12/
LOCATION:Poplar Ford Park\, 6714 Bull Run Post Office Road\, Centerville\, VA\, 20120\, United States
CATEGORIES:Flying Events,Multi-rotor Racing
ATTACH;FMTTYPE=image/jpeg:https://www.1nvrc.com/wp-content/uploads/2016/09/Multi_NVRC_Icon.jpg
END:VEVENT
BEGIN:VEVENT
DTSTART;TZID=America/New_York:20230204T090000
DTEND;TZID=America/New_York:20230204T120000
DTSTAMP:20260424T103859
CREATED:20230121T024619Z
LAST-MODIFIED:20230121T024619Z
UID:10000247-1675501200-1675512000@www.1nvrc.com
SUMMARY:NVRC Snow Fun Fly
DESCRIPTION:Time for the Snow Fun Fly of 2023!  Fun Flys are exactly what they sound like – fun\, social events that are accessible to any qualified pilot.  Typical challenges include timed flight\, spot landings\, and basic aerobatics.  All NVRC members that are qualified pilots are welcome to participate.  Brave the cold and dust off your airplanes! \nPlease Pre-Register* to get a reminder here: Register \n*Pre-Registration is not required\, but it helps us communicate to you in case of last-minute changes \n 
URL:https://www.1nvrc.com/event/nvrc-snow-fun-fly/
LOCATION:Poplar Ford Park\, 6714 Bull Run Post Office Road\, Centerville\, VA\, 20120\, United States
CATEGORIES:Flying Events,Outdoor Fun Fly
END:VEVENT
BEGIN:VEVENT
DTSTART;TZID=America/New_York:20230119T193000
DTEND;TZID=America/New_York:20230119T210000
DTSTAMP:20260424T103859
CREATED:20210216T210310Z
LAST-MODIFIED:20221216T184543Z
UID:10000148-1674156600-1674162000@www.1nvrc.com
SUMMARY:MONTHLY CLUB MEETING WINTER and FALL
DESCRIPTION:We are back to in-person meetings at Fairfax Fire Station #3 for the fall/winter (please wear a mask if you are at risk for COVID\, and please stay home if you feel sick in any way). \nBe safe! \nClub Meetings
URL:https://www.1nvrc.com/event/virtual-monthly-club-meeting-2-2022-04-21-2022-09-15/2023-01-19/
LOCATION:VA
CATEGORIES:Static Events
ATTACH;FMTTYPE=image/jpeg:https://www.1nvrc.com/wp-content/uploads/2020/11/NVRC-Logo-521x498-1.jpg
END:VEVENT
BEGIN:VEVENT
DTSTART;TZID=America/New_York:20230108T090000
DTEND;TZID=America/New_York:20230108T170000
DTSTAMP:20260424T103859
CREATED:20210227T035527Z
LAST-MODIFIED:20210227T035748Z
UID:10000178-1673168400-1673197200@www.1nvrc.com
SUMMARY:FPV Field Day
DESCRIPTION:In our new FPV format\, we are going to dedicate the second Sunday of each month as an FPV Field Day at Poplar Ford Field. Fixed wing line of sight RC activities are still permitted\, but need to give way for FPV fixed wing or multi-rotor activities which can include setting up race gates on the runway. \nOn these FPV Field Days\, all NVRC members wishing to fly fixed wing line of sight are welcome to use the Lorton Field – even if you do not have the normal Lorton membership tag on your badge.
URL:https://www.1nvrc.com/event/fpv-field-day/2023-01-08/
LOCATION:Poplar Ford Park\, 6714 Bull Run Post Office Road\, Centerville\, VA\, 20120\, United States
CATEGORIES:Flying Events,Multi-rotor Racing
ATTACH;FMTTYPE=image/jpeg:https://www.1nvrc.com/wp-content/uploads/2021/02/fpv-team.jpg
END:VEVENT
BEGIN:VEVENT
DTSTART;TZID=America/New_York:20221214T203000
DTEND;TZID=America/New_York:20221214T213000
DTSTAMP:20260424T103859
CREATED:20201008T022846Z
LAST-MODIFIED:20221219T155952Z
UID:10000389-1671049800-1671053400@www.1nvrc.com
SUMMARY:Virtual Workshop Chat
DESCRIPTION:Come join us from 8:30pm until we get too tired to talk about airplanes\, show off our airplanes\, plan our next airplane projects\, and probably discuss some airplane history too. \nThis is the Zoom link for the meeting and the pass code is the same as the gate combination. \nGuests are welcome too – just use the Contact Us page to request a guest link to join in!
URL:https://www.1nvrc.com/event/virtual-workshop-chat/2022-12-14/
LOCATION:VA
CATEGORIES:Static Events
ATTACH;FMTTYPE=image/jpeg:https://www.1nvrc.com/wp-content/uploads/2019/12/Workshop.jpg
END:VEVENT
BEGIN:VEVENT
DTSTART;TZID=America/New_York:20221211T090000
DTEND;TZID=America/New_York:20221211T170000
DTSTAMP:20260424T103859
CREATED:20210227T035527Z
LAST-MODIFIED:20210227T035748Z
UID:10000177-1670749200-1670778000@www.1nvrc.com
SUMMARY:FPV Field Day
DESCRIPTION:In our new FPV format\, we are going to dedicate the second Sunday of each month as an FPV Field Day at Poplar Ford Field. Fixed wing line of sight RC activities are still permitted\, but need to give way for FPV fixed wing or multi-rotor activities which can include setting up race gates on the runway. \nOn these FPV Field Days\, all NVRC members wishing to fly fixed wing line of sight are welcome to use the Lorton Field – even if you do not have the normal Lorton membership tag on your badge.
URL:https://www.1nvrc.com/event/fpv-field-day/2022-12-11/
LOCATION:Poplar Ford Park\, 6714 Bull Run Post Office Road\, Centerville\, VA\, 20120\, United States
CATEGORIES:Flying Events,Multi-rotor Racing
ATTACH;FMTTYPE=image/jpeg:https://www.1nvrc.com/wp-content/uploads/2021/02/fpv-team.jpg
END:VEVENT
BEGIN:VEVENT
DTSTART;TZID=America/New_York:20221210T170000
DTEND;TZID=America/New_York:20221210T210000
DTSTAMP:20260424T103859
CREATED:20200308T023327Z
LAST-MODIFIED:20220325T034440Z
UID:10000340-1670691600-1670706000@www.1nvrc.com
SUMMARY:Annual Holiday Banquet
DESCRIPTION:The NVRC Holiday Banquet will be held at the clubhouse in our president’s neighborhood from 5pm to 8pm. Barbeque will be served\, gifts will be exchanged\, laughter will occur\, and all members\, spouses\, children and other guests are welcome! \n– Remember to bring a wrapped Radio Control hobby related (or adult beverage) gift worth a minimum of $20 for the New England Gift Exchange (aka Yankee Swap <== click for the rules)\n– Please bring an appetizer or desert to share\n– Please bring $20 per adult to help with the BBQ costs (kids eat free unless they are bottomless teenage hunger pits)\n– Prepayment via PayPal is appreciated: https://www.paypal.me/nvrcclub (If you pay now with PayPal\, please add a note that this is for the 2021 Holiday Party). \nSo we can get the BBQ order sized appropriately RSVP to Gary Quinn ASAP at garydquinn@gmail.com. Questions? Call him at 703-581-4857 \nWe will need some volunteers for set-up and break-down. We have a Sign-Up Genius for the event to gather volunteers to help and maybe track who is attending to help with buying drinks and ordering food. Here is the link to the sign-up:  \nIf you haven’t been to one of our annual holiday parties before\, it’s a whole lot of fun and we really want you to come by! You don’t even have to be a member to join in – just be friendly to one! \nSee you there!
URL:https://www.1nvrc.com/event/annual-holiday-banquet-2/
LOCATION:Truo Clubhouse\, 4146 Elizabeth Lane\, Annandale\, 22003
CATEGORIES:Static Events
ATTACH;FMTTYPE=image/png:https://www.1nvrc.com/wp-content/uploads/2019/02/Santa_Airplane.png
END:VEVENT
BEGIN:VEVENT
DTSTART;TZID=America/New_York:20221123T203000
DTEND;TZID=America/New_York:20221123T213000
DTSTAMP:20260424T103859
CREATED:20230204T022851Z
LAST-MODIFIED:20230204T022851Z
UID:10000417-1669235400-1669239000@www.1nvrc.com
SUMMARY:Virtual Workshop Chat
DESCRIPTION:Come join us from 8:30pm until we get too tired to talk about airplanes\, show off our airplanes\, plan our next airplane projects\, and probably discuss some airplane history too. \nThis is the Zoom link for the meeting and the pass code is the same as the gate combination. \nGuests are welcome too – just use the Contact Us page to request a guest link to join in!
URL:https://www.1nvrc.com/event/virtual-workshop-chat/2022-11-23/
LOCATION:VA
CATEGORIES:Static Events
ATTACH;FMTTYPE=image/jpeg:https://www.1nvrc.com/wp-content/uploads/2019/12/Workshop.jpg
END:VEVENT
BEGIN:VEVENT
DTSTART;TZID=America/New_York:20221113T090000
DTEND;TZID=America/New_York:20221113T170000
DTSTAMP:20260424T103859
CREATED:20210227T035527Z
LAST-MODIFIED:20210227T035748Z
UID:10000176-1668330000-1668358800@www.1nvrc.com
SUMMARY:FPV Field Day
DESCRIPTION:In our new FPV format\, we are going to dedicate the second Sunday of each month as an FPV Field Day at Poplar Ford Field. Fixed wing line of sight RC activities are still permitted\, but need to give way for FPV fixed wing or multi-rotor activities which can include setting up race gates on the runway. \nOn these FPV Field Days\, all NVRC members wishing to fly fixed wing line of sight are welcome to use the Lorton Field – even if you do not have the normal Lorton membership tag on your badge.
URL:https://www.1nvrc.com/event/fpv-field-day/2022-11-13/
LOCATION:Poplar Ford Park\, 6714 Bull Run Post Office Road\, Centerville\, VA\, 20120\, United States
CATEGORIES:Flying Events,Multi-rotor Racing
ATTACH;FMTTYPE=image/jpeg:https://www.1nvrc.com/wp-content/uploads/2021/02/fpv-team.jpg
END:VEVENT
BEGIN:VEVENT
DTSTART;TZID=America/New_York:20221109T203000
DTEND;TZID=America/New_York:20221109T213000
DTSTAMP:20260424T103859
CREATED:20201008T022846Z
LAST-MODIFIED:20221219T155952Z
UID:10000388-1668025800-1668029400@www.1nvrc.com
SUMMARY:Virtual Workshop Chat
DESCRIPTION:Come join us from 8:30pm until we get too tired to talk about airplanes\, show off our airplanes\, plan our next airplane projects\, and probably discuss some airplane history too. \nThis is the Zoom link for the meeting and the pass code is the same as the gate combination. \nGuests are welcome too – just use the Contact Us page to request a guest link to join in!
URL:https://www.1nvrc.com/event/virtual-workshop-chat/2022-11-09/
LOCATION:VA
CATEGORIES:Static Events
ATTACH;FMTTYPE=image/jpeg:https://www.1nvrc.com/wp-content/uploads/2019/12/Workshop.jpg
END:VEVENT
BEGIN:VEVENT
DTSTART;TZID=America/New_York:20221105T080000
DTEND;TZID=America/New_York:20221105T170000
DTSTAMP:20260424T103859
CREATED:20220214T134818Z
LAST-MODIFIED:20220325T034143Z
UID:10000232-1667635200-1667667600@www.1nvrc.com
SUMMARY:PGRC Spring & Fall Swap Shop
DESCRIPTION:
URL:https://www.1nvrc.com/event/pgrc-spring-swap-shop/2022-11-05/
LOCATION:VA
CATEGORIES:Static Events
ATTACH;FMTTYPE=image/bmp:https://www.1nvrc.com/wp-content/uploads/2022/02/PGRClogo.bmp
END:VEVENT
END:VCALENDAR