BEGIN:VCALENDAR
VERSION:2.0
PRODID:-//Northern Virginia Radio Control - NVRC - ECPv6.15.20//NONSGML v1.0//EN
CALSCALE:GREGORIAN
METHOD:PUBLISH
X-WR-CALNAME:Northern Virginia Radio Control - NVRC
X-ORIGINAL-URL:https://www.1nvrc.com
X-WR-CALDESC:Events for Northern Virginia Radio Control - NVRC
REFRESH-INTERVAL;VALUE=DURATION:PT1H
X-Robots-Tag:noindex
X-PUBLISHED-TTL:PT1H
BEGIN:VTIMEZONE
TZID:America/New_York
BEGIN:DAYLIGHT
TZOFFSETFROM:-0500
TZOFFSETTO:-0400
TZNAME:EDT
DTSTART:20210314T070000
END:DAYLIGHT
BEGIN:STANDARD
TZOFFSETFROM:-0400
TZOFFSETTO:-0500
TZNAME:EST
DTSTART:20211107T060000
END:STANDARD
BEGIN:DAYLIGHT
TZOFFSETFROM:-0500
TZOFFSETTO:-0400
TZNAME:EDT
DTSTART:20220313T070000
END:DAYLIGHT
BEGIN:STANDARD
TZOFFSETFROM:-0400
TZOFFSETTO:-0500
TZNAME:EST
DTSTART:20221106T060000
END:STANDARD
BEGIN:DAYLIGHT
TZOFFSETFROM:-0500
TZOFFSETTO:-0400
TZNAME:EDT
DTSTART:20230312T070000
END:DAYLIGHT
BEGIN:STANDARD
TZOFFSETFROM:-0400
TZOFFSETTO:-0500
TZNAME:EST
DTSTART:20231105T060000
END:STANDARD
END:VTIMEZONE
BEGIN:VEVENT
DTSTART;TZID=America/New_York:20220824T203000
DTEND;TZID=America/New_York:20220824T213000
DTSTAMP:20260424T073901
CREATED:20230204T022851Z
LAST-MODIFIED:20230204T022851Z
UID:10000414-1661373000-1661376600@www.1nvrc.com
SUMMARY:Virtual Workshop Chat
DESCRIPTION:Come join us from 8:30pm until we get too tired to talk about airplanes\, show off our airplanes\, plan our next airplane projects\, and probably discuss some airplane history too. \nThis is the Zoom link for the meeting and the pass code is the same as the gate combination. \nGuests are welcome too – just use the Contact Us page to request a guest link to join in!
URL:https://www.1nvrc.com/event/virtual-workshop-chat/2022-08-24/
LOCATION:VA
CATEGORIES:Static Events
ATTACH;FMTTYPE=image/jpeg:https://www.1nvrc.com/wp-content/uploads/2019/12/Workshop.jpg
END:VEVENT
BEGIN:VEVENT
DTSTART;TZID=America/New_York:20220818T193000
DTEND;TZID=America/New_York:20220818T210000
DTSTAMP:20260424T073901
CREATED:20210216T210310Z
LAST-MODIFIED:20220818T143948Z
UID:10000147-1660851000-1660856400@www.1nvrc.com
SUMMARY:MONTHLY CLUB MEETING & NIGHT FLYING!
DESCRIPTION:With special permission from the county\, we are flying until dark after the meeting tonight! So come for the meeting but bring a plane with lights on it if you have one (and please wear a mask if you are at risk for COVID\, and please stay home if you feel sick in any way). \nBe safe! \nClub Meetings
URL:https://www.1nvrc.com/event/virtual-monthly-club-meeting-2-2022-04-21-2022-08-18/
LOCATION:VA
CATEGORIES:Static Events
ATTACH;FMTTYPE=image/jpeg:https://www.1nvrc.com/wp-content/uploads/2020/11/NVRC-Logo-521x498-1.jpg
END:VEVENT
BEGIN:VEVENT
DTSTART;TZID=America/New_York:20220814T090000
DTEND;TZID=America/New_York:20220814T170000
DTSTAMP:20260424T073901
CREATED:20210227T035527Z
LAST-MODIFIED:20210227T035748Z
UID:10000173-1660467600-1660496400@www.1nvrc.com
SUMMARY:FPV Field Day
DESCRIPTION:In our new FPV format\, we are going to dedicate the second Sunday of each month as an FPV Field Day at Poplar Ford Field. Fixed wing line of sight RC activities are still permitted\, but need to give way for FPV fixed wing or multi-rotor activities which can include setting up race gates on the runway. \nOn these FPV Field Days\, all NVRC members wishing to fly fixed wing line of sight are welcome to use the Lorton Field – even if you do not have the normal Lorton membership tag on your badge.
URL:https://www.1nvrc.com/event/fpv-field-day/2022-08-14/
LOCATION:Poplar Ford Park\, 6714 Bull Run Post Office Road\, Centerville\, VA\, 20120\, United States
CATEGORIES:Flying Events,Multi-rotor Racing
ATTACH;FMTTYPE=image/jpeg:https://www.1nvrc.com/wp-content/uploads/2021/02/fpv-team.jpg
END:VEVENT
BEGIN:VEVENT
DTSTART;TZID=America/New_York:20220813T100000
DTEND;TZID=America/New_York:20220813T140000
DTSTAMP:20260424T073901
CREATED:20220325T032226Z
LAST-MODIFIED:20220325T032409Z
UID:10000236-1660384800-1660399200@www.1nvrc.com
SUMMARY:National Model Aviation Day & Picinic
DESCRIPTION:Come celebrate National Model Aviation Day with NVRC!
URL:https://www.1nvrc.com/event/national-model-aviation-day-picinic/
LOCATION:Poplar Ford Park\, 6714 Bull Run Post Office Road\, Centerville\, VA\, 20120\, United States
CATEGORIES:Flying Events
ATTACH;FMTTYPE=image/jpeg:https://www.1nvrc.com/wp-content/uploads/2022/03/modelaviationday-2022.jpg
END:VEVENT
BEGIN:VEVENT
DTSTART;TZID=America/New_York:20220810T203000
DTEND;TZID=America/New_York:20220810T213000
DTSTAMP:20260424T073901
CREATED:20201008T022846Z
LAST-MODIFIED:20221219T155952Z
UID:10000385-1660163400-1660167000@www.1nvrc.com
SUMMARY:Virtual Workshop Chat
DESCRIPTION:Come join us from 8:30pm until we get too tired to talk about airplanes\, show off our airplanes\, plan our next airplane projects\, and probably discuss some airplane history too. \nThis is the Zoom link for the meeting and the pass code is the same as the gate combination. \nGuests are welcome too – just use the Contact Us page to request a guest link to join in!
URL:https://www.1nvrc.com/event/virtual-workshop-chat/2022-08-10/
LOCATION:VA
CATEGORIES:Static Events
ATTACH;FMTTYPE=image/jpeg:https://www.1nvrc.com/wp-content/uploads/2019/12/Workshop.jpg
END:VEVENT
BEGIN:VEVENT
DTSTART;TZID=America/New_York:20220727T203000
DTEND;TZID=America/New_York:20220727T213000
DTSTAMP:20260424T073901
CREATED:20230204T022851Z
LAST-MODIFIED:20230204T022851Z
UID:10000413-1658953800-1658957400@www.1nvrc.com
SUMMARY:Virtual Workshop Chat
DESCRIPTION:Come join us from 8:30pm until we get too tired to talk about airplanes\, show off our airplanes\, plan our next airplane projects\, and probably discuss some airplane history too. \nThis is the Zoom link for the meeting and the pass code is the same as the gate combination. \nGuests are welcome too – just use the Contact Us page to request a guest link to join in!
URL:https://www.1nvrc.com/event/virtual-workshop-chat/2022-07-27/
LOCATION:VA
CATEGORIES:Static Events
ATTACH;FMTTYPE=image/jpeg:https://www.1nvrc.com/wp-content/uploads/2019/12/Workshop.jpg
END:VEVENT
BEGIN:VEVENT
DTSTART;TZID=America/New_York:20220716T050000
DTEND;TZID=America/New_York:20220716T100000
DTSTAMP:20260424T073901
CREATED:20190208T091748Z
LAST-MODIFIED:20220325T032629Z
UID:10000295-1657947600-1657965600@www.1nvrc.com
SUMMARY:Lorton Glider Day
DESCRIPTION:Bring your gliders to Lorton for a fun day of soaring! \nAll club members and guests are welcome! \nWe’ll have a high start bungee launch and hopefully a couple tow planes to make sure you get up in the air farmbrazil.com.br! \n \nMake sure to check out our map to the field and site guest instructions before your first visit to the Lorton / Burnett Field! \nLorton Burnett Field
URL:https://www.1nvrc.com/event/lorton-glider-day/
LOCATION:Lorton/Burnett Field\, 9800 Furnace Road\, Lorton\, VA\, 22079\, United States
CATEGORIES:Flying Events,Outdoor Fun Fly
ATTACH;FMTTYPE=image/jpeg:https://www.1nvrc.com/wp-content/uploads/2019/02/glider.jpg
END:VEVENT
BEGIN:VEVENT
DTSTART;TZID=America/New_York:20220713T203000
DTEND;TZID=America/New_York:20220713T213000
DTSTAMP:20260424T073901
CREATED:20201008T022846Z
LAST-MODIFIED:20221219T155952Z
UID:10000384-1657744200-1657747800@www.1nvrc.com
SUMMARY:Virtual Workshop Chat
DESCRIPTION:Come join us from 8:30pm until we get too tired to talk about airplanes\, show off our airplanes\, plan our next airplane projects\, and probably discuss some airplane history too. \nThis is the Zoom link for the meeting and the pass code is the same as the gate combination. \nGuests are welcome too – just use the Contact Us page to request a guest link to join in!
URL:https://www.1nvrc.com/event/virtual-workshop-chat/2022-07-13/
LOCATION:VA
CATEGORIES:Static Events
ATTACH;FMTTYPE=image/jpeg:https://www.1nvrc.com/wp-content/uploads/2019/12/Workshop.jpg
END:VEVENT
BEGIN:VEVENT
DTSTART;TZID=America/New_York:20220710T090000
DTEND;TZID=America/New_York:20220710T170000
DTSTAMP:20260424T073901
CREATED:20210227T035527Z
LAST-MODIFIED:20210227T035748Z
UID:10000172-1657443600-1657472400@www.1nvrc.com
SUMMARY:FPV Field Day
DESCRIPTION:In our new FPV format\, we are going to dedicate the second Sunday of each month as an FPV Field Day at Poplar Ford Field. Fixed wing line of sight RC activities are still permitted\, but need to give way for FPV fixed wing or multi-rotor activities which can include setting up race gates on the runway. \nOn these FPV Field Days\, all NVRC members wishing to fly fixed wing line of sight are welcome to use the Lorton Field – even if you do not have the normal Lorton membership tag on your badge.
URL:https://www.1nvrc.com/event/fpv-field-day/2022-07-10/
LOCATION:Poplar Ford Park\, 6714 Bull Run Post Office Road\, Centerville\, VA\, 20120\, United States
CATEGORIES:Flying Events,Multi-rotor Racing
ATTACH;FMTTYPE=image/jpeg:https://www.1nvrc.com/wp-content/uploads/2021/02/fpv-team.jpg
END:VEVENT
BEGIN:VEVENT
DTSTART;TZID=America/New_York:20220625T080000
DTEND;TZID=America/New_York:20220625T140000
DTSTAMP:20260424T073901
CREATED:20220215T145815Z
LAST-MODIFIED:20220325T033359Z
UID:10000509-1656144000-1656165600@www.1nvrc.com
SUMMARY:FARM Club Float Fly
DESCRIPTION:http://www.farmclubrc.com/
URL:https://www.1nvrc.com/event/farm-club-float-fly/2022-06-25/
LOCATION:Farm Club Bealton VA\, Bealton\, VA\, United States
CATEGORIES:Flying Events,Outdoor Fun Fly
END:VEVENT
BEGIN:VEVENT
DTSTART;TZID=America/New_York:20220623T080000
DTEND;TZID=America/New_York:20220626T170000
DTSTAMP:20260424T073901
CREATED:20220215T145540Z
LAST-MODIFIED:20220215T145540Z
UID:10000505-1655971200-1656262800@www.1nvrc.com
SUMMARY:Flite Fest
DESCRIPTION:https://www.flitefest.com/
URL:https://www.1nvrc.com/event/flite-fest/
LOCATION:VA
CATEGORIES:Flying Events,Outdoor Fun Fly
END:VEVENT
BEGIN:VEVENT
DTSTART;TZID=America/New_York:20220622T203000
DTEND;TZID=America/New_York:20220622T213000
DTSTAMP:20260424T073901
CREATED:20230204T022851Z
LAST-MODIFIED:20230204T022851Z
UID:10000412-1655929800-1655933400@www.1nvrc.com
SUMMARY:Virtual Workshop Chat
DESCRIPTION:Come join us from 8:30pm until we get too tired to talk about airplanes\, show off our airplanes\, plan our next airplane projects\, and probably discuss some airplane history too. \nThis is the Zoom link for the meeting and the pass code is the same as the gate combination. \nGuests are welcome too – just use the Contact Us page to request a guest link to join in!
URL:https://www.1nvrc.com/event/virtual-workshop-chat/2022-06-22/
LOCATION:VA
CATEGORIES:Static Events
ATTACH;FMTTYPE=image/jpeg:https://www.1nvrc.com/wp-content/uploads/2019/12/Workshop.jpg
END:VEVENT
BEGIN:VEVENT
DTSTART;TZID=America/New_York:20220612T090000
DTEND;TZID=America/New_York:20220612T170000
DTSTAMP:20260424T073901
CREATED:20210227T035527Z
LAST-MODIFIED:20210227T035748Z
UID:10000171-1655024400-1655053200@www.1nvrc.com
SUMMARY:FPV Field Day
DESCRIPTION:In our new FPV format\, we are going to dedicate the second Sunday of each month as an FPV Field Day at Poplar Ford Field. Fixed wing line of sight RC activities are still permitted\, but need to give way for FPV fixed wing or multi-rotor activities which can include setting up race gates on the runway. \nOn these FPV Field Days\, all NVRC members wishing to fly fixed wing line of sight are welcome to use the Lorton Field – even if you do not have the normal Lorton membership tag on your badge.
URL:https://www.1nvrc.com/event/fpv-field-day/2022-06-12/
LOCATION:Poplar Ford Park\, 6714 Bull Run Post Office Road\, Centerville\, VA\, 20120\, United States
CATEGORIES:Flying Events,Multi-rotor Racing
ATTACH;FMTTYPE=image/jpeg:https://www.1nvrc.com/wp-content/uploads/2021/02/fpv-team.jpg
END:VEVENT
BEGIN:VEVENT
DTSTART;TZID=America/New_York:20220609T080000
DTEND;TZID=America/New_York:20220612T170000
DTSTAMP:20260424T073901
CREATED:20220215T145415Z
LAST-MODIFIED:20220215T145415Z
UID:10000504-1654761600-1655053200@www.1nvrc.com
SUMMARY:Military Warbirds and Classics Over Fredericksburg
DESCRIPTION:https://www.fredericksburgrc.com/farcc-events/
URL:https://www.1nvrc.com/event/military-warbirds-and-classics-over-fredericksburg/
LOCATION:Fredricksburg Area RC Club\, 6900 Jefferson Davis Highway\, Spotsylvania Courthouse\, VA\, 22551
CATEGORIES:Flying Events,Outdoor Fun Fly
END:VEVENT
BEGIN:VEVENT
DTSTART;TZID=America/New_York:20220608T203000
DTEND;TZID=America/New_York:20220608T213000
DTSTAMP:20260424T073901
CREATED:20201008T022846Z
LAST-MODIFIED:20221219T155952Z
UID:10000383-1654720200-1654723800@www.1nvrc.com
SUMMARY:Virtual Workshop Chat
DESCRIPTION:Come join us from 8:30pm until we get too tired to talk about airplanes\, show off our airplanes\, plan our next airplane projects\, and probably discuss some airplane history too. \nThis is the Zoom link for the meeting and the pass code is the same as the gate combination. \nGuests are welcome too – just use the Contact Us page to request a guest link to join in!
URL:https://www.1nvrc.com/event/virtual-workshop-chat/2022-06-08/
LOCATION:VA
CATEGORIES:Static Events
ATTACH;FMTTYPE=image/jpeg:https://www.1nvrc.com/wp-content/uploads/2019/12/Workshop.jpg
END:VEVENT
BEGIN:VEVENT
DTSTART;TZID=America/New_York:20220605T090000
DTEND;TZID=America/New_York:20220605T140000
DTSTAMP:20260424T073901
CREATED:20220215T145007Z
LAST-MODIFIED:20220215T145007Z
UID:10000503-1654419600-1654437600@www.1nvrc.com
SUMMARY:Poplar Ford Open House & Community Day
DESCRIPTION:
URL:https://www.1nvrc.com/event/poplar-ford-open-house-community-day/
LOCATION:Poplar Ford Park\, 6714 Bull Run Post Office Road\, Centerville\, VA\, 20120\, United States
END:VEVENT
BEGIN:VEVENT
DTSTART;TZID=America/New_York:20220525T203000
DTEND;TZID=America/New_York:20220525T213000
DTSTAMP:20260424T073901
CREATED:20230204T022851Z
LAST-MODIFIED:20230204T022851Z
UID:10000411-1653510600-1653514200@www.1nvrc.com
SUMMARY:Virtual Workshop Chat
DESCRIPTION:Come join us from 8:30pm until we get too tired to talk about airplanes\, show off our airplanes\, plan our next airplane projects\, and probably discuss some airplane history too. \nThis is the Zoom link for the meeting and the pass code is the same as the gate combination. \nGuests are welcome too – just use the Contact Us page to request a guest link to join in!
URL:https://www.1nvrc.com/event/virtual-workshop-chat/2022-05-25/
LOCATION:VA
CATEGORIES:Static Events
ATTACH;FMTTYPE=image/jpeg:https://www.1nvrc.com/wp-content/uploads/2019/12/Workshop.jpg
END:VEVENT
BEGIN:VEVENT
DTSTART;TZID=America/New_York:20220521T083000
DTEND;TZID=America/New_York:20220521T110000
DTSTAMP:20260424T073901
CREATED:20220215T144628Z
LAST-MODIFIED:20220519T151430Z
UID:10000502-1653121800-1653130800@www.1nvrc.com
SUMMARY:NVRC Build Contest
DESCRIPTION:Schedule: \n8:30 Setup Begins \n10:00 Balloting \n11:00 All done! \nFor more information about the long proud tradition and rules of our Display Contest\, please visit the event page here: \nDisplay Contest
URL:https://www.1nvrc.com/event/nvrc-build-contest/
LOCATION:Poplar Ford Park\, 6714 Bull Run Post Office Road\, Centerville\, VA\, 20120\, United States
END:VEVENT
BEGIN:VEVENT
DTSTART;TZID=America/New_York:20220515T083000
DTEND;TZID=America/New_York:20220515T130000
DTSTAMP:20260424T073901
CREATED:20220214T135121Z
LAST-MODIFIED:20220504T011755Z
UID:10000233-1652603400-1652619600@www.1nvrc.com
SUMMARY:NVRC Spring Fun Fly & Swap Meet
DESCRIPTION:Outdoor Fun Fly
URL:https://www.1nvrc.com/event/nvrc-spring-fun-fly-swap-meet/
LOCATION:Poplar Ford Park\, 6714 Bull Run Post Office Road\, Centerville\, VA\, 20120\, United States
CATEGORIES:Outdoor Fun Fly,Static Events
ATTACH;FMTTYPE=image/jpeg:https://www.1nvrc.com/wp-content/uploads/2021/10/1975-Claude-and-Ken-Egge-Skylark-Twin.jpg
END:VEVENT
BEGIN:VEVENT
DTSTART;TZID=America/New_York:20220514T080000
DTEND;TZID=America/New_York:20220514T120000
DTSTAMP:20260424T073901
CREATED:20220215T144001Z
LAST-MODIFIED:20220215T144001Z
UID:10000501-1652515200-1652529600@www.1nvrc.com
SUMMARY:PGRC Jet Fly-in
DESCRIPTION:https://pgrcclub.com/
URL:https://www.1nvrc.com/event/pgrc-jet-fly-in/
LOCATION:VA
CATEGORIES:Flying Events,Outdoor Fun Fly
END:VEVENT
BEGIN:VEVENT
DTSTART;TZID=America/New_York:20220514T080000
DTEND;TZID=America/New_York:20220514T120000
DTSTAMP:20260424T073901
CREATED:20220215T142809Z
LAST-MODIFIED:20220505T171302Z
UID:10000498-1652515200-1652529600@www.1nvrc.com
SUMMARY:Poplar Ford Field Day (and rolling)
DESCRIPTION:Come join in for some light fieldwork and rolling!
URL:https://www.1nvrc.com/event/poplar-ford-field-day-and-rolling/
LOCATION:Poplar Ford Park\, 6714 Bull Run Post Office Road\, Centerville\, VA\, 20120\, United States
END:VEVENT
BEGIN:VEVENT
DTSTART;TZID=America/New_York:20220511T203000
DTEND;TZID=America/New_York:20220511T213000
DTSTAMP:20260424T073901
CREATED:20201008T022846Z
LAST-MODIFIED:20221219T155952Z
UID:10000382-1652301000-1652304600@www.1nvrc.com
SUMMARY:Virtual Workshop Chat
DESCRIPTION:Come join us from 8:30pm until we get too tired to talk about airplanes\, show off our airplanes\, plan our next airplane projects\, and probably discuss some airplane history too. \nThis is the Zoom link for the meeting and the pass code is the same as the gate combination. \nGuests are welcome too – just use the Contact Us page to request a guest link to join in!
URL:https://www.1nvrc.com/event/virtual-workshop-chat/2022-05-11/
LOCATION:VA
CATEGORIES:Static Events
ATTACH;FMTTYPE=image/jpeg:https://www.1nvrc.com/wp-content/uploads/2019/12/Workshop.jpg
END:VEVENT
BEGIN:VEVENT
DTSTART;TZID=America/New_York:20220508T090000
DTEND;TZID=America/New_York:20220508T170000
DTSTAMP:20260424T073901
CREATED:20210227T035527Z
LAST-MODIFIED:20210227T035748Z
UID:10000170-1652000400-1652029200@www.1nvrc.com
SUMMARY:FPV Field Day
DESCRIPTION:In our new FPV format\, we are going to dedicate the second Sunday of each month as an FPV Field Day at Poplar Ford Field. Fixed wing line of sight RC activities are still permitted\, but need to give way for FPV fixed wing or multi-rotor activities which can include setting up race gates on the runway. \nOn these FPV Field Days\, all NVRC members wishing to fly fixed wing line of sight are welcome to use the Lorton Field – even if you do not have the normal Lorton membership tag on your badge.
URL:https://www.1nvrc.com/event/fpv-field-day/2022-05-08/
LOCATION:Poplar Ford Park\, 6714 Bull Run Post Office Road\, Centerville\, VA\, 20120\, United States
CATEGORIES:Flying Events,Multi-rotor Racing
ATTACH;FMTTYPE=image/jpeg:https://www.1nvrc.com/wp-content/uploads/2021/02/fpv-team.jpg
END:VEVENT
BEGIN:VEVENT
DTSTART;TZID=America/New_York:20220507T080000
DTEND;TZID=America/New_York:20220507T120000
DTSTAMP:20260424T073901
CREATED:20220215T143512Z
LAST-MODIFIED:20220215T143512Z
UID:10000500-1651910400-1651924800@www.1nvrc.com
SUMMARY:PGRC Open House Fly-in
DESCRIPTION:https://pgrcclub.com/
URL:https://www.1nvrc.com/event/pgrc-open-house-fly-in/
LOCATION:VA
CATEGORIES:Flying Events,Outdoor Fun Fly
END:VEVENT
BEGIN:VEVENT
DTSTART;TZID=America/New_York:20220506T080000
DTEND;TZID=America/New_York:20220514T170000
DTSTAMP:20260424T073901
CREATED:20220215T142948Z
LAST-MODIFIED:20220215T142948Z
UID:10000499-1651824000-1652547600@www.1nvrc.com
SUMMARY:Joe Nall Week
DESCRIPTION:https://tta.aero/aviation-events__trashed/joe-nall/
URL:https://www.1nvrc.com/event/joe-nall-week/
LOCATION:VA
CATEGORIES:Flying Events,Outdoor Fun Fly
END:VEVENT
BEGIN:VEVENT
DTSTART;TZID=America/New_York:20220427T203000
DTEND;TZID=America/New_York:20220427T213000
DTSTAMP:20260424T073901
CREATED:20230204T022851Z
LAST-MODIFIED:20230204T022851Z
UID:10000410-1651091400-1651095000@www.1nvrc.com
SUMMARY:Virtual Workshop Chat
DESCRIPTION:Come join us from 8:30pm until we get too tired to talk about airplanes\, show off our airplanes\, plan our next airplane projects\, and probably discuss some airplane history too. \nThis is the Zoom link for the meeting and the pass code is the same as the gate combination. \nGuests are welcome too – just use the Contact Us page to request a guest link to join in!
URL:https://www.1nvrc.com/event/virtual-workshop-chat/2022-04-27/
LOCATION:VA
CATEGORIES:Static Events
ATTACH;FMTTYPE=image/jpeg:https://www.1nvrc.com/wp-content/uploads/2019/12/Workshop.jpg
END:VEVENT
BEGIN:VEVENT
DTSTART;TZID=America/New_York:20220425T080000
DTEND;TZID=America/New_York:20220430T170000
DTSTAMP:20260424T073901
CREATED:20220215T141600Z
LAST-MODIFIED:20220215T141600Z
UID:10000497-1650873600-1651338000@www.1nvrc.com
SUMMARY:SEFF (Southeast Electric Flight Festival)
DESCRIPTION:https://seffweek.com/
URL:https://www.1nvrc.com/event/seff-southeast-electric-flight-festival/
LOCATION:VA
CATEGORIES:Flying Events,Outdoor Fun Fly
END:VEVENT
BEGIN:VEVENT
DTSTART;TZID=America/New_York:20220424T090000
DTEND;TZID=America/New_York:20220424T120000
DTSTAMP:20260424T073901
CREATED:20220215T135317Z
LAST-MODIFIED:20220321T014733Z
UID:10000496-1650790800-1650801600@www.1nvrc.com
SUMMARY:New Pilot Qualification Day
DESCRIPTION:Know how to fly well enough but still carrying that new pilot badge? Not sure how to get upgraded to the qualified pilot badge? We can fix that! \nCome join us for a few hours of focus on helping members finish their qualification process. Any two qualified member or one club instructor can sign off on a pilot’s qualification status and we’ll be focused on doing that for as many people as we can this morning. \nNote\, this is not a flight training event – our instructors won’t be focused on buddy boxing and new pilot instruction.
URL:https://www.1nvrc.com/event/new-pilot-qualification-day/
LOCATION:Poplar Ford Park\, 6714 Bull Run Post Office Road\, Centerville\, VA\, 20120\, United States
CATEGORIES:Flying Events
ATTACH;FMTTYPE=image/jpeg:https://www.1nvrc.com/wp-content/uploads/2017/12/Toys4Tots.jpg
END:VEVENT
BEGIN:VEVENT
DTSTART;TZID=America/New_York:20220423T080000
DTEND;TZID=America/New_York:20220423T120000
DTSTAMP:20260424T073901
CREATED:20220215T134427Z
LAST-MODIFIED:20220215T134427Z
UID:10000488-1650700800-1650715200@www.1nvrc.com
SUMMARY:Lorton Field Day & Rolling
DESCRIPTION:Come join us for some light field maintenance and rolling fun!
URL:https://www.1nvrc.com/event/lorton-field-day-rolling/
LOCATION:Lorton/Burnett Field\, 9800 Furnace Road\, Lorton\, VA\, 22079\, United States
END:VEVENT
BEGIN:VEVENT
DTSTART;TZID=America/New_York:20220421T193000
DTEND;TZID=America/New_York:20220421T203000
DTSTAMP:20260424T073901
CREATED:20210216T210310Z
LAST-MODIFIED:20211223T181907Z
UID:10000454-1650569400-1650573000@www.1nvrc.com
SUMMARY:VIRTUAL MONTHLY CLUB MEETING
DESCRIPTION:All meetings are open to the public and we encourage potential new members to join us. You’ll have to bring your own pizza and drinks as we are doing virtual meetings in this time of distancing. \nThis is the Zoom link for the meeting (https://us02web.zoom.us/j/4690492803) and the meeting pass code is the same as the gate combination. \nGuests are welcome too – just use the Contact Us page to request a guest link to join in!
URL:https://www.1nvrc.com/event/virtual-monthly-club-meeting-2/2022-04-21/
LOCATION:VA
END:VEVENT
END:VCALENDAR