BEGIN:VCALENDAR
VERSION:2.0
PRODID:-//Northern Virginia Radio Control - NVRC - ECPv6.15.20//NONSGML v1.0//EN
CALSCALE:GREGORIAN
METHOD:PUBLISH
X-WR-CALNAME:Northern Virginia Radio Control - NVRC
X-ORIGINAL-URL:https://www.1nvrc.com
X-WR-CALDESC:Events for Northern Virginia Radio Control - NVRC
REFRESH-INTERVAL;VALUE=DURATION:PT1H
X-Robots-Tag:noindex
X-PUBLISHED-TTL:PT1H
BEGIN:VTIMEZONE
TZID:America/New_York
BEGIN:DAYLIGHT
TZOFFSETFROM:-0500
TZOFFSETTO:-0400
TZNAME:EDT
DTSTART:20220313T070000
END:DAYLIGHT
BEGIN:STANDARD
TZOFFSETFROM:-0400
TZOFFSETTO:-0500
TZNAME:EST
DTSTART:20221106T060000
END:STANDARD
BEGIN:DAYLIGHT
TZOFFSETFROM:-0500
TZOFFSETTO:-0400
TZNAME:EDT
DTSTART:20230312T070000
END:DAYLIGHT
BEGIN:STANDARD
TZOFFSETFROM:-0400
TZOFFSETTO:-0500
TZNAME:EST
DTSTART:20231105T060000
END:STANDARD
BEGIN:DAYLIGHT
TZOFFSETFROM:-0500
TZOFFSETTO:-0400
TZNAME:EDT
DTSTART:20240310T070000
END:DAYLIGHT
BEGIN:STANDARD
TZOFFSETFROM:-0400
TZOFFSETTO:-0500
TZNAME:EST
DTSTART:20241103T060000
END:STANDARD
END:VTIMEZONE
BEGIN:VEVENT
DTSTART;VALUE=DATE:20230908
DTEND;VALUE=DATE:20230911
DTSTAMP:20260425T145255
CREATED:20230614T021705Z
LAST-MODIFIED:20230614T021745Z
UID:10000515-1694131200-1694390399@www.1nvrc.com
SUMMARY:Hanover RC Club Fall Fun Fly
DESCRIPTION:
URL:https://www.1nvrc.com/event/hanover-rc-club/
LOCATION:MD
END:VEVENT
BEGIN:VEVENT
DTSTART;TZID=America/New_York:20230910T090000
DTEND;TZID=America/New_York:20230910T160000
DTSTAMP:20260425T145255
CREATED:20230121T041707Z
LAST-MODIFIED:20230121T041707Z
UID:10000358-1694336400-1694361600@www.1nvrc.com
SUMMARY:Multi-GP Official Qualifier Race
DESCRIPTION:On the 2nd Sunday of each month\, NVRC will be hosting Multi-GP Drone Qualifier Races from 9:00 am to 4:00pm. The gate setups for these races takes a little less than half of the field\, and fixed wing pilots who are able to work around that ground obstacle are welcome to come fly between race heats. \nOfficial Qualifier races on June 11th and July 9th \n  \nFPV Racing at NVRC
URL:https://www.1nvrc.com/event/multi-gp-official-qualifier-race/2023-09-10/
LOCATION:Poplar Ford Park\, 6714 Bull Run Post Office Road\, Centerville\, VA\, 20120\, United States
CATEGORIES:Flying Events,Multi-rotor Racing
ATTACH;FMTTYPE=image/jpeg:https://www.1nvrc.com/wp-content/uploads/2016/09/Multi_NVRC_Icon.jpg
END:VEVENT
BEGIN:VEVENT
DTSTART;TZID=America/New_York:20230910T090000
DTEND;TZID=America/New_York:20230910T170000
DTSTAMP:20260425T145255
CREATED:20210227T035527Z
LAST-MODIFIED:20210227T035748Z
UID:10000186-1694336400-1694365200@www.1nvrc.com
SUMMARY:FPV Field Day
DESCRIPTION:In our new FPV format\, we are going to dedicate the second Sunday of each month as an FPV Field Day at Poplar Ford Field. Fixed wing line of sight RC activities are still permitted\, but need to give way for FPV fixed wing or multi-rotor activities which can include setting up race gates on the runway. \nOn these FPV Field Days\, all NVRC members wishing to fly fixed wing line of sight are welcome to use the Lorton Field – even if you do not have the normal Lorton membership tag on your badge.
URL:https://www.1nvrc.com/event/fpv-field-day/2023-09-10/
LOCATION:Poplar Ford Park\, 6714 Bull Run Post Office Road\, Centerville\, VA\, 20120\, United States
CATEGORIES:Flying Events,Multi-rotor Racing
ATTACH;FMTTYPE=image/jpeg:https://www.1nvrc.com/wp-content/uploads/2021/02/fpv-team.jpg
END:VEVENT
BEGIN:VEVENT
DTSTART;TZID=America/New_York:20230911T080000
DTEND;TZID=America/New_York:20230917T170000
DTSTAMP:20260425T145255
CREATED:20230109T181047Z
LAST-MODIFIED:20230109T181047Z
UID:10000244-1694419200-1694970000@www.1nvrc.com
SUMMARY:Northeast Electric Aircraft Technology (NEAT)
DESCRIPTION:Northeast Electric Aircraft Technology (NEAT) at the Peaceful Valley campground in Downsville\, NY Sept 11-17\, 2023  neatfair.org
URL:https://www.1nvrc.com/event/northeast-electric-aircraft-technology-neat/
LOCATION:MD
END:VEVENT
BEGIN:VEVENT
DTSTART;TZID=America/New_York:20230921T193000
DTEND;TZID=America/New_York:20230921T210000
DTSTAMP:20260425T145255
CREATED:20210216T210310Z
LAST-MODIFIED:20221216T184543Z
UID:10000152-1695324600-1695330000@www.1nvrc.com
SUMMARY:MONTHLY CLUB MEETING WINTER and FALL
DESCRIPTION:We are back to in-person meetings at Fairfax Fire Station #3 for the fall/winter (please wear a mask if you are at risk for COVID\, and please stay home if you feel sick in any way). \nBe safe! \nClub Meetings
URL:https://www.1nvrc.com/event/virtual-monthly-club-meeting-2-2022-04-21-2022-09-15/2023-09-21/
LOCATION:MD
CATEGORIES:Static Events
ATTACH;FMTTYPE=image/jpeg:https://www.1nvrc.com/wp-content/uploads/2020/11/NVRC-Logo-521x498-1.jpg
END:VEVENT
BEGIN:VEVENT
DTSTART;VALUE=DATE:20230923
DTEND;VALUE=DATE:20230924
DTSTAMP:20260425T145255
CREATED:20230614T022955Z
LAST-MODIFIED:20230614T022955Z
UID:10000517-1695427200-1695513599@www.1nvrc.com
SUMMARY:Wings and Wheels in the Roanoke Valley
DESCRIPTION:
URL:https://www.1nvrc.com/event/wings-and-wheels-in-the-roanoke-valley/
LOCATION:MD
END:VEVENT
END:VCALENDAR