BEGIN:VCALENDAR
VERSION:2.0
PRODID:-//Northern Virginia Radio Control - NVRC - ECPv6.15.20//NONSGML v1.0//EN
CALSCALE:GREGORIAN
METHOD:PUBLISH
X-WR-CALNAME:Northern Virginia Radio Control - NVRC
X-ORIGINAL-URL:https://www.1nvrc.com
X-WR-CALDESC:Events for Northern Virginia Radio Control - NVRC
REFRESH-INTERVAL;VALUE=DURATION:PT1H
X-Robots-Tag:noindex
X-PUBLISHED-TTL:PT1H
BEGIN:VTIMEZONE
TZID:America/New_York
BEGIN:DAYLIGHT
TZOFFSETFROM:-0500
TZOFFSETTO:-0400
TZNAME:EDT
DTSTART:20220313T070000
END:DAYLIGHT
BEGIN:STANDARD
TZOFFSETFROM:-0400
TZOFFSETTO:-0500
TZNAME:EST
DTSTART:20221106T060000
END:STANDARD
BEGIN:DAYLIGHT
TZOFFSETFROM:-0500
TZOFFSETTO:-0400
TZNAME:EDT
DTSTART:20230312T070000
END:DAYLIGHT
BEGIN:STANDARD
TZOFFSETFROM:-0400
TZOFFSETTO:-0500
TZNAME:EST
DTSTART:20231105T060000
END:STANDARD
BEGIN:DAYLIGHT
TZOFFSETFROM:-0500
TZOFFSETTO:-0400
TZNAME:EDT
DTSTART:20240310T070000
END:DAYLIGHT
BEGIN:STANDARD
TZOFFSETFROM:-0400
TZOFFSETTO:-0500
TZNAME:EST
DTSTART:20241103T060000
END:STANDARD
END:VTIMEZONE
BEGIN:VEVENT
DTSTART;TZID=America/New_York:20231210T090000
DTEND;TZID=America/New_York:20231210T160000
DTSTAMP:20260425T094315
CREATED:20230121T041707Z
LAST-MODIFIED:20230121T041707Z
UID:10000361-1702198800-1702224000@www.1nvrc.com
SUMMARY:Multi-GP Official Qualifier Race
DESCRIPTION:On the 2nd Sunday of each month\, NVRC will be hosting Multi-GP Drone Qualifier Races from 9:00 am to 4:00pm. The gate setups for these races takes a little less than half of the field\, and fixed wing pilots who are able to work around that ground obstacle are welcome to come fly between race heats. \nOfficial Qualifier races on June 11th and July 9th \n  \nFPV Racing at NVRC
URL:https://www.1nvrc.com/event/multi-gp-official-qualifier-race/2023-12-10/
LOCATION:Poplar Ford Park\, 6714 Bull Run Post Office Road\, Centerville\, VA\, 20120\, United States
CATEGORIES:Flying Events,Multi-rotor Racing
ATTACH;FMTTYPE=image/jpeg:https://www.1nvrc.com/wp-content/uploads/2016/09/Multi_NVRC_Icon.jpg
END:VEVENT
BEGIN:VEVENT
DTSTART;TZID=America/New_York:20231210T090000
DTEND;TZID=America/New_York:20231210T170000
DTSTAMP:20260425T094315
CREATED:20210227T035527Z
LAST-MODIFIED:20210227T035748Z
UID:10000189-1702198800-1702227600@www.1nvrc.com
SUMMARY:FPV Field Day
DESCRIPTION:In our new FPV format\, we are going to dedicate the second Sunday of each month as an FPV Field Day at Poplar Ford Field. Fixed wing line of sight RC activities are still permitted\, but need to give way for FPV fixed wing or multi-rotor activities which can include setting up race gates on the runway. \nOn these FPV Field Days\, all NVRC members wishing to fly fixed wing line of sight are welcome to use the Lorton Field – even if you do not have the normal Lorton membership tag on your badge.
URL:https://www.1nvrc.com/event/fpv-field-day/2023-12-10/
LOCATION:Poplar Ford Park\, 6714 Bull Run Post Office Road\, Centerville\, VA\, 20120\, United States
CATEGORIES:Flying Events,Multi-rotor Racing
ATTACH;FMTTYPE=image/jpeg:https://www.1nvrc.com/wp-content/uploads/2021/02/fpv-team.jpg
END:VEVENT
BEGIN:VEVENT
DTSTART;TZID=America/New_York:20231210T160000
DTEND;TZID=America/New_York:20231210T200000
DTSTAMP:20260425T094315
CREATED:20230121T044227Z
LAST-MODIFIED:20231113T150515Z
UID:10000287-1702224000-1702238400@www.1nvrc.com
SUMMARY:Annual Holiday Banquet
DESCRIPTION:The NVRC Holiday Banquet will be held at the clubhouse in our president’s neighborhood from 5pm to 8pm. Barbeque will be served\, gifts will be exchanged\, laughter will occur\, and all members\, spouses\, children and other guests are welcome! \n– Remember to bring a wrapped Radio Control hobby related (or adult beverage) gift worth a minimum of $20 for the New England Gift Exchange (aka Yankee Swap <== click for the rules)\n– Please bring an appetizer or desert to share\n– Please bring $20 per adult to help with the BBQ costs (kids eat free unless they are bottomless teenage hunger pits)\n– Prepayment via PayPal is appreciated: https://www.paypal.me/nvrcclub (If you pay now with PayPal\, please add a note that this is for the 2023 Holiday Party). \nSo we can get the BBQ order sized appropriately RSVP to Paul Lukas ASAP at paul.lukas@live.com. Questions? Call him at 703-2683393 \nWe will need some volunteers for set-up and break-down. We have a Sign-Up Genius for the event to gather volunteers to help and maybe track who is attending to help with buying drinks and ordering food. Here is the link to the sign-up:  \nIf you haven’t been to one of our annual holiday parties before\, it’s a whole lot of fun and we really want you to come by! You don’t even have to be a member to join in – just be friendly to one! \nSee you there!
URL:https://www.1nvrc.com/event/annual-holiday-banquet-3/
LOCATION:Truo Clubhouse\, 4146 Elizabeth Lane\, Annandale\, 22003
CATEGORIES:Static Events
ATTACH;FMTTYPE=image/png:https://www.1nvrc.com/wp-content/uploads/2019/02/Santa_Airplane.png
END:VEVENT
END:VCALENDAR