BEGIN:VCALENDAR
VERSION:2.0
PRODID:-//Northern Virginia Radio Control - NVRC - ECPv6.15.20//NONSGML v1.0//EN
CALSCALE:GREGORIAN
METHOD:PUBLISH
X-ORIGINAL-URL:https://www.1nvrc.com
X-WR-CALDESC:Events for Northern Virginia Radio Control - NVRC
REFRESH-INTERVAL;VALUE=DURATION:PT1H
X-Robots-Tag:noindex
X-PUBLISHED-TTL:PT1H
BEGIN:VTIMEZONE
TZID:America/New_York
BEGIN:DAYLIGHT
TZOFFSETFROM:-0500
TZOFFSETTO:-0400
TZNAME:EDT
DTSTART:20230312T070000
END:DAYLIGHT
BEGIN:STANDARD
TZOFFSETFROM:-0400
TZOFFSETTO:-0500
TZNAME:EST
DTSTART:20231105T060000
END:STANDARD
BEGIN:DAYLIGHT
TZOFFSETFROM:-0500
TZOFFSETTO:-0400
TZNAME:EDT
DTSTART:20240310T070000
END:DAYLIGHT
BEGIN:STANDARD
TZOFFSETFROM:-0400
TZOFFSETTO:-0500
TZNAME:EST
DTSTART:20241103T060000
END:STANDARD
BEGIN:DAYLIGHT
TZOFFSETFROM:-0500
TZOFFSETTO:-0400
TZNAME:EDT
DTSTART:20250309T070000
END:DAYLIGHT
BEGIN:STANDARD
TZOFFSETFROM:-0400
TZOFFSETTO:-0500
TZNAME:EST
DTSTART:20251102T060000
END:STANDARD
END:VTIMEZONE
BEGIN:VEVENT
DTSTART;TZID=America/New_York:20240110T203000
DTEND;TZID=America/New_York:20240110T213000
DTSTAMP:20260425T074600
CREATED:20201008T022846Z
LAST-MODIFIED:20221219T155952Z
UID:10000390-1704918600-1704922200@www.1nvrc.com
SUMMARY:Virtual Workshop Chat
DESCRIPTION:Come join us from 8:30pm until we get too tired to talk about airplanes\, show off our airplanes\, plan our next airplane projects\, and probably discuss some airplane history too. \nThis is the Zoom link for the meeting and the pass code is the same as the gate combination. \nGuests are welcome too – just use the Contact Us page to request a guest link to join in!
URL:https://www.1nvrc.com/event/virtual-workshop-chat/2024-01-10/
LOCATION:MD
CATEGORIES:Static Events
ATTACH;FMTTYPE=image/jpeg:https://www.1nvrc.com/wp-content/uploads/2019/12/Workshop.jpg
END:VEVENT
BEGIN:VEVENT
DTSTART;TZID=America/New_York:20240114T090000
DTEND;TZID=America/New_York:20240114T170000
DTSTAMP:20260425T074600
CREATED:20210227T035527Z
LAST-MODIFIED:20210227T035748Z
UID:10000190-1705222800-1705251600@www.1nvrc.com
SUMMARY:FPV Field Day
DESCRIPTION:In our new FPV format\, we are going to dedicate the second Sunday of each month as an FPV Field Day at Poplar Ford Field. Fixed wing line of sight RC activities are still permitted\, but need to give way for FPV fixed wing or multi-rotor activities which can include setting up race gates on the runway. \nOn these FPV Field Days\, all NVRC members wishing to fly fixed wing line of sight are welcome to use the Lorton Field – even if you do not have the normal Lorton membership tag on your badge.
URL:https://www.1nvrc.com/event/fpv-field-day/2024-01-14/
LOCATION:Poplar Ford Park\, 6714 Bull Run Post Office Road\, Centerville\, VA\, 20120\, United States
CATEGORIES:Flying Events,Multi-rotor Racing
ATTACH;FMTTYPE=image/jpeg:https://www.1nvrc.com/wp-content/uploads/2021/02/fpv-team.jpg
END:VEVENT
BEGIN:VEVENT
DTSTART;TZID=America/New_York:20240118T193000
DTEND;TZID=America/New_York:20240118T210000
DTSTAMP:20260425T074600
CREATED:20240102T163237Z
LAST-MODIFIED:20240102T163549Z
UID:10000154-1705606200-1705611600@www.1nvrc.com
SUMMARY:MONTHLY CLUB MEETING WINTER and FALL
DESCRIPTION:We are back to in-person meetings at Fairfax Fire Station #3 for the fall/winter (please wear a mask if you are at risk for COVID\, and please stay home if you feel sick in any way). \nBe safe! \nClub Meetings
URL:https://www.1nvrc.com/event/virtual-monthly-club-meeting-2-2022-04-21-2022-09-15-2/2024-01-18/
LOCATION:MD
CATEGORIES:Static Events
ATTACH;FMTTYPE=image/jpeg:https://www.1nvrc.com/wp-content/uploads/2020/11/NVRC-Logo-521x498-1.jpg
END:VEVENT
END:VCALENDAR