BEGIN:VCALENDAR
VERSION:2.0
PRODID:-//Northern Virginia Radio Control - NVRC - ECPv6.15.20//NONSGML v1.0//EN
CALSCALE:GREGORIAN
METHOD:PUBLISH
X-ORIGINAL-URL:https://www.1nvrc.com
X-WR-CALDESC:Events for Northern Virginia Radio Control - NVRC
REFRESH-INTERVAL;VALUE=DURATION:PT1H
X-Robots-Tag:noindex
X-PUBLISHED-TTL:PT1H
BEGIN:VTIMEZONE
TZID:America/New_York
BEGIN:DAYLIGHT
TZOFFSETFROM:-0500
TZOFFSETTO:-0400
TZNAME:EDT
DTSTART:20250309T070000
END:DAYLIGHT
BEGIN:STANDARD
TZOFFSETFROM:-0400
TZOFFSETTO:-0500
TZNAME:EST
DTSTART:20251102T060000
END:STANDARD
BEGIN:DAYLIGHT
TZOFFSETFROM:-0500
TZOFFSETTO:-0400
TZNAME:EDT
DTSTART:20260308T070000
END:DAYLIGHT
BEGIN:STANDARD
TZOFFSETFROM:-0400
TZOFFSETTO:-0500
TZNAME:EST
DTSTART:20261101T060000
END:STANDARD
BEGIN:DAYLIGHT
TZOFFSETFROM:-0500
TZOFFSETTO:-0400
TZNAME:EDT
DTSTART:20270314T070000
END:DAYLIGHT
BEGIN:STANDARD
TZOFFSETFROM:-0400
TZOFFSETTO:-0500
TZNAME:EST
DTSTART:20271107T060000
END:STANDARD
END:VTIMEZONE
BEGIN:VEVENT
DTSTART;TZID=America/New_York:20260502T090000
DTEND;TZID=America/New_York:20260502T120000
DTSTAMP:20260423T131642
CREATED:20260222T020607Z
LAST-MODIFIED:20260222T020607Z
UID:10000935-1777712400-1777723200@www.1nvrc.com
SUMMARY:Spring New Pilot Qualification Day
DESCRIPTION:CD- Tony Claridge
URL:https://www.1nvrc.com/event/spring-new-pilot-qualification-day-2/
LOCATION:Poplar Ford Park\, 6714 Bull Run Post Office Road\, Centerville\, VA\, 20120\, United States
CATEGORIES:Flying Events
END:VEVENT
BEGIN:VEVENT
DTSTART;TZID=America/New_York:20260516T080000
DTEND;TZID=America/New_York:20260516T170000
DTSTAMP:20260423T131642
CREATED:20260222T020732Z
LAST-MODIFIED:20260222T020732Z
UID:10000936-1778918400-1778950800@www.1nvrc.com
SUMMARY:Spring Fun Fly & Silent Auction Swap Meet
DESCRIPTION:CD – Jorge Jimenez / Jeff Cashman
URL:https://www.1nvrc.com/event/spring-fun-fly-silent-auction-swap-meet-3/
LOCATION:Poplar Ford Park\, 6714 Bull Run Post Office Road\, Centerville\, VA\, 20120\, United States
CATEGORIES:Flying Events,Outdoor Fun Fly
END:VEVENT
BEGIN:VEVENT
DTSTART;TZID=America/New_York:20260517T090000
DTEND;TZID=America/New_York:20260517T170000
DTSTAMP:20260423T131642
CREATED:20260322T170854Z
LAST-MODIFIED:20260322T170854Z
UID:10000955-1779008400-1779037200@www.1nvrc.com
SUMMARY:FPV Field day
DESCRIPTION:Poplar Ford Park 6714 Bull Run Post Office Road\, Centerville\, VA\, United States
URL:https://www.1nvrc.com/event/fpv-field-day-3/
LOCATION:Poplar Ford Park\, 6714 Bull Run Post Office Road\, Centerville\, VA\, 20120\, United States
END:VEVENT
BEGIN:VEVENT
DTSTART;TZID=America/New_York:20260521T193000
DTEND;TZID=America/New_York:20260521T210000
DTSTAMP:20260423T131642
CREATED:20260222T011002Z
LAST-MODIFIED:20260222T011339Z
UID:10000912-1779391800-1779397200@www.1nvrc.com
SUMMARY:Night Fly Monthly meeting (Summer)
DESCRIPTION:Night fly and monthly meeting at Poplar Ford park\nBe safe! \nClub Meetings
URL:https://www.1nvrc.com/event/night-fly-monthly-meeting-summer-2/2026-05-21/
LOCATION:Poplar Ford Park\, 6714 Bull Run Post Office Road\, Centerville\, VA\, 20120\, United States
END:VEVENT
BEGIN:VEVENT
DTSTART;TZID=America/New_York:20260523T080000
DTEND;TZID=America/New_York:20260523T160000
DTSTAMP:20260423T131642
CREATED:20260415T151310Z
LAST-MODIFIED:20260415T151310Z
UID:10000956-1779523200-1779552000@www.1nvrc.com
SUMMARY:Free State Aeromodelers - EDF Jet Jam
DESCRIPTION:WWW.FlyFreeState.com
URL:https://www.1nvrc.com/event/free-state-aeromodelers-edf-jet-jam/
LOCATION:Laurel\, MD\, MD\, United States
CATEGORIES:Flying Events,Outdoor Fun Fly
END:VEVENT
END:VCALENDAR