BEGIN:VCALENDAR
VERSION:2.0
PRODID:-//Northern Virginia Radio Control - NVRC - ECPv6.15.20//NONSGML v1.0//EN
CALSCALE:GREGORIAN
METHOD:PUBLISH
X-WR-CALNAME:Northern Virginia Radio Control - NVRC
X-ORIGINAL-URL:https://www.1nvrc.com
X-WR-CALDESC:Events for Northern Virginia Radio Control - NVRC
REFRESH-INTERVAL;VALUE=DURATION:PT1H
X-Robots-Tag:noindex
X-PUBLISHED-TTL:PT1H
BEGIN:VTIMEZONE
TZID:America/New_York
BEGIN:DAYLIGHT
TZOFFSETFROM:-0500
TZOFFSETTO:-0400
TZNAME:EDT
DTSTART:20250309T070000
END:DAYLIGHT
BEGIN:STANDARD
TZOFFSETFROM:-0400
TZOFFSETTO:-0500
TZNAME:EST
DTSTART:20251102T060000
END:STANDARD
BEGIN:DAYLIGHT
TZOFFSETFROM:-0500
TZOFFSETTO:-0400
TZNAME:EDT
DTSTART:20260308T070000
END:DAYLIGHT
BEGIN:STANDARD
TZOFFSETFROM:-0400
TZOFFSETTO:-0500
TZNAME:EST
DTSTART:20261101T060000
END:STANDARD
BEGIN:DAYLIGHT
TZOFFSETFROM:-0500
TZOFFSETTO:-0400
TZNAME:EDT
DTSTART:20270314T070000
END:DAYLIGHT
BEGIN:STANDARD
TZOFFSETFROM:-0400
TZOFFSETTO:-0500
TZNAME:EST
DTSTART:20271107T060000
END:STANDARD
END:VTIMEZONE
BEGIN:VEVENT
DTSTART;TZID=America/New_York:20260809T090000
DTEND;TZID=America/New_York:20260809T170000
DTSTAMP:20260423T165616
CREATED:20260321T232343Z
LAST-MODIFIED:20260321T232343Z
UID:10000591-1786266000-1786294800@www.1nvrc.com
SUMMARY:FPV Field Day
DESCRIPTION:In our new FPV format\, we are going to dedicate the second Sunday of each month as an FPV Field Day at Poplar Ford Field. Fixed wing line of sight RC activities are still permitted\, but need to give way for FPV fixed wing or multi-rotor activities which can include setting up race gates on the runway. \nOn these FPV Field Days\, all NVRC members wishing to fly fixed wing line of sight are welcome to use the Lorton Field – even if you do not have the normal Lorton membership tag on your badge.
URL:https://www.1nvrc.com/event/fpv-field-day-2-2-2/2026-08-09/
LOCATION:Poplar Ford Park\, 6714 Bull Run Post Office Road\, Centerville\, VA\, 20120\, United States
CATEGORIES:Flying Events,Multi-rotor Racing
ATTACH;FMTTYPE=image/jpeg:https://www.1nvrc.com/wp-content/uploads/2018/01/FCPA-DronePark.jpg
END:VEVENT
BEGIN:VEVENT
DTSTART;TZID=America/New_York:20260815T090000
DTEND;TZID=America/New_York:20260815T120000
DTSTAMP:20260423T165616
CREATED:20260222T021536Z
LAST-MODIFIED:20260222T021536Z
UID:10000939-1786784400-1786795200@www.1nvrc.com
SUMMARY:Biplane Fun Fly
DESCRIPTION:CD – Bob Burrnett
URL:https://www.1nvrc.com/event/biplane-fun-fly-6/
LOCATION:Lorton/Burnett Field\, 9800 Furnace Road\, Lorton\, VA\, 22079\, United States
CATEGORIES:Flying Events,Outdoor Fun Fly
END:VEVENT
BEGIN:VEVENT
DTSTART;TZID=America/New_York:20260820T193000
DTEND;TZID=America/New_York:20260820T210000
DTSTAMP:20260423T165616
CREATED:20260222T011002Z
LAST-MODIFIED:20260222T011339Z
UID:10000915-1787254200-1787259600@www.1nvrc.com
SUMMARY:Night Fly Monthly meeting (Summer)
DESCRIPTION:Night fly and monthly meeting at Poplar Ford park\nBe safe! \nClub Meetings
URL:https://www.1nvrc.com/event/night-fly-monthly-meeting-summer-2/2026-08-20/
LOCATION:Poplar Ford Park\, 6714 Bull Run Post Office Road\, Centerville\, VA\, 20120\, United States
END:VEVENT
END:VCALENDAR