BEGIN:VCALENDAR
VERSION:2.0
PRODID:-//Northern Virginia Radio Control - NVRC - ECPv6.15.20//NONSGML v1.0//EN
CALSCALE:GREGORIAN
METHOD:PUBLISH
X-ORIGINAL-URL:https://www.1nvrc.com
X-WR-CALDESC:Events for Northern Virginia Radio Control - NVRC
REFRESH-INTERVAL;VALUE=DURATION:PT1H
X-Robots-Tag:noindex
X-PUBLISHED-TTL:PT1H
BEGIN:VTIMEZONE
TZID:America/New_York
BEGIN:DAYLIGHT
TZOFFSETFROM:-0500
TZOFFSETTO:-0400
TZNAME:EDT
DTSTART:20250309T070000
END:DAYLIGHT
BEGIN:STANDARD
TZOFFSETFROM:-0400
TZOFFSETTO:-0500
TZNAME:EST
DTSTART:20251102T060000
END:STANDARD
BEGIN:DAYLIGHT
TZOFFSETFROM:-0500
TZOFFSETTO:-0400
TZNAME:EDT
DTSTART:20260308T070000
END:DAYLIGHT
BEGIN:STANDARD
TZOFFSETFROM:-0400
TZOFFSETTO:-0500
TZNAME:EST
DTSTART:20261101T060000
END:STANDARD
BEGIN:DAYLIGHT
TZOFFSETFROM:-0500
TZOFFSETTO:-0400
TZNAME:EDT
DTSTART:20270314T070000
END:DAYLIGHT
BEGIN:STANDARD
TZOFFSETFROM:-0400
TZOFFSETTO:-0500
TZNAME:EST
DTSTART:20271107T060000
END:STANDARD
END:VTIMEZONE
BEGIN:VEVENT
DTSTART;TZID=America/New_York:20261010T090000
DTEND;TZID=America/New_York:20261010T120000
DTSTAMP:20260423T200128
CREATED:20260222T021834Z
LAST-MODIFIED:20260318T150951Z
UID:10000941-1791622800-1791633600@www.1nvrc.com
SUMMARY:Lorton Glider Day
DESCRIPTION:CD – Robert Kaplan
URL:https://www.1nvrc.com/event/lorton-glider-day-5/
LOCATION:Lorton/Burnett Field\, 9800 Furnace Road\, Lorton\, VA\, 22079\, United States
END:VEVENT
BEGIN:VEVENT
DTSTART;TZID=America/New_York:20261011T090000
DTEND;TZID=America/New_York:20261011T170000
DTSTAMP:20260423T200128
CREATED:20260321T232343Z
LAST-MODIFIED:20260321T232343Z
UID:10000593-1791709200-1791738000@www.1nvrc.com
SUMMARY:FPV Field Day
DESCRIPTION:In our new FPV format\, we are going to dedicate the second Sunday of each month as an FPV Field Day at Poplar Ford Field. Fixed wing line of sight RC activities are still permitted\, but need to give way for FPV fixed wing or multi-rotor activities which can include setting up race gates on the runway. \nOn these FPV Field Days\, all NVRC members wishing to fly fixed wing line of sight are welcome to use the Lorton Field – even if you do not have the normal Lorton membership tag on your badge.
URL:https://www.1nvrc.com/event/fpv-field-day-2-2-2/2026-10-11/
LOCATION:Poplar Ford Park\, 6714 Bull Run Post Office Road\, Centerville\, VA\, 20120\, United States
CATEGORIES:Flying Events,Multi-rotor Racing
ATTACH;FMTTYPE=image/jpeg:https://www.1nvrc.com/wp-content/uploads/2018/01/FCPA-DronePark.jpg
END:VEVENT
BEGIN:VEVENT
DTSTART;TZID=America/New_York:20261015T193000
DTEND;TZID=America/New_York:20261015T210000
DTSTAMP:20260423T200128
CREATED:20260222T005818Z
LAST-MODIFIED:20260222T011702Z
UID:10000921-1792092600-1792098000@www.1nvrc.com
SUMMARY:MONTHLY CLUB MEETING
DESCRIPTION:We are back to in-person meetings at Fairfax Fire Station #3 for 2025 (please wear a mask if you are at risk for COVID\, and please stay home if you feel sick in any way). \nBe safe! \nClub Meetings
URL:https://www.1nvrc.com/event/monthly-club-meetings-2/2026-10-15/
LOCATION:City of Fairfax Fire Station 3\, 4081 University Drive\, Fairfax\, VA\, 22030\, United States
END:VEVENT
BEGIN:VEVENT
DTSTART;TZID=America/New_York:20261017T080000
DTEND;TZID=America/New_York:20261017T130000
DTSTAMP:20260423T200128
CREATED:20260222T021951Z
LAST-MODIFIED:20260222T021951Z
UID:10000942-1792224000-1792242000@www.1nvrc.com
SUMMARY:Fall Chicken Fun Fly & Silent Auction Swap Meet
DESCRIPTION:CD- Ken Bassett and Chris Bunker
URL:https://www.1nvrc.com/event/fall-chicken-fun-fly-silent-auction-swap-meet-2/
LOCATION:Poplar Ford Park\, 6714 Bull Run Post Office Road\, Centerville\, VA\, 20120\, United States
CATEGORIES:Flying Events,Outdoor Fun Fly
END:VEVENT
END:VCALENDAR