BEGIN:VCALENDAR
VERSION:2.0
PRODID:-//Northern Virginia Radio Control - NVRC - ECPv6.15.20//NONSGML v1.0//EN
CALSCALE:GREGORIAN
METHOD:PUBLISH
X-WR-CALNAME:Northern Virginia Radio Control - NVRC
X-ORIGINAL-URL:https://www.1nvrc.com
X-WR-CALDESC:Events for Northern Virginia Radio Control - NVRC
REFRESH-INTERVAL;VALUE=DURATION:PT1H
X-Robots-Tag:noindex
X-PUBLISHED-TTL:PT1H
BEGIN:VTIMEZONE
TZID:America/New_York
BEGIN:DAYLIGHT
TZOFFSETFROM:-0500
TZOFFSETTO:-0400
TZNAME:EDT
DTSTART:20250309T070000
END:DAYLIGHT
BEGIN:STANDARD
TZOFFSETFROM:-0400
TZOFFSETTO:-0500
TZNAME:EST
DTSTART:20251102T060000
END:STANDARD
BEGIN:DAYLIGHT
TZOFFSETFROM:-0500
TZOFFSETTO:-0400
TZNAME:EDT
DTSTART:20260308T070000
END:DAYLIGHT
BEGIN:STANDARD
TZOFFSETFROM:-0400
TZOFFSETTO:-0500
TZNAME:EST
DTSTART:20261101T060000
END:STANDARD
BEGIN:DAYLIGHT
TZOFFSETFROM:-0500
TZOFFSETTO:-0400
TZNAME:EDT
DTSTART:20270314T070000
END:DAYLIGHT
BEGIN:STANDARD
TZOFFSETFROM:-0400
TZOFFSETTO:-0500
TZNAME:EST
DTSTART:20271107T060000
END:STANDARD
END:VTIMEZONE
BEGIN:VEVENT
DTSTART;TZID=America/New_York:20260521T193000
DTEND;TZID=America/New_York:20260521T210000
DTSTAMP:20260423T145605
CREATED:20260222T011002Z
LAST-MODIFIED:20260222T011339Z
UID:10000912-1779391800-1779397200@www.1nvrc.com
SUMMARY:Night Fly Monthly meeting (Summer)
DESCRIPTION:Night fly and monthly meeting at Poplar Ford park\nBe safe! \nClub Meetings
URL:https://www.1nvrc.com/event/night-fly-monthly-meeting-summer-2/2026-05-21/
LOCATION:Poplar Ford Park\, 6714 Bull Run Post Office Road\, Centerville\, VA\, 20120\, United States
END:VEVENT
BEGIN:VEVENT
DTSTART;TZID=America/New_York:20260618T193000
DTEND;TZID=America/New_York:20260618T210000
DTSTAMP:20260423T145605
CREATED:20260222T011002Z
LAST-MODIFIED:20260222T011339Z
UID:10000913-1781811000-1781816400@www.1nvrc.com
SUMMARY:Night Fly Monthly meeting (Summer)
DESCRIPTION:Night fly and monthly meeting at Poplar Ford park\nBe safe! \nClub Meetings
URL:https://www.1nvrc.com/event/night-fly-monthly-meeting-summer-2/2026-06-18/
LOCATION:Poplar Ford Park\, 6714 Bull Run Post Office Road\, Centerville\, VA\, 20120\, United States
END:VEVENT
BEGIN:VEVENT
DTSTART;TZID=America/New_York:20260716T193000
DTEND;TZID=America/New_York:20260716T210000
DTSTAMP:20260423T145605
CREATED:20260222T011002Z
LAST-MODIFIED:20260222T011339Z
UID:10000914-1784230200-1784235600@www.1nvrc.com
SUMMARY:Night Fly Monthly meeting (Summer)
DESCRIPTION:Night fly and monthly meeting at Poplar Ford park\nBe safe! \nClub Meetings
URL:https://www.1nvrc.com/event/night-fly-monthly-meeting-summer-2/2026-07-16/
LOCATION:Poplar Ford Park\, 6714 Bull Run Post Office Road\, Centerville\, VA\, 20120\, United States
END:VEVENT
BEGIN:VEVENT
DTSTART;TZID=America/New_York:20260820T193000
DTEND;TZID=America/New_York:20260820T210000
DTSTAMP:20260423T145605
CREATED:20260222T011002Z
LAST-MODIFIED:20260222T011339Z
UID:10000915-1787254200-1787259600@www.1nvrc.com
SUMMARY:Night Fly Monthly meeting (Summer)
DESCRIPTION:Night fly and monthly meeting at Poplar Ford park\nBe safe! \nClub Meetings
URL:https://www.1nvrc.com/event/night-fly-monthly-meeting-summer-2/2026-08-20/
LOCATION:Poplar Ford Park\, 6714 Bull Run Post Office Road\, Centerville\, VA\, 20120\, United States
END:VEVENT
END:VCALENDAR