BEGIN:VCALENDAR
VERSION:2.0
PRODID:-//Northern Virginia Radio Control - NVRC - ECPv6.15.20//NONSGML v1.0//EN
CALSCALE:GREGORIAN
METHOD:PUBLISH
X-ORIGINAL-URL:https://www.1nvrc.com
X-WR-CALDESC:Events for Northern Virginia Radio Control - NVRC
REFRESH-INTERVAL;VALUE=DURATION:PT1H
X-Robots-Tag:noindex
X-PUBLISHED-TTL:PT1H
BEGIN:VTIMEZONE
TZID:America/New_York
BEGIN:DAYLIGHT
TZOFFSETFROM:-0500
TZOFFSETTO:-0400
TZNAME:EDT
DTSTART:20170312T070000
END:DAYLIGHT
BEGIN:STANDARD
TZOFFSETFROM:-0400
TZOFFSETTO:-0500
TZNAME:EST
DTSTART:20171105T060000
END:STANDARD
BEGIN:DAYLIGHT
TZOFFSETFROM:-0500
TZOFFSETTO:-0400
TZNAME:EDT
DTSTART:20180311T070000
END:DAYLIGHT
BEGIN:STANDARD
TZOFFSETFROM:-0400
TZOFFSETTO:-0500
TZNAME:EST
DTSTART:20181104T060000
END:STANDARD
BEGIN:DAYLIGHT
TZOFFSETFROM:-0500
TZOFFSETTO:-0400
TZNAME:EDT
DTSTART:20190310T070000
END:DAYLIGHT
BEGIN:STANDARD
TZOFFSETFROM:-0400
TZOFFSETTO:-0500
TZNAME:EST
DTSTART:20191103T060000
END:STANDARD
END:VTIMEZONE
BEGIN:VEVENT
DTSTART;TZID=America/New_York:20181111T060000
DTEND;TZID=America/New_York:20181111T120000
DTSTAMP:20260423T183014
CREATED:20180910T062845Z
LAST-MODIFIED:20210413T095947Z
UID:10000279-1541916000-1541937600@www.1nvrc.com
SUMMARY:NVRC Multi-Rotor Racing - Campbel's Chase
DESCRIPTION:Welcome to NVRC’s 2018-2019 Loudoun Series!\nIn honor of John Campbell\, the 4th Earl of Loudoun\, we’re kicking off the 2018-19 season at Mickie Gordon Memorial Park. \n\nThis race is for 25mw vTx only. \nThe 2018-19 Loudoun Series will be open class (3s and up) flying through gates and pylons.  Scores will be tallied by the number of completed laps in 2 minutes through 4 rounds.  Prizes will be awarded to the 1st\, 2nd\, and 3rd place finishers at the end of the day\, but the real prize will be the Series Champion.  This award will be handed out at the end of the season in March.  There will be seven races scheduled in the season\, but only the top six will be scored. \nRegistration closes on Friday evening at 8PM.  After this point\, all pilots will be checked in and vTx frequencies and racing heats will be assigned based on NVRC’s ranking system (looks at your past 10 races to set heats). \nIMPORTANT – you must show your AMA card and FAA Registration.  If we cannot verify your AMA and FAA\, you will not be allowed to fly. \n$10 landing fee for non-NVRC club members\, $5 if you show your NVRC member card.  Landing fee includes snacks and drinks during the races. \n**Novice and intermediate level pilots will be grouped as best as possible into heats with their peers. \n***A note about inclement weather: If for any reason we cannot fly (snow\, rain\, wind)\, we’ll send out notification by Saturday afternoon.  The race will not be rescheduled. \n\n\n\nRace course setup begins at 10:30AM. \n10:30 AM – Pilot Registration \n11:00 – Pilot briefing and safety breifing \n11:15 – Warm ups by heat \n12:00 – 15:00 – Racing! \n15:00 – Course tear down \nMeet by the pavilion day of race: (link to fancy map – https://w3w.co/dislodged.segregation.trudges ) \nCheck out the NVRC MultiGP Chapter page for the latest details
URL:https://www.1nvrc.com/event/nvrc-multi-rotor-racing-campbels-chase-3/
LOCATION:Mickie Gordon Memorial Park\, 20177\, 23229 Carters Farm Ln\, Middleburg\, VA\, 20117\, United States
CATEGORIES:Flying Events,Multi-rotor Racing
ATTACH;FMTTYPE=image/jpeg:https://www.1nvrc.com/wp-content/uploads/2016/09/Multi_NVRC_Icon.jpg
END:VEVENT
BEGIN:VEVENT
DTSTART;TZID=America/New_York:20181014T070000
DTEND;TZID=America/New_York:20181014T130000
DTSTAMP:20260423T183014
CREATED:20180910T062311Z
LAST-MODIFIED:20210413T172134Z
UID:10000278-1539500400-1539522000@www.1nvrc.com
SUMMARY:NVRC Multi-Rotor Racing - Campbel's Chase
DESCRIPTION:Welcome to NVRC’s 2018-2019 Loudoun Series!\nIn honor of John Campbell\, the 4th Earl of Loudoun\, we’re kicking off the 2018-19 season at Mickie Gordon Memorial Park. \n\nThis race is for 25mw vTx only. \nThe 2018-19 Loudoun Series will be open class (3s and up) flying through gates and pylons.  Scores will be tallied by the number of completed laps in 2 minutes through 4 rounds.  Prizes will be awarded to the 1st\, 2nd\, and 3rd place finishers at the end of the day\, but the real prize will be the Series Champion.  This award will be handed out at the end of the season in March.  There will be seven races scheduled in the season\, but only the top six will be scored. \nRegistration closes on Friday evening at 8PM.  After this point\, all pilots will be checked in and vTx frequencies and racing heats will be assigned based on NVRC’s ranking system (looks at your past 10 races to set heats). \nIMPORTANT – you must show your AMA card and FAA Registration.  If we cannot verify your AMA and FAA\, you will not be allowed to fly. \n$10 landing fee for non-NVRC club members\, $5 if you show your NVRC member card.  Landing fee includes snacks and drinks during the races. \n**Novice and intermediate level pilots will be grouped as best as possible into heats with their peers. \n***A note about inclement weather: If for any reason we cannot fly (snow\, rain\, wind)\, we’ll send out notification by Saturday afternoon.  The race will not be rescheduled. \n\n\n\nRace course setup begins at 10:30AM. \n10:30 AM – Pilot Registration \n11:00 – Pilot briefing and safety breifing \n11:15 – Warm ups by heat \n12:00 – 15:00 – Racing! \n15:00 – Course tear down \nMeet by the pavilion day of race: (link to fancy map – https://w3w.co/dislodged.segregation.trudges ) \nCheck out the NVRC MultiGP Chapter page for the latest details
URL:https://www.1nvrc.com/event/nvrc-multi-rotor-racing-campbels-chase-2/
LOCATION:Mickie Gordon Memorial Park\, 20177\, 23229 Carters Farm Ln\, Middleburg\, VA\, 20117\, United States
CATEGORIES:Flying Events,Multi-rotor Racing
ATTACH;FMTTYPE=image/jpeg:https://www.1nvrc.com/wp-content/uploads/2016/09/Multi_NVRC_Icon.jpg
END:VEVENT
BEGIN:VEVENT
DTSTART;TZID=America/New_York:20180909T070000
DTEND;TZID=America/New_York:20180909T130000
DTSTAMP:20260423T183014
CREATED:20180910T061703Z
LAST-MODIFIED:20210417T160026Z
UID:10000276-1536476400-1536498000@www.1nvrc.com
SUMMARY:NVRC Multi-Rotor Racing - Campbel's Chase
DESCRIPTION:Welcome to the first race of NVRC’s Loudoun Series!\nIn honor of John Campbell\, the 4th Earl of Loudoun\, we’re kicking of the 2018-19 season at Mickie Gordon Memorial Park. \n\nThis race is for 25mw vTx only. \nThe first round of the 2018-19 Loudoun Series will be open class (3s and up) flying through gates and pylons.  Scores will be tallied by the number of completed laps in 2 minutes through 4 rounds.  Prizes will be awarded to the 1st\, 2nd\, and 3rd place finishers at the end of the day\, but the real prize will be the Series Champion.  This award will be handed out at the end of the season in March.  There will be seven races scheduled in the season\, but only the top six will be scored. \nRegistration closes on Friday evening (9/7/18) at 8PM.  After this point\, all pilots will be checked in and vTx frequencies and racing heats will be assigned based on NVRC’s ranking system (looks at your past 10 races to set heats). \nIMPORTANT – you must show your AMA card and FAA Registration.  If we cannot verify your AMA and FAA\, you will not be allowed to fly. \n$10 landing fee for non-NVRC club members\, $5 if you show your NVRC member card.  Landing fee includes snacks and drinks during the races. \n**Novice and intermediate level pilots will be grouped as best as possible into heats with their peers. \n***A note about inclement weather: If for any reason we cannot fly (snow\, rain\, wind)\, we’ll send out notification by Saturday afternoon.  The race will not be rescheduled. \n\n\n\nRace course setup begins at 10:30AM. \n10:30 AM – Pilot Registration \n11:00 – Pilot briefing and safety breifing \n11:15 – Warm ups by heat \n12:00 – 15:00 – Racing! \n15:00 – Course tear down \nMeet by the pavilion day of race: (link to fancy map – https://w3w.co/dislodged.segregation.trudges ) \nCheck out the NVRC MultiGP Chapter page for the latest details
URL:https://www.1nvrc.com/event/nvrc-multi-rotor-racing-campbels-chase/
LOCATION:Mickie Gordon Memorial Park\, 20177\, 23229 Carters Farm Ln\, Middleburg\, VA\, 20117\, United States
CATEGORIES:Flying Events,Multi-rotor Racing
ATTACH;FMTTYPE=image/png:https://www.1nvrc.com/wp-content/uploads/2017/12/NVRC-Logo-2.png
END:VEVENT
END:VCALENDAR