BEGIN:VCALENDAR
VERSION:2.0
PRODID:-//Northern Virginia Radio Control - NVRC - ECPv6.15.20//NONSGML v1.0//EN
CALSCALE:GREGORIAN
METHOD:PUBLISH
X-WR-CALNAME:Northern Virginia Radio Control - NVRC
X-ORIGINAL-URL:https://www.1nvrc.com
X-WR-CALDESC:Events for Northern Virginia Radio Control - NVRC
REFRESH-INTERVAL;VALUE=DURATION:PT1H
X-Robots-Tag:noindex
X-PUBLISHED-TTL:PT1H
BEGIN:VTIMEZONE
TZID:America/New_York
BEGIN:DAYLIGHT
TZOFFSETFROM:-0500
TZOFFSETTO:-0400
TZNAME:EDT
DTSTART:20240310T070000
END:DAYLIGHT
BEGIN:STANDARD
TZOFFSETFROM:-0400
TZOFFSETTO:-0500
TZNAME:EST
DTSTART:20241103T060000
END:STANDARD
BEGIN:DAYLIGHT
TZOFFSETFROM:-0500
TZOFFSETTO:-0400
TZNAME:EDT
DTSTART:20250309T070000
END:DAYLIGHT
BEGIN:STANDARD
TZOFFSETFROM:-0400
TZOFFSETTO:-0500
TZNAME:EST
DTSTART:20251102T060000
END:STANDARD
BEGIN:DAYLIGHT
TZOFFSETFROM:-0500
TZOFFSETTO:-0400
TZNAME:EDT
DTSTART:20260308T070000
END:DAYLIGHT
BEGIN:STANDARD
TZOFFSETFROM:-0400
TZOFFSETTO:-0500
TZNAME:EST
DTSTART:20261101T060000
END:STANDARD
END:VTIMEZONE
BEGIN:VEVENT
DTSTART;TZID=America/New_York:20250208T080000
DTEND;TZID=America/New_York:20250208T140000
DTSTAMP:20260423T200333
CREATED:20250202T150323Z
LAST-MODIFIED:20250208T015348Z
UID:10000773-1739001600-1739023200@www.1nvrc.com
SUMMARY:Cancelled due to bad weather --- West Potomac High School’s Fun Fly
DESCRIPTION:This is for RC and Free Flight models\, as in past years. \n8 am to 2 pm\nWest Potomac High School — Main Gym\n6500 Quander Road\nAlexandria\, Virginia 22307 \nPlease spread the word\, proceeds from this event fund our competitive engineering team. \nWe like to have models of any kind to display for the community\, to show the scope of the hobby. If we get enough display models\nthere will be a Static Display Prize. \nPeople have asked about selling items. There is a 15% fee that goes to the school.\nSo\, if you have some items you want to sell\, we can set up a table for those items. \n$5 to fly for the day\, Spectators free\, but donations appreciated. Concessions will be available. \nKids glider table will be set up. We also might have some gliders for sale. \nHope to see you there! \nContact me with any questions! \nJoe\nMr. Franco \nJoseph Franco\nWest Potomac High School\nTechnology and Engineering Education\n703-718-2574\nSupplying the T and E in STEM
URL:https://www.1nvrc.com/event/west-potomac-high-schools-fun-fly/
LOCATION:West Potomac High School — Main Gym\, 6500 Quander Road\, Alexandria\, 22307\, United States
END:VEVENT
END:VCALENDAR